BEGIN:VCALENDAR
VERSION:2.0
PRODID:-//EZFacility.com, Inc.//EZL 2.5.5.28621
BEGIN:VEVENT
UID:7581734@ezleagues.ezfacility.com
DTSTAMP:20260423T161410Z
CREATED:20260423T161410Z
DTSTART:20141101T153600Z
DTEND:20141101T163100Z
LOCATION:Field   ID 1
CONTACT:
SUMMARY:Scorpions VS. Ninjas
DESCRIPTION:League Name: Fall Indoor 2014 Boy's U-10\nGame Type: Regular\nG
 ame Status: Complete\nHome Team: Scorpions\nAway Team: Ninjas\nHome Score:
  4\nAway Score: 3
END:VEVENT
BEGIN:VEVENT
UID:7615517@ezleagues.ezfacility.com
DTSTAMP:20260423T161410Z
CREATED:20260423T161410Z
DTSTART:20141108T154400Z
DTEND:20141108T163900Z
LOCATION:Field   ID 1
CONTACT:
SUMMARY:Ninjas VS. Reds
DESCRIPTION:League Name: Fall Indoor 2014 Boy's U-10\nGame Type: Regular\nG
 ame Status: Rescheduled\nHome Team: Ninjas\nAway Team: Reds\n
END:VEVENT
BEGIN:VEVENT
UID:7615560@ezleagues.ezfacility.com
DTSTAMP:20260423T161410Z
CREATED:20260423T161410Z
DTSTART:20141115T182000Z
DTEND:20141115T191500Z
LOCATION:Field   ID 1
CONTACT:
SUMMARY:Ninjas VS. Black Bombers
DESCRIPTION:League Name: Fall Indoor 2014 Boy's U-10\nGame Type: Regular\nG
 ame Status: Complete\nHome Team: Ninjas\nAway Team: Black Bombers\nHome Sc
 ore: 7\nAway Score: 5
END:VEVENT
BEGIN:VEVENT
UID:7615562@ezleagues.ezfacility.com
DTSTAMP:20260423T161410Z
CREATED:20260423T161410Z
DTSTART:20141122T163200Z
DTEND:20141122T172700Z
LOCATION:Field   ID 1
CONTACT:
SUMMARY:Ninjas VS. Club Ohio Green 1
DESCRIPTION:League Name: Fall Indoor 2014 Boy's U-10\nGame Type: Regular\nG
 ame Status: Complete\nHome Team: Ninjas\nAway Team: Club Ohio Green 1\nHom
 e Score: 1\nAway Score: 10
END:VEVENT
BEGIN:VEVENT
UID:7615569@ezleagues.ezfacility.com
DTSTAMP:20260423T161410Z
CREATED:20260423T161410Z
DTSTART:20141206T182000Z
DTEND:20141206T191500Z
LOCATION:Field   ID 1
CONTACT:
SUMMARY:OP Green 2 VS. Ninjas
DESCRIPTION:League Name: Fall Indoor 2014 Boy's U-10\nGame Type: Regular\nG
 ame Status: Complete\nHome Team: OP Green 2\nAway Team: Ninjas\nHome Score
 : 11\nAway Score: 0
END:VEVENT
BEGIN:VEVENT
UID:7615574@ezleagues.ezfacility.com
DTSTAMP:20260423T161410Z
CREATED:20260423T161410Z
DTSTART:20141213T182000Z
DTEND:20141213T191500Z
LOCATION:Field   ID 1
CONTACT:
SUMMARY:Ninjas VS. Black Dragons
DESCRIPTION:League Name: Fall Indoor 2014 Boy's U-10\nGame Type: Regular\nG
 ame Status: Complete\nHome Team: Ninjas\nAway Team: Black Dragons\nHome Sc
 ore: 10\nAway Score: 4
END:VEVENT
BEGIN:VEVENT
UID:7615576@ezleagues.ezfacility.com
DTSTAMP:20260423T161410Z
CREATED:20260423T161410Z
DTSTART:20141220T154400Z
DTEND:20141220T163900Z
LOCATION:Field   ID 1
CONTACT:
SUMMARY:Ninjas VS. Grove City Zombies
DESCRIPTION:League Name: Fall Indoor 2014 Boy's U-10\nGame Type: Regular\nG
 ame Status: Complete\nHome Team: Ninjas\nAway Team: Grove City Zombies\nHo
 me Score: 10\nAway Score: 5
END:VEVENT
BEGIN:VEVENT
UID:7615582@ezleagues.ezfacility.com
DTSTAMP:20260423T161410Z
CREATED:20260423T161410Z
DTSTART:20141227T172800Z
DTEND:20141227T182300Z
LOCATION:Field   ID 1
CONTACT:
SUMMARY:Ninjas VS. SF Academy 10 boys
DESCRIPTION:League Name: Fall Indoor 2014 Boy's U-10\nGame Type: Regular\nG
 ame Status: Complete\nHome Team: Ninjas\nAway Team: SF Academy 10 boys\nHo
 me Score: 12\nAway Score: 8
END:VEVENT
BEGIN:VEVENT
UID:7615592@ezleagues.ezfacility.com
DTSTAMP:20260423T161410Z
CREATED:20260423T161410Z
DTSTART:20150103T172800Z
DTEND:20150103T182300Z
LOCATION:Field   ID 1
CONTACT:
SUMMARY:Black Dragons VS. Ninjas
DESCRIPTION:League Name: Fall Indoor 2014 Boy's U-10\nGame Type: Regular\nG
 ame Status: Complete\nHome Team: Black Dragons\nAway Team: Ninjas\nHome Sc
 ore: 1\nAway Score: 8
END:VEVENT
BEGIN:VEVENT
UID:7630706@ezleagues.ezfacility.com
DTSTAMP:20260423T161410Z
CREATED:20260423T161410Z
DTSTART:20150110T145200Z
DTEND:20150110T154700Z
LOCATION:Field   ID 1
CONTACT:
SUMMARY:Ninjas VS. Reds
DESCRIPTION:League Name: Fall Indoor 2014 Boy's U-10\nGame Type: Regular\nG
 ame Status: Complete\nHome Team: Ninjas\nAway Team: Reds\nHome Score: 4\nA
 way Score: 3
END:VEVENT
END:VCALENDAR
