BEGIN:VCALENDAR
VERSION:2.0
PRODID:-//EZFacility.com, Inc.//EZL 2.5.5.28621
BEGIN:VEVENT
UID:7582192@ezleagues.ezfacility.com
DTSTAMP:20260424T170214Z
CREATED:20260424T170214Z
DTSTART:20141102T155400Z
DTEND:20141102T164600Z
LOCATION:Field   ID 1
CONTACT:
SUMMARY:Club Ohio Green 2  Machine VS. Santos FC
DESCRIPTION:League Name: Fall Indoor 2014 Boy's U-12\nGame Type: Regular\nG
 ame Status: Complete\nHome Team: Club Ohio Green 2  Machine\nAway Team: Sa
 ntos FC\nHome Score: 7\nAway Score: 5
END:VEVENT
BEGIN:VEVENT
UID:7617749@ezleagues.ezfacility.com
DTSTAMP:20260424T170214Z
CREATED:20260424T170214Z
DTSTART:20141116T153300Z
DTEND:20141116T162500Z
LOCATION:Field   ID 1
CONTACT:
SUMMARY:Club Ohio Green 2  Machine VS. Misfits
DESCRIPTION:League Name: Fall Indoor 2014 Boy's U-12\nGame Type: Regular\nG
 ame Status: Complete\nHome Team: Club Ohio Green 2  Machine\nAway Team: Mi
 sfits\nHome Score: 4\nAway Score: 9
END:VEVENT
BEGIN:VEVENT
UID:7617493@ezleagues.ezfacility.com
DTSTAMP:20260424T170214Z
CREATED:20260424T170214Z
DTSTART:20141123T162400Z
DTEND:20141123T171600Z
LOCATION:Field   ID 1
CONTACT:
SUMMARY:FC Underdogs VS. Club Ohio Green 2  Machine
DESCRIPTION:League Name: Fall Indoor 2014 Boy's U-12\nGame Type: Regular\nG
 ame Status: Complete\nHome Team: FC Underdogs\nAway Team: Club Ohio Green 
 2  Machine\nHome Score: 3\nAway Score: 6
END:VEVENT
BEGIN:VEVENT
UID:7617763@ezleagues.ezfacility.com
DTSTAMP:20260424T170214Z
CREATED:20260424T170214Z
DTSTART:20141203T222500Z
DTEND:20141203T232000Z
LOCATION:Field   ID 3
CONTACT:
SUMMARY:Club Ohio Green 2  Machine VS. Synergy
DESCRIPTION:League Name: Fall Indoor 2014 Boy's U-12\nGame Type: Regular\nG
 ame Status: Complete\nHome Team: Club Ohio Green 2  Machine\nAway Team: Sy
 nergy\nHome Score: 0\nAway Score: 10
END:VEVENT
BEGIN:VEVENT
UID:7617765@ezleagues.ezfacility.com
DTSTAMP:20260424T170214Z
CREATED:20260424T170214Z
DTSTART:20141207T150300Z
DTEND:20141207T155500Z
LOCATION:Field   ID 1
CONTACT:
SUMMARY:Club Ohio Green 2  Machine VS. Velocity
DESCRIPTION:League Name: Fall Indoor 2014 Boy's U-12\nGame Type: Regular\nG
 ame Status: Complete\nHome Team: Club Ohio Green 2  Machine\nAway Team: Ve
 locity\nHome Score: 6\nAway Score: 4
END:VEVENT
BEGIN:VEVENT
UID:7617819@ezleagues.ezfacility.com
DTSTAMP:20260424T170214Z
CREATED:20260424T170214Z
DTSTART:20141217T222500Z
DTEND:20141217T232000Z
LOCATION:Field   ID 3
CONTACT:
SUMMARY:DSX Force VS. Club Ohio Green 2  Machine
DESCRIPTION:League Name: Fall Indoor 2014 Boy's U-12\nGame Type: Regular\nG
 ame Status: Complete\nHome Team: DSX Force\nAway Team: Club Ohio Green 2  
 Machine\nHome Score: 0\nAway Score: 17
END:VEVENT
BEGIN:VEVENT
UID:7617824@ezleagues.ezfacility.com
DTSTAMP:20260424T170214Z
CREATED:20260424T170214Z
DTSTART:20141221T171500Z
DTEND:20141221T180700Z
LOCATION:Field   ID 1
CONTACT:
SUMMARY:Club Ohio Green 2  Machine VS. Santos FC
DESCRIPTION:League Name: Fall Indoor 2014 Boy's U-12\nGame Type: Regular\nG
 ame Status: Complete\nHome Team: Club Ohio Green 2  Machine\nAway Team: Sa
 ntos FC\nHome Score: 3\nAway Score: 3
END:VEVENT
BEGIN:VEVENT
UID:7617827@ezleagues.ezfacility.com
DTSTAMP:20260424T170214Z
CREATED:20260424T170214Z
DTSTART:20141228T155400Z
DTEND:20141228T164600Z
LOCATION:Field   ID 1
CONTACT:
SUMMARY:Hilliard Cats VS. Club Ohio Green 2  Machine
DESCRIPTION:League Name: Fall Indoor 2014 Boy's U-12\nGame Type: Regular\nG
 ame Status: Complete\nHome Team: Hilliard Cats\nAway Team: Club Ohio Green
  2  Machine\nHome Score: 5\nAway Score: 3
END:VEVENT
BEGIN:VEVENT
UID:7617882@ezleagues.ezfacility.com
DTSTAMP:20260424T170214Z
CREATED:20260424T170214Z
DTSTART:20150104T164500Z
DTEND:20150104T173700Z
LOCATION:Field   ID 1
CONTACT:
SUMMARY:Inferno VS. Club Ohio Green 2  Machine
DESCRIPTION:League Name: Fall Indoor 2014 Boy's U-12\nGame Type: Regular\nG
 ame Status: Complete\nHome Team: Inferno\nAway Team: Club Ohio Green 2  Ma
 chine\nHome Score: 0\nAway Score: 9
END:VEVENT
END:VCALENDAR
