BEGIN:VCALENDAR
VERSION:2.0
PRODID:-//EZFacility.com, Inc.//EZL 2.5.5.28621
BEGIN:VEVENT
UID:7632053@ezleagues.ezfacility.com
DTSTAMP:20260419T224331Z
CREATED:20260419T224331Z
DTSTART:20141109T210000Z
DTEND:20141109T220000Z
LOCATION:Black
CONTACT:
SUMMARY:EFC VS. East Hartford
DESCRIPTION:League Name: Boys U13 Soccer (Fri/Sat) Session 1\nGame Type: Re
 gular\nGame Status: Complete\nHome Team: EFC\nAway Team: East Hartford\nHo
 me Score: 8\nAway Score: 2
END:VEVENT
BEGIN:VEVENT
UID:7656393@ezleagues.ezfacility.com
DTSTAMP:20260419T224331Z
CREATED:20260419T224331Z
DTSTART:20141116T000000Z
DTEND:20141116T010000Z
LOCATION:Maroon
CONTACT:
SUMMARY:FC United VS. East Hartford
DESCRIPTION:League Name: Boys U13 Soccer (Fri/Sat) Session 1\nGame Type: Re
 gular\nGame Status: Complete\nHome Team: FC United\nAway Team: East Hartfo
 rd\nHome Score: 4\nAway Score: 4
END:VEVENT
BEGIN:VEVENT
UID:7656398@ezleagues.ezfacility.com
DTSTAMP:20260419T224331Z
CREATED:20260419T224331Z
DTSTART:20141122T220000Z
DTEND:20141122T230000Z
LOCATION:Black
CONTACT:
SUMMARY:East Hartford VS. Ellington Knights
DESCRIPTION:League Name: Boys U13 Soccer (Fri/Sat) Session 1\nGame Type: Re
 gular\nGame Status: Complete\nHome Team: East Hartford\nAway Team: Ellingt
 on Knights\nHome Score: 2\nAway Score: 6
END:VEVENT
BEGIN:VEVENT
UID:7656402@ezleagues.ezfacility.com
DTSTAMP:20260419T224331Z
CREATED:20260419T224331Z
DTSTART:20141129T220000Z
DTEND:20141129T230000Z
LOCATION:Maroon
CONTACT:
SUMMARY:EFC VS. East Hartford
DESCRIPTION:League Name: Boys U13 Soccer (Fri/Sat) Session 1\nGame Type: Re
 gular\nGame Status: Complete\nHome Team: EFC\nAway Team: East Hartford\nHo
 me Score: 5\nAway Score: 4
END:VEVENT
BEGIN:VEVENT
UID:7656405@ezleagues.ezfacility.com
DTSTAMP:20260419T224331Z
CREATED:20260419T224331Z
DTSTART:20141207T010000Z
DTEND:20141207T020000Z
LOCATION:Maroon
CONTACT:
SUMMARY:Vernon VS. East Hartford
DESCRIPTION:League Name: Boys U13 Soccer (Fri/Sat) Session 1\nGame Type: Re
 gular\nGame Status: Complete\nHome Team: Vernon\nAway Team: East Hartford\
 nHome Score: 5\nAway Score: 2
END:VEVENT
BEGIN:VEVENT
UID:7656416@ezleagues.ezfacility.com
DTSTAMP:20260419T224331Z
CREATED:20260419T224331Z
DTSTART:20141213T010000Z
DTEND:20141213T020000Z
LOCATION:Navy
CONTACT:
SUMMARY:East Hartford VS. Star Hill
DESCRIPTION:League Name: Boys U13 Soccer (Fri/Sat) Session 1\nGame Type: Re
 gular\nGame Status: Complete\nHome Team: East Hartford\nAway Team: Star Hi
 ll\nHome Score: 4\nAway Score: 3
END:VEVENT
BEGIN:VEVENT
UID:7656408@ezleagues.ezfacility.com
DTSTAMP:20260419T224331Z
CREATED:20260419T224331Z
DTSTART:20141214T000000Z
DTEND:20141214T010000Z
LOCATION:Maroon
CONTACT:
SUMMARY:Tolland Thunder VS. East Hartford
DESCRIPTION:League Name: Boys U13 Soccer (Fri/Sat) Session 1\nGame Type: Re
 gular\nGame Status: Complete\nHome Team: Tolland Thunder\nAway Team: East 
 Hartford\nHome Score: 5\nAway Score: 4
END:VEVENT
BEGIN:VEVENT
UID:7656411@ezleagues.ezfacility.com
DTSTAMP:20260419T224331Z
CREATED:20260419T224331Z
DTSTART:20141220T220000Z
DTEND:20141220T230000Z
LOCATION:Maroon
CONTACT:
SUMMARY:East Hartford VS. Celtic Soccer Academy
DESCRIPTION:League Name: Boys U13 Soccer (Fri/Sat) Session 1\nGame Type: Re
 gular\nGame Status: Complete\nHome Team: East Hartford\nAway Team: Celtic 
 Soccer Academy\nHome Score: 2\nAway Score: 10
END:VEVENT
END:VCALENDAR
