BEGIN:VCALENDAR
VERSION:2.0
PRODID:-//EZFacility.com, Inc.//EZL 2.5.5.28621
BEGIN:VEVENT
UID:7656915@ezleagues.ezfacility.com
DTSTAMP:20260425T205542Z
CREATED:20260425T205542Z
DTSTART:20141115T020000Z
DTEND:20141115T030000Z
LOCATION:Black
CONTACT:
SUMMARY:PS United VS. The Aftershock
DESCRIPTION:League Name: Boys High School Soccer (Fri/Sat) Session 1\nGame 
 Type: Regular\nGame Status: Complete\nHome Team: PS United\nAway Team: The
  Aftershock\nHome Score: 2\nAway Score: 5
END:VEVENT
BEGIN:VEVENT
UID:7656900@ezleagues.ezfacility.com
DTSTAMP:20260425T205542Z
CREATED:20260425T205542Z
DTSTART:20141123T000000Z
DTEND:20141123T010000Z
LOCATION:Black
CONTACT:
SUMMARY:The Aftershock VS. PS United
DESCRIPTION:League Name: Boys High School Soccer (Fri/Sat) Session 1\nGame 
 Type: Regular\nGame Status: Complete\nHome Team: The Aftershock\nAway Team
 : PS United\nHome Score: 7\nAway Score: 3
END:VEVENT
BEGIN:VEVENT
UID:7656902@ezleagues.ezfacility.com
DTSTAMP:20260425T205542Z
CREATED:20260425T205542Z
DTSTART:20141129T230000Z
DTEND:20141130T000000Z
LOCATION:Black
CONTACT:
SUMMARY:Wethersfield VS. The Aftershock
DESCRIPTION:League Name: Boys High School Soccer (Fri/Sat) Session 1\nGame 
 Type: Regular\nGame Status: Complete\nHome Team: Wethersfield\nAway Team: 
 The Aftershock\nHome Score: 3\nAway Score: 5
END:VEVENT
BEGIN:VEVENT
UID:7656917@ezleagues.ezfacility.com
DTSTAMP:20260425T205542Z
CREATED:20260425T205542Z
DTSTART:20141206T030000Z
DTEND:20141206T040000Z
LOCATION:Maroon
CONTACT:
SUMMARY:The Aftershock VS. Wethersfield
DESCRIPTION:League Name: Boys High School Soccer (Fri/Sat) Session 1\nGame 
 Type: Regular\nGame Status: Complete\nHome Team: The Aftershock\nAway Team
 : Wethersfield\nHome Score: 6\nAway Score: 6
END:VEVENT
BEGIN:VEVENT
UID:7656904@ezleagues.ezfacility.com
DTSTAMP:20260425T205542Z
CREATED:20260425T205542Z
DTSTART:20141207T000000Z
DTEND:20141207T010000Z
LOCATION:Black
CONTACT:
SUMMARY:Ellington VS. The Aftershock
DESCRIPTION:League Name: Boys High School Soccer (Fri/Sat) Session 1\nGame 
 Type: Regular\nGame Status: Complete\nHome Team: Ellington\nAway Team: The
  Aftershock\nHome Score: 3\nAway Score: 5
END:VEVENT
BEGIN:VEVENT
UID:7656908@ezleagues.ezfacility.com
DTSTAMP:20260425T205542Z
CREATED:20260425T205542Z
DTSTART:20141214T000000Z
DTEND:20141214T010000Z
LOCATION:Black
CONTACT:
SUMMARY:The Aftershock VS. SWFC
DESCRIPTION:League Name: Boys High School Soccer (Fri/Sat) Session 1\nGame 
 Type: Regular\nGame Status: Complete\nHome Team: The Aftershock\nAway Team
 : SWFC\nHome Score: 4\nAway Score: 3
END:VEVENT
BEGIN:VEVENT
UID:7656986@ezleagues.ezfacility.com
DTSTAMP:20260425T205542Z
CREATED:20260425T205542Z
DTSTART:20141214T220000Z
DTEND:20141214T230000Z
LOCATION:Black
CONTACT:
SUMMARY:Ellington VS. The Aftershock
DESCRIPTION:League Name: Boys High School Soccer (Fri/Sat) Session 1\nGame 
 Type: Regular\nGame Status: Complete\nHome Team: Ellington\nAway Team: The
  Aftershock\nHome Score: 4\nAway Score: 7
END:VEVENT
BEGIN:VEVENT
UID:7656982@ezleagues.ezfacility.com
DTSTAMP:20260425T205542Z
CREATED:20260425T205542Z
DTSTART:20141220T030000Z
DTEND:20141220T040000Z
LOCATION:Black
CONTACT:
SUMMARY:SWFC VS. The Aftershock
DESCRIPTION:League Name: Boys High School Soccer (Fri/Sat) Session 1\nGame 
 Type: Regular\nGame Status: Complete\nHome Team: SWFC\nAway Team: The Afte
 rshock\nHome Score: 7\nAway Score: 4
END:VEVENT
END:VCALENDAR
