BEGIN:VCALENDAR
VERSION:2.0
PRODID:-//EZFacility.com, Inc.//EZL 2.5.5.28621
BEGIN:VEVENT
UID:7687206@ezleagues.ezfacility.com
DTSTAMP:20260420T104323Z
CREATED:20260420T104323Z
DTSTART:20141117T011500Z
DTEND:20141117T021500Z
LOCATION:Field 6
CONTACT:
SUMMARY:Desert Divots VS. GFY
DESCRIPTION:League Name: Season 6 Sunday Men's D1/D2 - Nov 16th, 2014\nGame
  Type: Regular\nGame Status: Complete\nHome Team: Desert Divots\nAway Team
 : GFY\nHome Score: 14\nAway Score: 4
END:VEVENT
BEGIN:VEVENT
UID:7687208@ezleagues.ezfacility.com
DTSTAMP:20260420T104323Z
CREATED:20260420T104323Z
DTSTART:20141117T031500Z
DTEND:20141117T041500Z
LOCATION:Field 6
CONTACT:
SUMMARY:GFY VS. Pretenders
DESCRIPTION:League Name: Season 6 Sunday Men's D1/D2 - Nov 16th, 2014\nGame
  Type: Regular\nGame Status: Complete\nHome Team: GFY\nAway Team: Pretende
 rs\nHome Score: 5\nAway Score: 15
END:VEVENT
BEGIN:VEVENT
UID:7706006@ezleagues.ezfacility.com
DTSTAMP:20260420T104323Z
CREATED:20260420T104323Z
DTSTART:20141124T011500Z
DTEND:20141124T021500Z
LOCATION:Field 2
CONTACT:
SUMMARY:GFY VS. Play 2 and Drink a Few
DESCRIPTION:League Name: Season 6 Sunday Men's D1/D2 - Nov 16th, 2014\nGame
  Type: Regular\nGame Status: Complete\nHome Team: GFY\nAway Team: Play 2 a
 nd Drink a Few\nHome Score: 11\nAway Score: 10
END:VEVENT
BEGIN:VEVENT
UID:7706007@ezleagues.ezfacility.com
DTSTAMP:20260420T104323Z
CREATED:20260420T104323Z
DTSTART:20141124T021500Z
DTEND:20141124T031500Z
LOCATION:Field 2
CONTACT:
SUMMARY:Play 2 and Drink a Few VS. GFY
DESCRIPTION:League Name: Season 6 Sunday Men's D1/D2 - Nov 16th, 2014\nGame
  Type: Regular\nGame Status: Complete\nHome Team: Play 2 and Drink a Few\n
 Away Team: GFY\nHome Score: 7\nAway Score: 2
END:VEVENT
BEGIN:VEVENT
UID:7706058@ezleagues.ezfacility.com
DTSTAMP:20260420T104323Z
CREATED:20260420T104323Z
DTSTART:20141201T011500Z
DTEND:20141201T021500Z
LOCATION:Field 4
CONTACT:
SUMMARY:GFY VS. Raging Alcoholics
DESCRIPTION:League Name: Season 6 Sunday Men's D1/D2 - Nov 16th, 2014\nGame
  Type: Regular\nGame Status: Complete\nHome Team: GFY\nAway Team: Raging A
 lcoholics\nHome Score: 9\nAway Score: 17
END:VEVENT
BEGIN:VEVENT
UID:7706060@ezleagues.ezfacility.com
DTSTAMP:20260420T104323Z
CREATED:20260420T104323Z
DTSTART:20141201T021500Z
DTEND:20141201T031500Z
LOCATION:Field 4
CONTACT:
SUMMARY:Fat Elgerts VS. GFY
DESCRIPTION:League Name: Season 6 Sunday Men's D1/D2 - Nov 16th, 2014\nGame
  Type: Regular\nGame Status: Complete\nHome Team: Fat Elgerts\nAway Team: 
 GFY\nHome Score: 15\nAway Score: 5
END:VEVENT
BEGIN:VEVENT
UID:7706075@ezleagues.ezfacility.com
DTSTAMP:20260420T104323Z
CREATED:20260420T104323Z
DTSTART:20141208T031500Z
DTEND:20141208T041500Z
LOCATION:Field 6
CONTACT:
SUMMARY:GFY VS. CFB
DESCRIPTION:League Name: Season 6 Sunday Men's D1/D2 - Nov 16th, 2014\nGame
  Type: Regular\nGame Status: Complete\nHome Team: GFY\nAway Team: CFB\nHom
 e Score: 15\nAway Score: 10
END:VEVENT
BEGIN:VEVENT
UID:7706077@ezleagues.ezfacility.com
DTSTAMP:20260420T104323Z
CREATED:20260420T104323Z
DTSTART:20141208T041500Z
DTEND:20141208T051500Z
LOCATION:Field 6
CONTACT:
SUMMARY:CFB VS. GFY
DESCRIPTION:League Name: Season 6 Sunday Men's D1/D2 - Nov 16th, 2014\nGame
  Type: Regular\nGame Status: Complete\nHome Team: CFB\nAway Team: GFY\nHom
 e Score: 14\nAway Score: 4
END:VEVENT
BEGIN:VEVENT
UID:7706088@ezleagues.ezfacility.com
DTSTAMP:20260420T104323Z
CREATED:20260420T104323Z
DTSTART:20141215T031500Z
DTEND:20141215T041500Z
LOCATION:Field 6
CONTACT:
SUMMARY:GFY VS. Balls Deep
DESCRIPTION:League Name: Season 6 Sunday Men's D1/D2 - Nov 16th, 2014\nGame
  Type: Regular\nGame Status: Complete\nHome Team: GFY\nAway Team: Balls De
 ep\nHome Score: 5\nAway Score: 13
END:VEVENT
BEGIN:VEVENT
UID:7706089@ezleagues.ezfacility.com
DTSTAMP:20260420T104323Z
CREATED:20260420T104323Z
DTSTART:20141215T041500Z
DTEND:20141215T051500Z
LOCATION:Field 6
CONTACT:
SUMMARY:Balls Deep VS. GFY
DESCRIPTION:League Name: Season 6 Sunday Men's D1/D2 - Nov 16th, 2014\nGame
  Type: Regular\nGame Status: Complete\nHome Team: Balls Deep\nAway Team: G
 FY\nHome Score: 17\nAway Score: 13
END:VEVENT
BEGIN:VEVENT
UID:7706104@ezleagues.ezfacility.com
DTSTAMP:20260420T104323Z
CREATED:20260420T104323Z
DTSTART:20141222T031500Z
DTEND:20141222T041500Z
LOCATION:Field 1
CONTACT:
SUMMARY:GFY VS. Win or Lose We Booze
DESCRIPTION:League Name: Season 6 Sunday Men's D1/D2 - Nov 16th, 2014\nGame
  Type: Regular\nGame Status: Complete\nHome Team: GFY\nAway Team: Win or L
 ose We Booze\nHome Score: 2\nAway Score: 13
END:VEVENT
BEGIN:VEVENT
UID:7706106@ezleagues.ezfacility.com
DTSTAMP:20260420T104323Z
CREATED:20260420T104323Z
DTSTART:20141222T041500Z
DTEND:20141222T051500Z
LOCATION:Field 1
CONTACT:
SUMMARY:Win or Lose We Booze VS. GFY
DESCRIPTION:League Name: Season 6 Sunday Men's D1/D2 - Nov 16th, 2014\nGame
  Type: Regular\nGame Status: Complete\nHome Team: Win or Lose We Booze\nAw
 ay Team: GFY\nHome Score: 12\nAway Score: 2
END:VEVENT
BEGIN:VEVENT
UID:7706162@ezleagues.ezfacility.com
DTSTAMP:20260420T104323Z
CREATED:20260420T104323Z
DTSTART:20150105T011500Z
DTEND:20150105T021500Z
LOCATION:Field 1
CONTACT:
SUMMARY:GFY VS. Sun Country
DESCRIPTION:League Name: Season 6 Sunday Men's D1/D2 - Nov 16th, 2014\nGame
  Type: Regular\nGame Status: Complete\nHome Team: GFY\nAway Team: Sun Coun
 try\nHome Score: 2\nAway Score: 12
END:VEVENT
BEGIN:VEVENT
UID:7706163@ezleagues.ezfacility.com
DTSTAMP:20260420T104323Z
CREATED:20260420T104323Z
DTSTART:20150105T021500Z
DTEND:20150105T031500Z
LOCATION:Field 1
CONTACT:
SUMMARY:Sun Country VS. GFY
DESCRIPTION:League Name: Season 6 Sunday Men's D1/D2 - Nov 16th, 2014\nGame
  Type: Regular\nGame Status: Complete\nHome Team: Sun Country\nAway Team: 
 GFY\nHome Score: 4\nAway Score: 4
END:VEVENT
BEGIN:VEVENT
UID:7877128@ezleagues.ezfacility.com
DTSTAMP:20260420T104323Z
CREATED:20260420T104323Z
DTSTART:20150112T011500Z
DTEND:20150112T021500Z
LOCATION:Field 4
CONTACT:
SUMMARY:Fat Elgerts VS. GFY
DESCRIPTION:League Name: Season 6 Sunday Men's D1/D2 - Nov 16th, 2014\nGame
  Type: Regular\nGame Status: Pending\nHome Team: Fat Elgerts\nAway Team: G
 FY\n
END:VEVENT
END:VCALENDAR
