BEGIN:VCALENDAR
VERSION:2.0
PRODID:-//EZFacility.com, Inc.//EZL 2.5.5.28621
BEGIN:VEVENT
UID:7739643@ezleagues.ezfacility.com
DTSTAMP:20260426T033630Z
CREATED:20260426T033630Z
DTSTART:20141129T204000Z
DTEND:20141129T213000Z
LOCATION:Hoops The Right Way Court 4
CONTACT:
SUMMARY:Herndon Allstars VS. Winchester United
DESCRIPTION:League Name: U-10/11 Boys Futsal\nGame Type: Regular\nGame Stat
 us: Complete\nHome Team: Herndon Allstars\nAway Team: Winchester United\nH
 ome Score: 11\nAway Score: 1
END:VEVENT
BEGIN:VEVENT
UID:7739647@ezleagues.ezfacility.com
DTSTAMP:20260426T033630Z
CREATED:20260426T033630Z
DTSTART:20141206T152000Z
DTEND:20141206T161000Z
LOCATION:Hoops The Right Way Court 6
CONTACT:
SUMMARY:Herndon Allstars VS. FCVA Gold
DESCRIPTION:League Name: U-10/11 Boys Futsal\nGame Type: Regular\nGame Stat
 us: Complete\nHome Team: Herndon Allstars\nAway Team: FCVA Gold\nHome Scor
 e: 10\nAway Score: 1
END:VEVENT
BEGIN:VEVENT
UID:7739660@ezleagues.ezfacility.com
DTSTAMP:20260426T033630Z
CREATED:20260426T033630Z
DTSTART:20141220T172000Z
DTEND:20141220T181000Z
LOCATION:Hoops The Right Way Court 4
CONTACT:
SUMMARY:FPYC Barca Juniors White VS. Herndon Allstars
DESCRIPTION:League Name: U-10/11 Boys Futsal\nGame Type: Regular\nGame Stat
 us: Complete\nHome Team: FPYC Barca Juniors White\nAway Team: Herndon Alls
 tars\nHome Score: 5\nAway Score: 7
END:VEVENT
BEGIN:VEVENT
UID:7739664@ezleagues.ezfacility.com
DTSTAMP:20260426T033630Z
CREATED:20260426T033630Z
DTSTART:20141227T224000Z
DTEND:20141227T233000Z
LOCATION:Hoops The Right Way Court 4
CONTACT:
SUMMARY:Herndon Allstars VS. Gators
DESCRIPTION:League Name: U-10/11 Boys Futsal\nGame Type: Regular\nGame Stat
 us: Complete\nHome Team: Herndon Allstars\nAway Team: Gators\nHome Score: 
 14\nAway Score: 4
END:VEVENT
BEGIN:VEVENT
UID:7739666@ezleagues.ezfacility.com
DTSTAMP:20260426T033630Z
CREATED:20260426T033630Z
DTSTART:20150103T181000Z
DTEND:20150103T190000Z
LOCATION:Hoops The Right Way Court 4
CONTACT:
SUMMARY:Herndon Allstars VS. FPYC Barca Juniors Gold
DESCRIPTION:League Name: U-10/11 Boys Futsal\nGame Type: Regular\nGame Stat
 us: Complete\nHome Team: Herndon Allstars\nAway Team: FPYC Barca Juniors G
 old\nHome Score: 5\nAway Score: 10
END:VEVENT
BEGIN:VEVENT
UID:7739672@ezleagues.ezfacility.com
DTSTAMP:20260426T033630Z
CREATED:20260426T033630Z
DTSTART:20150110T181000Z
DTEND:20150110T190000Z
LOCATION:Hoops The Right Way Court 4
CONTACT:
SUMMARY:Legends Black VS. Herndon Allstars
DESCRIPTION:League Name: U-10/11 Boys Futsal\nGame Type: Regular\nGame Stat
 us: Complete\nHome Team: Legends Black\nAway Team: Herndon Allstars\nHome 
 Score: 11\nAway Score: 7
END:VEVENT
BEGIN:VEVENT
UID:7739677@ezleagues.ezfacility.com
DTSTAMP:20260426T033630Z
CREATED:20260426T033630Z
DTSTART:20150118T135000Z
DTEND:20150118T144000Z
LOCATION:Hoops The Right Way Court 6
CONTACT:
SUMMARY:Herndon Allstars VS. FPYC Barca Juniors Gold
DESCRIPTION:League Name: U-10/11 Boys Futsal\nGame Type: Regular\nGame Stat
 us: Pending\nHome Team: Herndon Allstars\nAway Team: FPYC Barca Juniors Go
 ld\n
END:VEVENT
END:VCALENDAR
