BEGIN:VCALENDAR
VERSION:2.0
PRODID:-//EZFacility.com, Inc.//EZL 2.5.5.28621
BEGIN:VEVENT
UID:7739643@ezleagues.ezfacility.com
DTSTAMP:20260424T044033Z
CREATED:20260424T044033Z
DTSTART:20141129T204000Z
DTEND:20141129T213000Z
LOCATION:Hoops The Right Way Court 4
CONTACT:
SUMMARY:Herndon Allstars VS. Winchester United
DESCRIPTION:League Name: U-10/11 Boys Futsal\nGame Type: Regular\nGame Stat
 us: Complete\nHome Team: Herndon Allstars\nAway Team: Winchester United\nH
 ome Score: 11\nAway Score: 1
END:VEVENT
BEGIN:VEVENT
UID:7739650@ezleagues.ezfacility.com
DTSTAMP:20260424T044033Z
CREATED:20260424T044033Z
DTSTART:20141206T170000Z
DTEND:20141206T175000Z
LOCATION:Hoops The Right Way Court 6
CONTACT:
SUMMARY:Winchester United VS. FCVA Black
DESCRIPTION:League Name: U-10/11 Boys Futsal\nGame Type: Regular\nGame Stat
 us: Complete\nHome Team: Winchester United\nAway Team: FCVA Black\nHome Sc
 ore: 7\nAway Score: 3
END:VEVENT
BEGIN:VEVENT
UID:7739655@ezleagues.ezfacility.com
DTSTAMP:20260424T044033Z
CREATED:20260424T044033Z
DTSTART:20141213T152000Z
DTEND:20141213T161000Z
LOCATION:Hoops The Right Way Court 6
CONTACT:
SUMMARY:Winchester United VS. FPYC Barca Juniors Blue
DESCRIPTION:League Name: U-10/11 Boys Futsal\nGame Type: Regular\nGame Stat
 us: Pending\nHome Team: Winchester United\nAway Team: FPYC Barca Juniors B
 lue\n
END:VEVENT
BEGIN:VEVENT
UID:7739658@ezleagues.ezfacility.com
DTSTAMP:20260424T044033Z
CREATED:20260424T044033Z
DTSTART:20141220T181000Z
DTEND:20141220T190000Z
LOCATION:Hoops The Right Way Court 4
CONTACT:
SUMMARY:Winchester United VS. FCVA Gold
DESCRIPTION:League Name: U-10/11 Boys Futsal\nGame Type: Regular\nGame Stat
 us: Complete\nHome Team: Winchester United\nAway Team: FCVA Gold\nHome Sco
 re: 4\nAway Score: 8
END:VEVENT
BEGIN:VEVENT
UID:7739670@ezleagues.ezfacility.com
DTSTAMP:20260424T044033Z
CREATED:20260424T044033Z
DTSTART:20150103T204000Z
DTEND:20150103T213000Z
LOCATION:Hoops The Right Way Court 4
CONTACT:
SUMMARY:Gators VS. Winchester United
DESCRIPTION:League Name: U-10/11 Boys Futsal\nGame Type: Regular\nGame Stat
 us: Complete\nHome Team: Gators\nAway Team: Winchester United\nHome Score:
  9\nAway Score: 2
END:VEVENT
BEGIN:VEVENT
UID:7739675@ezleagues.ezfacility.com
DTSTAMP:20260424T044033Z
CREATED:20260424T044033Z
DTSTART:20150110T195000Z
DTEND:20150110T204000Z
LOCATION:Hoops The Right Way Court 4
CONTACT:
SUMMARY:Winchester United VS. FPYC Barca Juniors White
DESCRIPTION:League Name: U-10/11 Boys Futsal\nGame Type: Regular\nGame Stat
 us: Complete\nHome Team: Winchester United\nAway Team: FPYC Barca Juniors 
 White\nHome Score: 4\nAway Score: 14
END:VEVENT
BEGIN:VEVENT
UID:7739678@ezleagues.ezfacility.com
DTSTAMP:20260424T044033Z
CREATED:20260424T044033Z
DTSTART:20150118T130000Z
DTEND:20150118T135000Z
LOCATION:Hoops The Right Way Court 4
CONTACT:
SUMMARY:Winchester United VS. Gators
DESCRIPTION:League Name: U-10/11 Boys Futsal\nGame Type: Regular\nGame Stat
 us: Pending\nHome Team: Winchester United\nAway Team: Gators\n
END:VEVENT
END:VCALENDAR
