BEGIN:VCALENDAR
VERSION:2.0
PRODID:-//EZFacility.com, Inc.//EZL 2.5.5.28621
BEGIN:VEVENT
UID:7783441@ezleagues.ezfacility.com
DTSTAMP:20260426T033613Z
CREATED:20260426T033613Z
DTSTART:20141201T192000Z
DTEND:20141201T200000Z
LOCATION:Hull - Pitch 7
CONTACT:
SUMMARY:DERRINGHAM UTD VS. BAYER NEVALOSEN
DESCRIPTION:League Name: 7-a-side League\nGame Type: Regular\nGame Status: 
 Pending\nHome Team: DERRINGHAM UTD\nAway Team: BAYER NEVALOSEN\n
END:VEVENT
BEGIN:VEVENT
UID:7783527@ezleagues.ezfacility.com
DTSTAMP:20260426T033613Z
CREATED:20260426T033613Z
DTSTART:20150101T184000Z
DTEND:20150101T192000Z
LOCATION:Hull - Pitch 7
CONTACT:
SUMMARY:BAYER NEVALOSEN VS. DONKEY DESTROYERS
DESCRIPTION:League Name: 7-a-side League\nGame Type: Regular\nGame Status: 
 Pending\nHome Team: BAYER NEVALOSEN\nAway Team: DONKEY DESTROYERS\n
END:VEVENT
BEGIN:VEVENT
UID:7783507@ezleagues.ezfacility.com
DTSTAMP:20260426T033613Z
CREATED:20260426T033613Z
DTSTART:20150101T184000Z
DTEND:20150101T192000Z
LOCATION:Hull - Pitch 7
CONTACT:
SUMMARY:BAYER NEVALOSEN VS. DERRINGHAM UTD
DESCRIPTION:League Name: 7-a-side League\nGame Type: Regular\nGame Status: 
 Pending\nHome Team: BAYER NEVALOSEN\nAway Team: DERRINGHAM UTD\n
END:VEVENT
BEGIN:VEVENT
UID:7783495@ezleagues.ezfacility.com
DTSTAMP:20260426T033613Z
CREATED:20260426T033613Z
DTSTART:20150101T192000Z
DTEND:20150101T200000Z
LOCATION:Hull - Pitch 7
CONTACT:
SUMMARY:MORNING GLORY VS. BAYER NEVALOSEN
DESCRIPTION:League Name: 7-a-side League\nGame Type: Regular\nGame Status: 
 Pending\nHome Team: MORNING GLORY\nAway Team: BAYER NEVALOSEN\n
END:VEVENT
BEGIN:VEVENT
UID:7783545@ezleagues.ezfacility.com
DTSTAMP:20260426T033613Z
CREATED:20260426T033613Z
DTSTART:20150101T200000Z
DTEND:20150101T204000Z
LOCATION:Hull - Pitch 7
CONTACT:
SUMMARY:NOT BAD FC VS. BAYER NEVALOSEN
DESCRIPTION:League Name: 7-a-side League\nGame Type: Regular\nGame Status: 
 Pending\nHome Team: NOT BAD FC\nAway Team: BAYER NEVALOSEN\n
END:VEVENT
BEGIN:VEVENT
UID:7783418@ezleagues.ezfacility.com
DTSTAMP:20260426T033613Z
CREATED:20260426T033613Z
DTSTART:20150101T201500Z
DTEND:20150101T205500Z
LOCATION:Hull - Pitch 7
CONTACT:
SUMMARY:BAYER NEVALOSEN VS. SCOREGASM
DESCRIPTION:League Name: 7-a-side League\nGame Type: Regular\nGame Status: 
 Pending\nHome Team: BAYER NEVALOSEN\nAway Team: SCOREGASM\n
END:VEVENT
BEGIN:VEVENT
UID:7783479@ezleagues.ezfacility.com
DTSTAMP:20260426T033613Z
CREATED:20260426T033613Z
DTSTART:20150101T204000Z
DTEND:20150101T212000Z
LOCATION:Hull - Pitch 7
CONTACT:
SUMMARY:BAYER NEVALOSEN VS. NOT BAD FC
DESCRIPTION:League Name: 7-a-side League\nGame Type: Regular\nGame Status: 
 Pending\nHome Team: BAYER NEVALOSEN\nAway Team: NOT BAD FC\n
END:VEVENT
BEGIN:VEVENT
UID:7783521@ezleagues.ezfacility.com
DTSTAMP:20260426T033613Z
CREATED:20260426T033613Z
DTSTART:20150101T204000Z
DTEND:20150101T212000Z
LOCATION:Hull - Pitch 7
CONTACT:
SUMMARY:BAYER NEVALOSEN VS. BARCEBOLA
DESCRIPTION:League Name: 7-a-side League\nGame Type: Regular\nGame Status: 
 Pending\nHome Team: BAYER NEVALOSEN\nAway Team: BARCEBOLA\n
END:VEVENT
BEGIN:VEVENT
UID:7783461@ezleagues.ezfacility.com
DTSTAMP:20260426T033613Z
CREATED:20260426T033613Z
DTSTART:20150101T204000Z
DTEND:20150101T212000Z
LOCATION:Hull - Pitch 7
CONTACT:
SUMMARY:DONKEY DESTROYERS VS. BAYER NEVALOSEN
DESCRIPTION:League Name: 7-a-side League\nGame Type: Regular\nGame Status: 
 Pending\nHome Team: DONKEY DESTROYERS\nAway Team: BAYER NEVALOSEN\n
END:VEVENT
BEGIN:VEVENT
UID:7783434@ezleagues.ezfacility.com
DTSTAMP:20260426T033613Z
CREATED:20260426T033613Z
DTSTART:20150101T212000Z
DTEND:20150101T220000Z
LOCATION:Hull - Pitch 7
CONTACT:
SUMMARY:FARANDALE FC VS. BAYER NEVALOSEN
DESCRIPTION:League Name: 7-a-side League\nGame Type: Regular\nGame Status: 
 Pending\nHome Team: FARANDALE FC\nAway Team: BAYER NEVALOSEN\n
END:VEVENT
BEGIN:VEVENT
UID:7783540@ezleagues.ezfacility.com
DTSTAMP:20260426T033613Z
CREATED:20260426T033613Z
DTSTART:20150101T212000Z
DTEND:20150101T220000Z
LOCATION:Hull - Pitch 7
CONTACT:
SUMMARY:BALLERZ VS. BAYER NEVALOSEN
DESCRIPTION:League Name: 7-a-side League\nGame Type: Regular\nGame Status: 
 Complete\nHome Team: BALLERZ\nAway Team: BAYER NEVALOSEN\nHome Score: 0\nA
 way Score: 12
END:VEVENT
BEGIN:VEVENT
UID:7783487@ezleagues.ezfacility.com
DTSTAMP:20260426T033613Z
CREATED:20260426T033613Z
DTSTART:20150330T170000Z
DTEND:20150330T174000Z
LOCATION:Hull - Pitch 7
CONTACT:
SUMMARY:APOLLO VS. BAYER NEVALOSEN
DESCRIPTION:League Name: 7-a-side League\nGame Type: Regular\nGame Status: 
 Complete\nHome Team: APOLLO\nAway Team: BAYER NEVALOSEN\nHome Score: 3\nAw
 ay Score: 10
END:VEVENT
BEGIN:VEVENT
UID:7783534@ezleagues.ezfacility.com
DTSTAMP:20260426T033613Z
CREATED:20260426T033613Z
DTSTART:20150401T170000Z
DTEND:20150401T174000Z
LOCATION:Hull - Pitch 7
CONTACT:
SUMMARY:BAYER NEVALOSEN VS. ALLSTAR ODDSOCKS
DESCRIPTION:League Name: 7-a-side League\nGame Type: Regular\nGame Status: 
 Pending\nHome Team: BAYER NEVALOSEN\nAway Team: ALLSTAR ODDSOCKS\n
END:VEVENT
BEGIN:VEVENT
UID:7783455@ezleagues.ezfacility.com
DTSTAMP:20260426T033613Z
CREATED:20260426T033613Z
DTSTART:20150406T174500Z
DTEND:20150406T182500Z
LOCATION:Hull - Pitch 7
CONTACT:
SUMMARY:BARCEBOLA VS. BAYER NEVALOSEN
DESCRIPTION:League Name: 7-a-side League\nGame Type: Regular\nGame Status: 
 Complete\nHome Team: BARCEBOLA\nAway Team: BAYER NEVALOSEN\nHome Score: 2\
 nAway Score: 12
END:VEVENT
BEGIN:VEVENT
UID:7783514@ezleagues.ezfacility.com
DTSTAMP:20260426T033613Z
CREATED:20260426T033613Z
DTSTART:20150413T174500Z
DTEND:20150413T182500Z
LOCATION:Hull - Pitch 7
CONTACT:
SUMMARY:BAYER NEVALOSEN VS. IVORY TOAST
DESCRIPTION:League Name: 7-a-side League\nGame Type: Regular\nGame Status: 
 Complete\nHome Team: BAYER NEVALOSEN\nAway Team: IVORY TOAST\nHome Score: 
 12\nAway Score: 1
END:VEVENT
BEGIN:VEVENT
UID:7783421@ezleagues.ezfacility.com
DTSTAMP:20260426T033613Z
CREATED:20260426T033613Z
DTSTART:20150420T170000Z
DTEND:20150420T174000Z
LOCATION:Hull - Pitch 7
CONTACT:
SUMMARY:BAYER NEVALOSEN VS. APOLLO
DESCRIPTION:League Name: 7-a-side League\nGame Type: Regular\nGame Status: 
 Complete\nHome Team: BAYER NEVALOSEN\nAway Team: APOLLO\nHome Score: 12\nA
 way Score: 0
END:VEVENT
BEGIN:VEVENT
UID:7783484@ezleagues.ezfacility.com
DTSTAMP:20260426T033613Z
CREATED:20260426T033613Z
DTSTART:20150427T174500Z
DTEND:20150427T182500Z
LOCATION:Hull - Pitch 7
CONTACT:
SUMMARY:SCOREGASM VS. BAYER NEVALOSEN
DESCRIPTION:League Name: 7-a-side League\nGame Type: Regular\nGame Status: 
 Complete\nHome Team: SCOREGASM\nAway Team: BAYER NEVALOSEN\nHome Score: 5\
 nAway Score: 10
END:VEVENT
BEGIN:VEVENT
UID:7783500@ezleagues.ezfacility.com
DTSTAMP:20260426T033613Z
CREATED:20260426T033613Z
DTSTART:20150501T170000Z
DTEND:20150501T174000Z
LOCATION:Hull - Pitch 7
CONTACT:
SUMMARY:BAYER NEVALOSEN VS. FARANDALE FC
DESCRIPTION:League Name: 7-a-side League\nGame Type: Regular\nGame Status: 
 Pending\nHome Team: BAYER NEVALOSEN\nAway Team: FARANDALE FC\n
END:VEVENT
BEGIN:VEVENT
UID:7783429@ezleagues.ezfacility.com
DTSTAMP:20260426T033613Z
CREATED:20260426T033613Z
DTSTART:20150504T133000Z
DTEND:20150504T141000Z
LOCATION:Hull - Pitch 7
CONTACT:
SUMMARY:BAYER NEVALOSEN VS. MORNING GLORY
DESCRIPTION:League Name: 7-a-side League\nGame Type: Regular\nGame Status: 
 Pending\nHome Team: BAYER NEVALOSEN\nAway Team: MORNING GLORY\n
END:VEVENT
BEGIN:VEVENT
UID:7783468@ezleagues.ezfacility.com
DTSTAMP:20260426T033613Z
CREATED:20260426T033613Z
DTSTART:20150511T170000Z
DTEND:20150511T174000Z
LOCATION:Hull - Pitch 7
CONTACT:
SUMMARY:ALLSTAR ODDSOCKS VS. BAYER NEVALOSEN
DESCRIPTION:League Name: 7-a-side League\nGame Type: Regular\nGame Status: 
 Pending\nHome Team: ALLSTAR ODDSOCKS\nAway Team: BAYER NEVALOSEN\n
END:VEVENT
BEGIN:VEVENT
UID:7783448@ezleagues.ezfacility.com
DTSTAMP:20260426T033613Z
CREATED:20260426T033613Z
DTSTART:20150511T170000Z
DTEND:20150511T174000Z
LOCATION:Hull - Pitch 7
CONTACT:
SUMMARY:IVORY TOAST VS. BAYER NEVALOSEN
DESCRIPTION:League Name: 7-a-side League\nGame Type: Regular\nGame Status: 
 Complete\nHome Team: IVORY TOAST\nAway Team: BAYER NEVALOSEN\nHome Score: 
 0\nAway Score: 12
END:VEVENT
BEGIN:VEVENT
UID:7783474@ezleagues.ezfacility.com
DTSTAMP:20260426T033613Z
CREATED:20260426T033613Z
DTSTART:20150518T174500Z
DTEND:20150518T182500Z
LOCATION:Hull - Pitch 7
CONTACT:
SUMMARY:BAYER NEVALOSEN VS. BALLERZ
DESCRIPTION:League Name: 7-a-side League\nGame Type: Regular\nGame Status: 
 Complete\nHome Team: BAYER NEVALOSEN\nAway Team: BALLERZ\nHome Score: 23\n
 Away Score: 0
END:VEVENT
END:VCALENDAR
