BEGIN:VCALENDAR
VERSION:2.0
PRODID:-//EZFacility.com, Inc.//EZL 2.5.5.28621
BEGIN:VEVENT
UID:7783782@ezleagues.ezfacility.com
DTSTAMP:20260420T045741Z
CREATED:20260420T045741Z
DTSTART:20150101T203000Z
DTEND:20150101T211000Z
LOCATION:Hull - Pitch 4
CONTACT:
SUMMARY:EASTSIDE VS. JUST FOR LAUGHS
DESCRIPTION:League Name: Wednesday 5's League\nGame Type: Regular\nGame Sta
 tus: Pending\nHome Team: EASTSIDE\nAway Team: JUST FOR LAUGHS\n
END:VEVENT
BEGIN:VEVENT
UID:7783732@ezleagues.ezfacility.com
DTSTAMP:20260420T045741Z
CREATED:20260420T045741Z
DTSTART:20150107T200000Z
DTEND:20150107T204000Z
LOCATION:Hull - Pitch 4
CONTACT:
SUMMARY:JUST FOR LAUGHS VS. FRED WEST HAM
DESCRIPTION:League Name: Wednesday 5's League\nGame Type: Regular\nGame Sta
 tus: Complete\nHome Team: JUST FOR LAUGHS\nAway Team: FRED WEST HAM\nHome 
 Score: 4\nAway Score: 10
END:VEVENT
BEGIN:VEVENT
UID:7783735@ezleagues.ezfacility.com
DTSTAMP:20260420T045741Z
CREATED:20260420T045741Z
DTSTART:20150114T200000Z
DTEND:20150114T204000Z
LOCATION:Hull - Pitch 4
CONTACT:
SUMMARY:MURDER ON ZIDANSEFLOOR VS. JUST FOR LAUGHS
DESCRIPTION:League Name: Wednesday 5's League\nGame Type: Regular\nGame Sta
 tus: Complete\nHome Team: MURDER ON ZIDANSEFLOOR\nAway Team: JUST FOR LAUG
 HS\nHome Score: 14\nAway Score: 10
END:VEVENT
BEGIN:VEVENT
UID:7783740@ezleagues.ezfacility.com
DTSTAMP:20260420T045741Z
CREATED:20260420T045741Z
DTSTART:20150121T200000Z
DTEND:20150121T204000Z
LOCATION:Hull - Pitch 1
CONTACT:
SUMMARY:STREETS VS. JUST FOR LAUGHS
DESCRIPTION:League Name: Wednesday 5's League\nGame Type: Regular\nGame Sta
 tus: Complete\nHome Team: STREETS\nAway Team: JUST FOR LAUGHS\nHome Score:
  7\nAway Score: 5
END:VEVENT
BEGIN:VEVENT
UID:7783757@ezleagues.ezfacility.com
DTSTAMP:20260420T045741Z
CREATED:20260420T045741Z
DTSTART:20150128T183000Z
DTEND:20150128T191000Z
LOCATION:Hull - Pitch 4
CONTACT:
SUMMARY:JUST FOR LAUGHS VS. SNICKER TOOTH
DESCRIPTION:League Name: Wednesday 5's League\nGame Type: Regular\nGame Sta
 tus: Complete\nHome Team: JUST FOR LAUGHS\nAway Team: SNICKER TOOTH\nHome 
 Score: 11\nAway Score: 6
END:VEVENT
BEGIN:VEVENT
UID:7783754@ezleagues.ezfacility.com
DTSTAMP:20260420T045741Z
CREATED:20260420T045741Z
DTSTART:20150201T201000Z
DTEND:20150201T205000Z
LOCATION:Hull - Pitch 4
CONTACT:
SUMMARY:JUST FOR LAUGHS VS. EASTSIDE
DESCRIPTION:League Name: Wednesday 5's League\nGame Type: Regular\nGame Sta
 tus: Pending\nHome Team: JUST FOR LAUGHS\nAway Team: EASTSIDE\n
END:VEVENT
BEGIN:VEVENT
UID:7783785@ezleagues.ezfacility.com
DTSTAMP:20260420T045741Z
CREATED:20260420T045741Z
DTSTART:20150204T200000Z
DTEND:20150204T204000Z
LOCATION:Hull - Pitch 4
CONTACT:
SUMMARY:SNICKER TOOTH VS. JUST FOR LAUGHS
DESCRIPTION:League Name: Wednesday 5's League\nGame Type: Regular\nGame Sta
 tus: Complete\nHome Team: SNICKER TOOTH\nAway Team: JUST FOR LAUGHS\nHome 
 Score: 4\nAway Score: 6
END:VEVENT
BEGIN:VEVENT
UID:7783763@ezleagues.ezfacility.com
DTSTAMP:20260420T045741Z
CREATED:20260420T045741Z
DTSTART:20150211T203000Z
DTEND:20150211T211000Z
LOCATION:Hull - Pitch 8
CONTACT:
SUMMARY:JUST FOR LAUGHS VS. MURDER ON ZIDANSEFLOOR
DESCRIPTION:League Name: Wednesday 5's League\nGame Type: Regular\nGame Sta
 tus: Complete\nHome Team: JUST FOR LAUGHS\nAway Team: MURDER ON ZIDANSEFLO
 OR\nHome Score: 8\nAway Score: 11
END:VEVENT
BEGIN:VEVENT
UID:7783745@ezleagues.ezfacility.com
DTSTAMP:20260420T045741Z
CREATED:20260420T045741Z
DTSTART:20150218T201500Z
DTEND:20150218T205500Z
LOCATION:Hull - Pitch 5
CONTACT:
SUMMARY:SY'S TEAM VS. JUST FOR LAUGHS
DESCRIPTION:League Name: Wednesday 5's League\nGame Type: Regular\nGame Sta
 tus: Complete\nHome Team: SY'S TEAM\nAway Team: JUST FOR LAUGHS\nHome Scor
 e: 3\nAway Score: 10
END:VEVENT
BEGIN:VEVENT
UID:7783768@ezleagues.ezfacility.com
DTSTAMP:20260420T045741Z
CREATED:20260420T045741Z
DTSTART:20150225T193000Z
DTEND:20150225T201000Z
LOCATION:Hull - Pitch 1
CONTACT:
SUMMARY:JUST FOR LAUGHS VS. STREETS
DESCRIPTION:League Name: Wednesday 5's League\nGame Type: Regular\nGame Sta
 tus: Complete\nHome Team: JUST FOR LAUGHS\nAway Team: STREETS\nHome Score:
  5\nAway Score: 5
END:VEVENT
BEGIN:VEVENT
UID:7783778@ezleagues.ezfacility.com
DTSTAMP:20260420T045741Z
CREATED:20260420T045741Z
DTSTART:20150301T191500Z
DTEND:20150301T195500Z
LOCATION:Hull - Pitch 4
CONTACT:
SUMMARY:JUST FOR LAUGHS VS. OLD AND BALD
DESCRIPTION:League Name: Wednesday 5's League\nGame Type: Regular\nGame Sta
 tus: Complete\nHome Team: JUST FOR LAUGHS\nAway Team: OLD AND BALD\nHome S
 core: 12\nAway Score: 0
END:VEVENT
BEGIN:VEVENT
UID:7783760@ezleagues.ezfacility.com
DTSTAMP:20260420T045741Z
CREATED:20260420T045741Z
DTSTART:20150301T200000Z
DTEND:20150301T204000Z
LOCATION:Hull - Pitch 1
CONTACT:
SUMMARY:FRED WEST HAM VS. JUST FOR LAUGHS
DESCRIPTION:League Name: Wednesday 5's League\nGame Type: Regular\nGame Sta
 tus: Complete\nHome Team: FRED WEST HAM\nAway Team: JUST FOR LAUGHS\nHome 
 Score: 0\nAway Score: 12
END:VEVENT
BEGIN:VEVENT
UID:8074963@ezleagues.ezfacility.com
DTSTAMP:20260420T045741Z
CREATED:20260420T045741Z
DTSTART:20150304T200000Z
DTEND:20150304T204000Z
LOCATION:Hull - Pitch 1
CONTACT:
SUMMARY:MURDER ON ZIDANSEFLOOR VS. JUST FOR LAUGHS
DESCRIPTION:League Name: Wednesday 5's League\nGame Type: Regular\nGame Sta
 tus: Complete\nHome Team: MURDER ON ZIDANSEFLOOR\nAway Team: JUST FOR LAUG
 HS\nHome Score: 9\nAway Score: 8
END:VEVENT
BEGIN:VEVENT
UID:7783773@ezleagues.ezfacility.com
DTSTAMP:20260420T045741Z
CREATED:20260420T045741Z
DTSTART:20150311T194500Z
DTEND:20150311T202500Z
LOCATION:Hull - Pitch 1
CONTACT:
SUMMARY:JUST FOR LAUGHS VS. SY'S TEAM
DESCRIPTION:League Name: Wednesday 5's League\nGame Type: Regular\nGame Sta
 tus: Complete\nHome Team: JUST FOR LAUGHS\nAway Team: SY'S TEAM\nHome Scor
 e: 16\nAway Score: 7
END:VEVENT
BEGIN:VEVENT
UID:7996187@ezleagues.ezfacility.com
DTSTAMP:20260420T045741Z
CREATED:20260420T045741Z
DTSTART:20150318T200000Z
DTEND:20150318T204000Z
LOCATION:Hull - Pitch 2
CONTACT:
SUMMARY:JUST FOR LAUGHS VS. EXETER GENTLY
DESCRIPTION:League Name: Wednesday 5's League\nGame Type: Regular\nGame Sta
 tus: Complete\nHome Team: JUST FOR LAUGHS\nAway Team: EXETER GENTLY\nHome 
 Score: 7\nAway Score: 8
END:VEVENT
BEGIN:VEVENT
UID:7783750@ezleagues.ezfacility.com
DTSTAMP:20260420T045741Z
CREATED:20260420T045741Z
DTSTART:20150325T200000Z
DTEND:20150325T204000Z
LOCATION:Hull - Pitch 4
CONTACT:
SUMMARY:OLD AND BALD VS. JUST FOR LAUGHS
DESCRIPTION:League Name: Wednesday 5's League\nGame Type: Regular\nGame Sta
 tus: Complete\nHome Team: OLD AND BALD\nAway Team: JUST FOR LAUGHS\nHome S
 core: 8\nAway Score: 7
END:VEVENT
BEGIN:VEVENT
UID:7996195@ezleagues.ezfacility.com
DTSTAMP:20260420T045741Z
CREATED:20260420T045741Z
DTSTART:20150401T190000Z
DTEND:20150401T194000Z
LOCATION:Hull - Pitch 2
CONTACT:
SUMMARY:EXETER GENTLY VS. JUST FOR LAUGHS
DESCRIPTION:League Name: Wednesday 5's League\nGame Type: Regular\nGame Sta
 tus: Complete\nHome Team: EXETER GENTLY\nAway Team: JUST FOR LAUGHS\nHome 
 Score: 0\nAway Score: 12
END:VEVENT
BEGIN:VEVENT
UID:8024155@ezleagues.ezfacility.com
DTSTAMP:20260420T045741Z
CREATED:20260420T045741Z
DTSTART:20150401T190000Z
DTEND:20150401T194000Z
LOCATION:Hull - Pitch 5
CONTACT:
SUMMARY:SY'S TEAM VS. JUST FOR LAUGHS
DESCRIPTION:League Name: Wednesday 5's League\nGame Type: Regular\nGame Sta
 tus: Complete\nHome Team: SY'S TEAM\nAway Team: JUST FOR LAUGHS\nHome Scor
 e: 5\nAway Score: 22
END:VEVENT
END:VCALENDAR
