BEGIN:VCALENDAR
VERSION:2.0
PRODID:-//EZFacility.com, Inc.//EZL 2.5.5.28621
BEGIN:VEVENT
UID:7904518@ezleagues.ezfacility.com
DTSTAMP:20260426T034848Z
CREATED:20260426T034848Z
DTSTART:20150106T180000Z
DTEND:20150106T181000Z
LOCATION:Hull - Pitch 6
CONTACT:
SUMMARY:SS TITANS VS. EAST HULL SAINTS TIGERS
DESCRIPTION:League Name: UNDER 7'S- BLUE LEAGUE\nGame Type: Regular\nGame S
 tatus: Complete\nHome Team: SS TITANS\nAway Team: EAST HULL SAINTS TIGERS\
 nHome Score: 0\nAway Score: 3
END:VEVENT
BEGIN:VEVENT
UID:7904513@ezleagues.ezfacility.com
DTSTAMP:20260426T034848Z
CREATED:20260426T034848Z
DTSTART:20150106T182000Z
DTEND:20150106T183000Z
LOCATION:Hull - Pitch 5
CONTACT:
SUMMARY:SS TITANS VS. SS DEVILS
DESCRIPTION:League Name: UNDER 7'S- BLUE LEAGUE\nGame Type: Regular\nGame S
 tatus: Complete\nHome Team: SS TITANS\nAway Team: SS DEVILS\nHome Score: 2
 \nAway Score: 1
END:VEVENT
BEGIN:VEVENT
UID:7904550@ezleagues.ezfacility.com
DTSTAMP:20260426T034848Z
CREATED:20260426T034848Z
DTSTART:20150113T181000Z
DTEND:20150113T182000Z
LOCATION:Hull - Pitch 5
CONTACT:
SUMMARY:SS TITANS VS. SS MONSTERS
DESCRIPTION:League Name: UNDER 7'S- BLUE LEAGUE\nGame Type: Regular\nGame S
 tatus: Complete\nHome Team: SS TITANS\nAway Team: SS MONSTERS\nHome Score:
  8\nAway Score: 0
END:VEVENT
BEGIN:VEVENT
UID:7904599@ezleagues.ezfacility.com
DTSTAMP:20260426T034848Z
CREATED:20260426T034848Z
DTSTART:20150113T181000Z
DTEND:20150113T182000Z
LOCATION:Hull - Pitch 6
CONTACT:
SUMMARY:SS TITANS VS. LONGHILL FC
DESCRIPTION:League Name: UNDER 7'S- BLUE LEAGUE\nGame Type: Regular\nGame S
 tatus: Complete\nHome Team: SS TITANS\nAway Team: LONGHILL FC\nHome Score:
  4\nAway Score: 2
END:VEVENT
BEGIN:VEVENT
UID:7904641@ezleagues.ezfacility.com
DTSTAMP:20260426T034848Z
CREATED:20260426T034848Z
DTSTART:20150113T185000Z
DTEND:20150113T190000Z
LOCATION:Hull - Pitch 5
CONTACT:
SUMMARY:SS TITANS VS. SS DEVILS
DESCRIPTION:League Name: UNDER 7'S- BLUE LEAGUE\nGame Type: Regular\nGame S
 tatus: Complete\nHome Team: SS TITANS\nAway Team: SS DEVILS\nHome Score: 4
 \nAway Score: 1
END:VEVENT
BEGIN:VEVENT
UID:7904716@ezleagues.ezfacility.com
DTSTAMP:20260426T034848Z
CREATED:20260426T034848Z
DTSTART:20150113T190000Z
DTEND:20150113T191000Z
LOCATION:Hull - Pitch 5
CONTACT:
SUMMARY:SS TITANS VS. EAST HULL SAINTS TIGERS
DESCRIPTION:League Name: UNDER 7'S- BLUE LEAGUE\nGame Type: Regular\nGame S
 tatus: Complete\nHome Team: SS TITANS\nAway Team: EAST HULL SAINTS TIGERS\
 nHome Score: 4\nAway Score: 0
END:VEVENT
BEGIN:VEVENT
UID:7947328@ezleagues.ezfacility.com
DTSTAMP:20260426T034848Z
CREATED:20260426T034848Z
DTSTART:20150120T130000Z
DTEND:20150120T131000Z
LOCATION:Hull - Pitch 1
CONTACT:
SUMMARY:SS TITANS VS. SS MONSTERS
DESCRIPTION:League Name: UNDER 7'S- BLUE LEAGUE\nGame Type: Regular\nGame S
 tatus: Complete\nHome Team: SS TITANS\nAway Team: SS MONSTERS\nHome Score:
  8\nAway Score: 1
END:VEVENT
BEGIN:VEVENT
UID:7947331@ezleagues.ezfacility.com
DTSTAMP:20260426T034848Z
CREATED:20260426T034848Z
DTSTART:20150120T180000Z
DTEND:20150120T181000Z
LOCATION:Hull - Pitch 1
CONTACT:
SUMMARY:SS TITANS VS. SS DEVILS
DESCRIPTION:League Name: UNDER 7'S- BLUE LEAGUE\nGame Type: Regular\nGame S
 tatus: Complete\nHome Team: SS TITANS\nAway Team: SS DEVILS\nHome Score: 4
 \nAway Score: 1
END:VEVENT
BEGIN:VEVENT
UID:7947329@ezleagues.ezfacility.com
DTSTAMP:20260426T034848Z
CREATED:20260426T034848Z
DTSTART:20150120T180000Z
DTEND:20150120T181000Z
LOCATION:Hull - Pitch 1
CONTACT:
SUMMARY:EAST HULL SAINTS TIGERS VS. SS TITANS
DESCRIPTION:League Name: UNDER 7'S- BLUE LEAGUE\nGame Type: Regular\nGame S
 tatus: Complete\nHome Team: EAST HULL SAINTS TIGERS\nAway Team: SS TITANS\
 nHome Score: 0\nAway Score: 7
END:VEVENT
BEGIN:VEVENT
UID:7967403@ezleagues.ezfacility.com
DTSTAMP:20260426T034848Z
CREATED:20260426T034848Z
DTSTART:20150127T130000Z
DTEND:20150127T131000Z
LOCATION:Hull - Pitch 1
CONTACT:
SUMMARY:SS MONSTERS VS. SS TITANS
DESCRIPTION:League Name: UNDER 7'S- BLUE LEAGUE\nGame Type: Regular\nGame S
 tatus: Complete\nHome Team: SS MONSTERS\nAway Team: SS TITANS\nHome Score:
  0\nAway Score: 5
END:VEVENT
BEGIN:VEVENT
UID:7967405@ezleagues.ezfacility.com
DTSTAMP:20260426T034848Z
CREATED:20260426T034848Z
DTSTART:20150127T130000Z
DTEND:20150127T131000Z
LOCATION:Hull - Pitch 1
CONTACT:
SUMMARY:SS DEVILS VS. SS TITANS
DESCRIPTION:League Name: UNDER 7'S- BLUE LEAGUE\nGame Type: Regular\nGame S
 tatus: Complete\nHome Team: SS DEVILS\nAway Team: SS TITANS\nHome Score: 2
 \nAway Score: 1
END:VEVENT
BEGIN:VEVENT
UID:7967408@ezleagues.ezfacility.com
DTSTAMP:20260426T034848Z
CREATED:20260426T034848Z
DTSTART:20150127T130000Z
DTEND:20150127T131000Z
LOCATION:Hull - Pitch 1
CONTACT:
SUMMARY:SS TITANS VS. EAST HULL SAINTS TIGERS
DESCRIPTION:League Name: UNDER 7'S- BLUE LEAGUE\nGame Type: Regular\nGame S
 tatus: Complete\nHome Team: SS TITANS\nAway Team: EAST HULL SAINTS TIGERS\
 nHome Score: 2\nAway Score: 0
END:VEVENT
BEGIN:VEVENT
UID:7967409@ezleagues.ezfacility.com
DTSTAMP:20260426T034848Z
CREATED:20260426T034848Z
DTSTART:20150127T130000Z
DTEND:20150127T131000Z
LOCATION:Hull - Pitch 1
CONTACT:
SUMMARY:SS TITANS VS. LONGHILL FC
DESCRIPTION:League Name: UNDER 7'S- BLUE LEAGUE\nGame Type: Regular\nGame S
 tatus: Complete\nHome Team: SS TITANS\nAway Team: LONGHILL FC\nHome Score:
  6\nAway Score: 1
END:VEVENT
BEGIN:VEVENT
UID:7991681@ezleagues.ezfacility.com
DTSTAMP:20260426T034848Z
CREATED:20260426T034848Z
DTSTART:20150203T130000Z
DTEND:20150203T131000Z
LOCATION:Hull - Pitch 1
CONTACT:
SUMMARY:SS TITANS VS. SS DEVILS
DESCRIPTION:League Name: UNDER 7'S- BLUE LEAGUE\nGame Type: Regular\nGame S
 tatus: Complete\nHome Team: SS TITANS\nAway Team: SS DEVILS\nHome Score: 3
 \nAway Score: 0
END:VEVENT
BEGIN:VEVENT
UID:7991683@ezleagues.ezfacility.com
DTSTAMP:20260426T034848Z
CREATED:20260426T034848Z
DTSTART:20150203T130000Z
DTEND:20150203T131000Z
LOCATION:Hull - Pitch 1
CONTACT:
SUMMARY:SS TITANS VS. EAST HULL SAINTS TIGERS
DESCRIPTION:League Name: UNDER 7'S- BLUE LEAGUE\nGame Type: Regular\nGame S
 tatus: Complete\nHome Team: SS TITANS\nAway Team: EAST HULL SAINTS TIGERS\
 nHome Score: 2\nAway Score: 2
END:VEVENT
BEGIN:VEVENT
UID:7991684@ezleagues.ezfacility.com
DTSTAMP:20260426T034848Z
CREATED:20260426T034848Z
DTSTART:20150203T130000Z
DTEND:20150203T131000Z
LOCATION:Hull - Pitch 1
CONTACT:
SUMMARY:SS TITANS VS. SS MONSTERS
DESCRIPTION:League Name: UNDER 7'S- BLUE LEAGUE\nGame Type: Regular\nGame S
 tatus: Complete\nHome Team: SS TITANS\nAway Team: SS MONSTERS\nHome Score:
  5\nAway Score: 0
END:VEVENT
BEGIN:VEVENT
UID:8010759@ezleagues.ezfacility.com
DTSTAMP:20260426T034848Z
CREATED:20260426T034848Z
DTSTART:20150210T130000Z
DTEND:20150210T131000Z
LOCATION:Hull - Pitch 1
CONTACT:
SUMMARY:SS TITANS VS. LONGHILL FC
DESCRIPTION:League Name: UNDER 7'S- BLUE LEAGUE\nGame Type: Regular\nGame S
 tatus: Complete\nHome Team: SS TITANS\nAway Team: LONGHILL FC\nHome Score:
  4\nAway Score: 0
END:VEVENT
BEGIN:VEVENT
UID:8010760@ezleagues.ezfacility.com
DTSTAMP:20260426T034848Z
CREATED:20260426T034848Z
DTSTART:20150210T130000Z
DTEND:20150210T131000Z
LOCATION:Hull - Pitch 1
CONTACT:
SUMMARY:SS TITANS VS. SS DEVILS
DESCRIPTION:League Name: UNDER 7'S- BLUE LEAGUE\nGame Type: Regular\nGame S
 tatus: Complete\nHome Team: SS TITANS\nAway Team: SS DEVILS\nHome Score: 4
 \nAway Score: 2
END:VEVENT
BEGIN:VEVENT
UID:8010761@ezleagues.ezfacility.com
DTSTAMP:20260426T034848Z
CREATED:20260426T034848Z
DTSTART:20150210T130000Z
DTEND:20150210T131000Z
LOCATION:Hull - Pitch 1
CONTACT:
SUMMARY:SS TITANS VS. SS MONSTERS
DESCRIPTION:League Name: UNDER 7'S- BLUE LEAGUE\nGame Type: Regular\nGame S
 tatus: Complete\nHome Team: SS TITANS\nAway Team: SS MONSTERS\nHome Score:
  12\nAway Score: 0
END:VEVENT
BEGIN:VEVENT
UID:8023074@ezleagues.ezfacility.com
DTSTAMP:20260426T034848Z
CREATED:20260426T034848Z
DTSTART:20150217T130000Z
DTEND:20150217T131000Z
LOCATION:Hull - Pitch 1
CONTACT:
SUMMARY:SS TITANS VS. LONGHILL FC
DESCRIPTION:League Name: UNDER 7'S- BLUE LEAGUE\nGame Type: Regular\nGame S
 tatus: Complete\nHome Team: SS TITANS\nAway Team: LONGHILL FC\nHome Score:
  8\nAway Score: 0
END:VEVENT
BEGIN:VEVENT
UID:8023076@ezleagues.ezfacility.com
DTSTAMP:20260426T034848Z
CREATED:20260426T034848Z
DTSTART:20150217T130000Z
DTEND:20150217T131000Z
LOCATION:Hull - Pitch 1
CONTACT:
SUMMARY:SS TITANS VS. SS MONSTERS
DESCRIPTION:League Name: UNDER 7'S- BLUE LEAGUE\nGame Type: Regular\nGame S
 tatus: Complete\nHome Team: SS TITANS\nAway Team: SS MONSTERS\nHome Score:
  3\nAway Score: 0
END:VEVENT
BEGIN:VEVENT
UID:8023072@ezleagues.ezfacility.com
DTSTAMP:20260426T034848Z
CREATED:20260426T034848Z
DTSTART:20150217T130000Z
DTEND:20150217T131000Z
LOCATION:Hull - Pitch 1
CONTACT:
SUMMARY:SS DEVILS VS. SS TITANS
DESCRIPTION:League Name: UNDER 7'S- BLUE LEAGUE\nGame Type: Regular\nGame S
 tatus: Complete\nHome Team: SS DEVILS\nAway Team: SS TITANS\nHome Score: 2
 \nAway Score: 1
END:VEVENT
BEGIN:VEVENT
UID:8048016@ezleagues.ezfacility.com
DTSTAMP:20260426T034848Z
CREATED:20260426T034848Z
DTSTART:20150224T130000Z
DTEND:20150224T131000Z
LOCATION:Hull - Pitch 1
CONTACT:
SUMMARY:SS TITANS VS. SS MONSTERS
DESCRIPTION:League Name: UNDER 7'S- BLUE LEAGUE\nGame Type: Regular\nGame S
 tatus: Complete\nHome Team: SS TITANS\nAway Team: SS MONSTERS\nHome Score:
  4\nAway Score: 0
END:VEVENT
BEGIN:VEVENT
UID:8048018@ezleagues.ezfacility.com
DTSTAMP:20260426T034848Z
CREATED:20260426T034848Z
DTSTART:20150224T130000Z
DTEND:20150224T131000Z
LOCATION:Hull - Pitch 1
CONTACT:
SUMMARY:SS TITANS VS. LONGHILL FC
DESCRIPTION:League Name: UNDER 7'S- BLUE LEAGUE\nGame Type: Regular\nGame S
 tatus: Complete\nHome Team: SS TITANS\nAway Team: LONGHILL FC\nHome Score:
  8\nAway Score: 0
END:VEVENT
BEGIN:VEVENT
UID:8048019@ezleagues.ezfacility.com
DTSTAMP:20260426T034848Z
CREATED:20260426T034848Z
DTSTART:20150224T130000Z
DTEND:20150224T131000Z
LOCATION:Hull - Pitch 1
CONTACT:
SUMMARY:SS TITANS VS. SS DEVILS
DESCRIPTION:League Name: UNDER 7'S- BLUE LEAGUE\nGame Type: Regular\nGame S
 tatus: Complete\nHome Team: SS TITANS\nAway Team: SS DEVILS\nHome Score: 1
 \nAway Score: 5
END:VEVENT
BEGIN:VEVENT
UID:8071079@ezleagues.ezfacility.com
DTSTAMP:20260426T034848Z
CREATED:20260426T034848Z
DTSTART:20150303T130000Z
DTEND:20150303T131000Z
LOCATION:Hull - Pitch 1
CONTACT:
SUMMARY:SS TITANS VS. LONGHILL FC
DESCRIPTION:League Name: UNDER 7'S- BLUE LEAGUE\nGame Type: Regular\nGame S
 tatus: Complete\nHome Team: SS TITANS\nAway Team: LONGHILL FC\nHome Score:
  4\nAway Score: 0
END:VEVENT
BEGIN:VEVENT
UID:8071082@ezleagues.ezfacility.com
DTSTAMP:20260426T034848Z
CREATED:20260426T034848Z
DTSTART:20150303T130000Z
DTEND:20150303T131000Z
LOCATION:Hull - Pitch 1
CONTACT:
SUMMARY:SS TITANS VS. SS DEVILS
DESCRIPTION:League Name: UNDER 7'S- BLUE LEAGUE\nGame Type: Regular\nGame S
 tatus: Complete\nHome Team: SS TITANS\nAway Team: SS DEVILS\nHome Score: 2
 \nAway Score: 3
END:VEVENT
BEGIN:VEVENT
UID:8071083@ezleagues.ezfacility.com
DTSTAMP:20260426T034848Z
CREATED:20260426T034848Z
DTSTART:20150303T130000Z
DTEND:20150303T131000Z
LOCATION:Hull - Pitch 1
CONTACT:
SUMMARY:SS TITANS VS. SS MONSTERS
DESCRIPTION:League Name: UNDER 7'S- BLUE LEAGUE\nGame Type: Regular\nGame S
 tatus: Complete\nHome Team: SS TITANS\nAway Team: SS MONSTERS\nHome Score:
  6\nAway Score: 0
END:VEVENT
END:VCALENDAR
