BEGIN:VCALENDAR
VERSION:2.0
PRODID:-//EZFacility.com, Inc.//EZL 2.5.5.28621
BEGIN:VEVENT
UID:7979064@ezleagues.ezfacility.com
DTSTAMP:20260426T034808Z
CREATED:20260426T034808Z
DTSTART:20150214T220000Z
DTEND:20150214T230000Z
LOCATION:Full Field - Indoor (C)
CONTACT:
SUMMARY:Chazy - Chapman VS. NCCS Strikers
DESCRIPTION:League Name: Indoor Soccer U-14 Coed Competitive League Session
  II\nGame Type: Regular\nGame Status: Complete\nHome Team: Chazy - Chapman
 \nAway Team: NCCS Strikers\nHome Score: 6\nAway Score: 2
END:VEVENT
BEGIN:VEVENT
UID:7979076@ezleagues.ezfacility.com
DTSTAMP:20260426T034808Z
CREATED:20260426T034808Z
DTSTART:20150228T220000Z
DTEND:20150228T230000Z
LOCATION:Full Field - Indoor (C)
CONTACT:
SUMMARY:Chazy - Chapman VS. PFC Arsenal
DESCRIPTION:League Name: Indoor Soccer U-14 Coed Competitive League Session
  II\nGame Type: Regular\nGame Status: Complete\nHome Team: Chazy - Chapman
 \nAway Team: PFC Arsenal\nHome Score: 3\nAway Score: 8
END:VEVENT
BEGIN:VEVENT
UID:7979069@ezleagues.ezfacility.com
DTSTAMP:20260426T034808Z
CREATED:20260426T034808Z
DTSTART:20150301T000000Z
DTEND:20150301T010000Z
LOCATION:Full Field - Indoor (C)
CONTACT:
SUMMARY:GFC VS. Chazy - Chapman
DESCRIPTION:League Name: Indoor Soccer U-14 Coed Competitive League Session
  II\nGame Type: Regular\nGame Status: Complete\nHome Team: GFC\nAway Team:
  Chazy - Chapman\nHome Score: 4\nAway Score: 0
END:VEVENT
BEGIN:VEVENT
UID:7979095@ezleagues.ezfacility.com
DTSTAMP:20260426T034808Z
CREATED:20260426T034808Z
DTSTART:20150328T220000Z
DTEND:20150328T230000Z
LOCATION:Full Field - Indoor (C)
CONTACT:
SUMMARY:Westport Strikers VS. Chazy - Chapman
DESCRIPTION:League Name: Indoor Soccer U-14 Coed Competitive League Session
  II\nGame Type: Regular\nGame Status: Complete\nHome Team: Westport Strike
 rs\nAway Team: Chazy - Chapman\nHome Score: 1\nAway Score: 0
END:VEVENT
BEGIN:VEVENT
UID:7979103@ezleagues.ezfacility.com
DTSTAMP:20260426T034808Z
CREATED:20260426T034808Z
DTSTART:20150329T193000Z
DTEND:20150329T203000Z
LOCATION:Full Field - Indoor (C)
CONTACT:
SUMMARY:Pella Pride 2.0 VS. Chazy - Chapman
DESCRIPTION:League Name: Indoor Soccer U-14 Coed Competitive League Session
  II\nGame Type: Regular\nGame Status: Complete\nHome Team: Pella Pride 2.0
 \nAway Team: Chazy - Chapman\nHome Score: 0\nAway Score: 6
END:VEVENT
BEGIN:VEVENT
UID:7979099@ezleagues.ezfacility.com
DTSTAMP:20260426T034808Z
CREATED:20260426T034808Z
DTSTART:20150404T220000Z
DTEND:20150404T230000Z
LOCATION:Full Field - Indoor (C)
CONTACT:
SUMMARY:North Country Soccer INC. VS. Chazy - Chapman
DESCRIPTION:League Name: Indoor Soccer U-14 Coed Competitive League Session
  II\nGame Type: Regular\nGame Status: Complete\nHome Team: North Country S
 occer INC.\nAway Team: Chazy - Chapman\nHome Score: 3\nAway Score: 2
END:VEVENT
BEGIN:VEVENT
UID:7979087@ezleagues.ezfacility.com
DTSTAMP:20260426T034808Z
CREATED:20260426T034808Z
DTSTART:20150411T210000Z
DTEND:20150411T220000Z
LOCATION:Full Field - Indoor (C)
CONTACT:
SUMMARY:GFC VS. Chazy - Chapman
DESCRIPTION:League Name: Indoor Soccer U-14 Coed Competitive League Session
  II\nGame Type: Regular\nGame Status: Complete\nHome Team: GFC\nAway Team:
  Chazy - Chapman\nHome Score: 4\nAway Score: 0
END:VEVENT
BEGIN:VEVENT
UID:7979091@ezleagues.ezfacility.com
DTSTAMP:20260426T034808Z
CREATED:20260426T034808Z
DTSTART:20150418T234000Z
DTEND:20150419T004000Z
LOCATION:Full Field - Indoor (C)
CONTACT:
SUMMARY:NCCS Strikers VS. Chazy - Chapman
DESCRIPTION:League Name: Indoor Soccer U-14 Coed Competitive League Session
  II\nGame Type: Regular\nGame Status: Complete\nHome Team: NCCS Strikers\n
 Away Team: Chazy - Chapman\nHome Score: 0\nAway Score: 8
END:VEVENT
END:VCALENDAR
