BEGIN:VCALENDAR
VERSION:2.0
PRODID:-//EZFacility.com, Inc.//EZL 2.5.5.28621
BEGIN:VEVENT
UID:7996399@ezleagues.ezfacility.com
DTSTAMP:20260424T041350Z
CREATED:20260424T041350Z
DTSTART:20150213T040000Z
DTEND:20150213T050000Z
LOCATION:Dome Field 3
CONTACT:
SUMMARY:F.K. Tirona VS. DMP
DESCRIPTION:League Name: Tuesday/Thursday Div 2\nGame Type: Regular\nGame S
 tatus: Pending\nHome Team: F.K. Tirona\nAway Team: DMP\n
END:VEVENT
BEGIN:VEVENT
UID:7996402@ezleagues.ezfacility.com
DTSTAMP:20260424T041350Z
CREATED:20260424T041350Z
DTSTART:20150218T040000Z
DTEND:20150218T050000Z
LOCATION:Indoor Field 3
CONTACT:
SUMMARY:F.K. Tirona VS. Asante Elite
DESCRIPTION:League Name: Tuesday/Thursday Div 2\nGame Type: Regular\nGame S
 tatus: Pending\nHome Team: F.K. Tirona\nAway Team: Asante Elite\n
END:VEVENT
BEGIN:VEVENT
UID:7996405@ezleagues.ezfacility.com
DTSTAMP:20260424T041350Z
CREATED:20260424T041350Z
DTSTART:20150227T010000Z
DTEND:20150227T020000Z
LOCATION:Indoor Field 2
CONTACT:
SUMMARY:F.K. Tirona VS. FC Marlee TT
DESCRIPTION:League Name: Tuesday/Thursday Div 2\nGame Type: Regular\nGame S
 tatus: Pending\nHome Team: F.K. Tirona\nAway Team: FC Marlee TT\n
END:VEVENT
BEGIN:VEVENT
UID:7996413@ezleagues.ezfacility.com
DTSTAMP:20260424T041350Z
CREATED:20260424T041350Z
DTSTART:20150311T020000Z
DTEND:20150311T030000Z
LOCATION:Indoor Field 2
CONTACT:
SUMMARY:F.K. Tirona VS. Eastunbulls
DESCRIPTION:League Name: Tuesday/Thursday Div 2\nGame Type: Regular\nGame S
 tatus: Pending\nHome Team: F.K. Tirona\nAway Team: Eastunbulls\n
END:VEVENT
BEGIN:VEVENT
UID:7996418@ezleagues.ezfacility.com
DTSTAMP:20260424T041350Z
CREATED:20260424T041350Z
DTSTART:20150320T010000Z
DTEND:20150320T020000Z
LOCATION:Indoor Field 1
CONTACT:
SUMMARY:F.K. Tirona VS. DRUJBA
DESCRIPTION:League Name: Tuesday/Thursday Div 2\nGame Type: Regular\nGame S
 tatus: Pending\nHome Team: F.K. Tirona\nAway Team: DRUJBA\n
END:VEVENT
BEGIN:VEVENT
UID:7996423@ezleagues.ezfacility.com
DTSTAMP:20260424T041350Z
CREATED:20260424T041350Z
DTSTART:20150325T030000Z
DTEND:20150325T040000Z
LOCATION:Dome Field 3
CONTACT:
SUMMARY:F.K. Tirona VS. Dream Team Emelec
DESCRIPTION:League Name: Tuesday/Thursday Div 2\nGame Type: Regular\nGame S
 tatus: Pending\nHome Team: F.K. Tirona\nAway Team: Dream Team Emelec\n
END:VEVENT
BEGIN:VEVENT
UID:7996427@ezleagues.ezfacility.com
DTSTAMP:20260424T041350Z
CREATED:20260424T041350Z
DTSTART:20150403T020000Z
DTEND:20150403T030000Z
LOCATION:Indoor Field 1
CONTACT:
SUMMARY:DMP VS. F.K. Tirona
DESCRIPTION:League Name: Tuesday/Thursday Div 2\nGame Type: Regular\nGame S
 tatus: Pending\nHome Team: DMP\nAway Team: F.K. Tirona\n
END:VEVENT
BEGIN:VEVENT
UID:7996408@ezleagues.ezfacility.com
DTSTAMP:20260424T041350Z
CREATED:20260424T041350Z
DTSTART:20150407T230000Z
DTEND:20150408T000000Z
LOCATION:Indoor Field 4
CONTACT:
SUMMARY:Europro VS. F.K. Tirona
DESCRIPTION:League Name: Tuesday/Thursday Div 2\nGame Type: Regular\nGame S
 tatus: Pending\nHome Team: Europro\nAway Team: F.K. Tirona\n
END:VEVENT
BEGIN:VEVENT
UID:7996430@ezleagues.ezfacility.com
DTSTAMP:20260424T041350Z
CREATED:20260424T041350Z
DTSTART:20150410T000000Z
DTEND:20150410T010000Z
LOCATION:Indoor Field 4
CONTACT:
SUMMARY:Asante Elite VS. F.K. Tirona
DESCRIPTION:League Name: Tuesday/Thursday Div 2\nGame Type: Regular\nGame S
 tatus: Pending\nHome Team: Asante Elite\nAway Team: F.K. Tirona\n
END:VEVENT
BEGIN:VEVENT
UID:7996433@ezleagues.ezfacility.com
DTSTAMP:20260424T041350Z
CREATED:20260424T041350Z
DTSTART:20150415T010000Z
DTEND:20150415T020000Z
LOCATION:Indoor Field 3
CONTACT:
SUMMARY:FC Marlee TT VS. F.K. Tirona
DESCRIPTION:League Name: Tuesday/Thursday Div 2\nGame Type: Regular\nGame S
 tatus: Pending\nHome Team: FC Marlee TT\nAway Team: F.K. Tirona\n
END:VEVENT
BEGIN:VEVENT
UID:7996436@ezleagues.ezfacility.com
DTSTAMP:20260424T041350Z
CREATED:20260424T041350Z
DTSTART:20150422T020000Z
DTEND:20150422T030000Z
LOCATION:Indoor Field 3
CONTACT:
SUMMARY:Europro VS. F.K. Tirona
DESCRIPTION:League Name: Tuesday/Thursday Div 2\nGame Type: Regular\nGame S
 tatus: Pending\nHome Team: Europro\nAway Team: F.K. Tirona\n
END:VEVENT
END:VCALENDAR
