BEGIN:VCALENDAR
VERSION:2.0
PRODID:-//EZFacility.com, Inc.//EZL 2.5.5.28621
BEGIN:VEVENT
UID:7996648@ezleagues.ezfacility.com
DTSTAMP:20260424T041409Z
CREATED:20260424T041409Z
DTSTART:20150213T010000Z
DTEND:20150213T020000Z
LOCATION:Indoor Field 2
CONTACT:
SUMMARY:Team VS. RMFC
DESCRIPTION:League Name: Tuesday/Thursday Div 4\nGame Type: Regular\nGame S
 tatus: Pending\nHome Team: Team\nAway Team: RMFC\n
END:VEVENT
BEGIN:VEVENT
UID:7996653@ezleagues.ezfacility.com
DTSTAMP:20260424T041409Z
CREATED:20260424T041409Z
DTSTART:20150220T040000Z
DTEND:20150220T050000Z
LOCATION:Indoor Field 2
CONTACT:
SUMMARY:JFT 30ers VS. RMFC
DESCRIPTION:League Name: Tuesday/Thursday Div 4\nGame Type: Regular\nGame S
 tatus: Pending\nHome Team: JFT 30ers\nAway Team: RMFC\n
END:VEVENT
BEGIN:VEVENT
UID:7996657@ezleagues.ezfacility.com
DTSTAMP:20260424T041409Z
CREATED:20260424T041409Z
DTSTART:20150227T040000Z
DTEND:20150227T050000Z
LOCATION:Indoor Field 2
CONTACT:
SUMMARY:RMFC VS. Hodelin Forrest
DESCRIPTION:League Name: Tuesday/Thursday Div 4\nGame Type: Regular\nGame S
 tatus: Pending\nHome Team: RMFC\nAway Team: Hodelin Forrest\n
END:VEVENT
BEGIN:VEVENT
UID:7996660@ezleagues.ezfacility.com
DTSTAMP:20260424T041409Z
CREATED:20260424T041409Z
DTSTART:20150306T030000Z
DTEND:20150306T040000Z
LOCATION:Dome Field 3
CONTACT:
SUMMARY:RMFC VS. Squad
DESCRIPTION:League Name: Tuesday/Thursday Div 4\nGame Type: Regular\nGame S
 tatus: Pending\nHome Team: RMFC\nAway Team: Squad\n
END:VEVENT
BEGIN:VEVENT
UID:7996663@ezleagues.ezfacility.com
DTSTAMP:20260424T041409Z
CREATED:20260424T041409Z
DTSTART:20150313T030000Z
DTEND:20150313T040000Z
LOCATION:Dome Field 3
CONTACT:
SUMMARY:R.C.S VS. RMFC
DESCRIPTION:League Name: Tuesday/Thursday Div 4\nGame Type: Regular\nGame S
 tatus: Pending\nHome Team: R.C.S\nAway Team: RMFC\n
END:VEVENT
BEGIN:VEVENT
UID:7996666@ezleagues.ezfacility.com
DTSTAMP:20260424T041409Z
CREATED:20260424T041409Z
DTSTART:20150318T000000Z
DTEND:20150318T010000Z
LOCATION:Indoor Field 3
CONTACT:
SUMMARY:La Roja VS. RMFC
DESCRIPTION:League Name: Tuesday/Thursday Div 4\nGame Type: Regular\nGame S
 tatus: Pending\nHome Team: La Roja\nAway Team: RMFC\n
END:VEVENT
BEGIN:VEVENT
UID:7996671@ezleagues.ezfacility.com
DTSTAMP:20260424T041409Z
CREATED:20260424T041409Z
DTSTART:20150327T000000Z
DTEND:20150327T010000Z
LOCATION:Indoor Field 2
CONTACT:
SUMMARY:RMFC VS. Pensioner F.C.
DESCRIPTION:League Name: Tuesday/Thursday Div 4\nGame Type: Regular\nGame S
 tatus: Pending\nHome Team: RMFC\nAway Team: Pensioner F.C.\n
END:VEVENT
BEGIN:VEVENT
UID:7996676@ezleagues.ezfacility.com
DTSTAMP:20260424T041409Z
CREATED:20260424T041409Z
DTSTART:20150403T010000Z
DTEND:20150403T020000Z
LOCATION:Dome Field 3
CONTACT:
SUMMARY:RMFC VS. Team
DESCRIPTION:League Name: Tuesday/Thursday Div 4\nGame Type: Regular\nGame S
 tatus: Pending\nHome Team: RMFC\nAway Team: Team\n
END:VEVENT
BEGIN:VEVENT
UID:7996681@ezleagues.ezfacility.com
DTSTAMP:20260424T041409Z
CREATED:20260424T041409Z
DTSTART:20150410T010000Z
DTEND:20150410T020000Z
LOCATION:Indoor Field 2
CONTACT:
SUMMARY:RMFC VS. JFT 30ers
DESCRIPTION:League Name: Tuesday/Thursday Div 4\nGame Type: Regular\nGame S
 tatus: Pending\nHome Team: RMFC\nAway Team: JFT 30ers\n
END:VEVENT
BEGIN:VEVENT
UID:7996685@ezleagues.ezfacility.com
DTSTAMP:20260424T041409Z
CREATED:20260424T041409Z
DTSTART:20150417T010000Z
DTEND:20150417T020000Z
LOCATION:Indoor Field 2
CONTACT:
SUMMARY:Hodelin Forrest VS. RMFC
DESCRIPTION:League Name: Tuesday/Thursday Div 4\nGame Type: Regular\nGame S
 tatus: Pending\nHome Team: Hodelin Forrest\nAway Team: RMFC\n
END:VEVENT
BEGIN:VEVENT
UID:7996688@ezleagues.ezfacility.com
DTSTAMP:20260424T041409Z
CREATED:20260424T041409Z
DTSTART:20150423T230000Z
DTEND:20150424T000000Z
LOCATION:Indoor Field 1
CONTACT:
SUMMARY:Squad VS. RMFC
DESCRIPTION:League Name: Tuesday/Thursday Div 4\nGame Type: Regular\nGame S
 tatus: Pending\nHome Team: Squad\nAway Team: RMFC\n
END:VEVENT
BEGIN:VEVENT
UID:8010851@ezleagues.ezfacility.com
DTSTAMP:20260424T041409Z
CREATED:20260424T041409Z
DTSTART:20150424T010000Z
DTEND:20150424T020000Z
LOCATION:Indoor Field 4
CONTACT:
SUMMARY:RMFC VS. Pensioner F.C.
DESCRIPTION:League Name: Tuesday/Thursday Div 4\nGame Type: Regular\nGame S
 tatus: Pending\nHome Team: RMFC\nAway Team: Pensioner F.C.\n
END:VEVENT
END:VCALENDAR
