BEGIN:VCALENDAR
VERSION:2.0
PRODID:-//EZFacility.com, Inc.//EZL 2.5.5.28621
BEGIN:VEVENT
UID:7996649@ezleagues.ezfacility.com
DTSTAMP:20260424T041505Z
CREATED:20260424T041505Z
DTSTART:20150213T020000Z
DTEND:20150213T030000Z
LOCATION:Indoor Field 2
CONTACT:
SUMMARY:R.C.S VS. JFT 30ers
DESCRIPTION:League Name: Tuesday/Thursday Div 4\nGame Type: Regular\nGame S
 tatus: Pending\nHome Team: R.C.S\nAway Team: JFT 30ers\n
END:VEVENT
BEGIN:VEVENT
UID:7996652@ezleagues.ezfacility.com
DTSTAMP:20260424T041505Z
CREATED:20260424T041505Z
DTSTART:20150218T040000Z
DTEND:20150218T050000Z
LOCATION:Indoor Field 2
CONTACT:
SUMMARY:R.C.S VS. Hodelin Forrest
DESCRIPTION:League Name: Tuesday/Thursday Div 4\nGame Type: Regular\nGame S
 tatus: Pending\nHome Team: R.C.S\nAway Team: Hodelin Forrest\n
END:VEVENT
BEGIN:VEVENT
UID:7996655@ezleagues.ezfacility.com
DTSTAMP:20260424T041505Z
CREATED:20260424T041505Z
DTSTART:20150227T010000Z
DTEND:20150227T020000Z
LOCATION:Indoor Field 1
CONTACT:
SUMMARY:R.C.S VS. Squad
DESCRIPTION:League Name: Tuesday/Thursday Div 4\nGame Type: Regular\nGame S
 tatus: Pending\nHome Team: R.C.S\nAway Team: Squad\n
END:VEVENT
BEGIN:VEVENT
UID:7996658@ezleagues.ezfacility.com
DTSTAMP:20260424T041505Z
CREATED:20260424T041505Z
DTSTART:20150306T020000Z
DTEND:20150306T030000Z
LOCATION:Indoor Field 1
CONTACT:
SUMMARY:La Roja VS. R.C.S
DESCRIPTION:League Name: Tuesday/Thursday Div 4\nGame Type: Regular\nGame S
 tatus: Pending\nHome Team: La Roja\nAway Team: R.C.S\n
END:VEVENT
BEGIN:VEVENT
UID:7996663@ezleagues.ezfacility.com
DTSTAMP:20260424T041505Z
CREATED:20260424T041505Z
DTSTART:20150313T030000Z
DTEND:20150313T040000Z
LOCATION:Dome Field 3
CONTACT:
SUMMARY:R.C.S VS. RMFC
DESCRIPTION:League Name: Tuesday/Thursday Div 4\nGame Type: Regular\nGame S
 tatus: Pending\nHome Team: R.C.S\nAway Team: RMFC\n
END:VEVENT
BEGIN:VEVENT
UID:7996668@ezleagues.ezfacility.com
DTSTAMP:20260424T041505Z
CREATED:20260424T041505Z
DTSTART:20150320T000000Z
DTEND:20150320T010000Z
LOCATION:Indoor Field 1
CONTACT:
SUMMARY:R.C.S VS. Pensioner F.C.
DESCRIPTION:League Name: Tuesday/Thursday Div 4\nGame Type: Regular\nGame S
 tatus: Pending\nHome Team: R.C.S\nAway Team: Pensioner F.C.\n
END:VEVENT
BEGIN:VEVENT
UID:7996673@ezleagues.ezfacility.com
DTSTAMP:20260424T041505Z
CREATED:20260424T041505Z
DTSTART:20150325T020000Z
DTEND:20150325T030000Z
LOCATION:Dome Field 3
CONTACT:
SUMMARY:R.C.S VS. Team
DESCRIPTION:League Name: Tuesday/Thursday Div 4\nGame Type: Regular\nGame S
 tatus: Pending\nHome Team: R.C.S\nAway Team: Team\n
END:VEVENT
BEGIN:VEVENT
UID:7996677@ezleagues.ezfacility.com
DTSTAMP:20260424T041505Z
CREATED:20260424T041505Z
DTSTART:20150403T020000Z
DTEND:20150403T030000Z
LOCATION:Dome Field 3
CONTACT:
SUMMARY:JFT 30ers VS. R.C.S
DESCRIPTION:League Name: Tuesday/Thursday Div 4\nGame Type: Regular\nGame S
 tatus: Pending\nHome Team: JFT 30ers\nAway Team: R.C.S\n
END:VEVENT
BEGIN:VEVENT
UID:7996680@ezleagues.ezfacility.com
DTSTAMP:20260424T041505Z
CREATED:20260424T041505Z
DTSTART:20150410T000000Z
DTEND:20150410T010000Z
LOCATION:Indoor Field 2
CONTACT:
SUMMARY:Hodelin Forrest VS. R.C.S
DESCRIPTION:League Name: Tuesday/Thursday Div 4\nGame Type: Regular\nGame S
 tatus: Pending\nHome Team: Hodelin Forrest\nAway Team: R.C.S\n
END:VEVENT
BEGIN:VEVENT
UID:7996683@ezleagues.ezfacility.com
DTSTAMP:20260424T041505Z
CREATED:20260424T041505Z
DTSTART:20150414T230000Z
DTEND:20150415T000000Z
LOCATION:Indoor Field 4
CONTACT:
SUMMARY:Squad VS. R.C.S
DESCRIPTION:League Name: Tuesday/Thursday Div 4\nGame Type: Regular\nGame S
 tatus: Pending\nHome Team: Squad\nAway Team: R.C.S\n
END:VEVENT
BEGIN:VEVENT
UID:7996686@ezleagues.ezfacility.com
DTSTAMP:20260424T041505Z
CREATED:20260424T041505Z
DTSTART:20150422T020000Z
DTEND:20150422T030000Z
LOCATION:Indoor Field 4
CONTACT:
SUMMARY:La Roja VS. R.C.S
DESCRIPTION:League Name: Tuesday/Thursday Div 4\nGame Type: Regular\nGame S
 tatus: Pending\nHome Team: La Roja\nAway Team: R.C.S\n
END:VEVENT
END:VCALENDAR
