BEGIN:VCALENDAR
VERSION:2.0
PRODID:-//EZFacility.com, Inc.//EZL 2.5.5.28621
BEGIN:VEVENT
UID:8048827@ezleagues.ezfacility.com
DTSTAMP:20260426T035106Z
CREATED:20260426T035106Z
DTSTART:20150304T220000Z
DTEND:20150304T230000Z
LOCATION:Black
CONTACT:
SUMMARY:NEU 13 Blue VS. NEU 13 White
DESCRIPTION:League Name: Boys U14 Soccer NORTH (Sat) S3\nGame Type: Regular
 \nGame Status: Complete\nHome Team: NEU 13 Blue\nAway Team: NEU 13 White\n
 Home Score: 11\nAway Score: 9
END:VEVENT
BEGIN:VEVENT
UID:8067406@ezleagues.ezfacility.com
DTSTAMP:20260426T035106Z
CREATED:20260426T035106Z
DTSTART:20150307T150000Z
DTEND:20150307T160000Z
LOCATION:Black
CONTACT:
SUMMARY:NEU 13 White VS. The Bomb Squad
DESCRIPTION:League Name: Boys U14 Soccer NORTH (Sat) S3\nGame Type: Regular
 \nGame Status: Complete\nHome Team: NEU 13 White\nAway Team: The Bomb Squa
 d\nHome Score: 0\nAway Score: 4
END:VEVENT
BEGIN:VEVENT
UID:8067409@ezleagues.ezfacility.com
DTSTAMP:20260426T035106Z
CREATED:20260426T035106Z
DTSTART:20150314T110000Z
DTEND:20150314T120000Z
LOCATION:Black
CONTACT:
SUMMARY:NEU 13 White VS. Glastonbury Hartwell
DESCRIPTION:League Name: Boys U14 Soccer NORTH (Sat) S3\nGame Type: Regular
 \nGame Status: Complete\nHome Team: NEU 13 White\nAway Team: Glastonbury H
 artwell\nHome Score: 8\nAway Score: 0
END:VEVENT
BEGIN:VEVENT
UID:8067425@ezleagues.ezfacility.com
DTSTAMP:20260426T035106Z
CREATED:20260426T035106Z
DTSTART:20150328T130000Z
DTEND:20150328T140000Z
LOCATION:Black
CONTACT:
SUMMARY:NEU 13 White VS. Neconn Titans
DESCRIPTION:League Name: Boys U14 Soccer NORTH (Sat) S3\nGame Type: Regular
 \nGame Status: Complete\nHome Team: NEU 13 White\nAway Team: Neconn Titans
 \nHome Score: 8\nAway Score: 2
END:VEVENT
BEGIN:VEVENT
UID:8067442@ezleagues.ezfacility.com
DTSTAMP:20260426T035106Z
CREATED:20260426T035106Z
DTSTART:20150402T000000Z
DTEND:20150402T010000Z
LOCATION:Navy
CONTACT:
SUMMARY:NEU 13 White VS. CFC
DESCRIPTION:League Name: Boys U14 Soccer NORTH (Sat) S3\nGame Type: Regular
 \nGame Status: Complete\nHome Team: NEU 13 White\nAway Team: CFC\nHome Sco
 re: 11\nAway Score: 6
END:VEVENT
BEGIN:VEVENT
UID:8067474@ezleagues.ezfacility.com
DTSTAMP:20260426T035106Z
CREATED:20260426T035106Z
DTSTART:20150404T130000Z
DTEND:20150404T140000Z
LOCATION:Black
CONTACT:
SUMMARY:Wethersfield U14 VS. NEU 13 White
DESCRIPTION:League Name: Boys U14 Soccer NORTH (Sat) S3\nGame Type: Regular
 \nGame Status: Complete\nHome Team: Wethersfield U14\nAway Team: NEU 13 Wh
 ite\nHome Score: 1\nAway Score: 5
END:VEVENT
BEGIN:VEVENT
UID:8067502@ezleagues.ezfacility.com
DTSTAMP:20260426T035106Z
CREATED:20260426T035106Z
DTSTART:20150410T010000Z
DTEND:20150410T020000Z
LOCATION:Maroon
CONTACT:
SUMMARY:NEU 13 White VS. One Direction
DESCRIPTION:League Name: Boys U14 Soccer NORTH (Sat) S3\nGame Type: Regular
 \nGame Status: Complete\nHome Team: NEU 13 White\nAway Team: One Direction
 \nHome Score: 1\nAway Score: 4
END:VEVENT
BEGIN:VEVENT
UID:8067528@ezleagues.ezfacility.com
DTSTAMP:20260426T035106Z
CREATED:20260426T035106Z
DTSTART:20150418T110000Z
DTEND:20150418T120000Z
LOCATION:Black
CONTACT:
SUMMARY:NEU 13 White VS. South Windsor
DESCRIPTION:League Name: Boys U14 Soccer NORTH (Sat) S3\nGame Type: Regular
 \nGame Status: Complete\nHome Team: NEU 13 White\nAway Team: South Windsor
 \nHome Score: 11\nAway Score: 3
END:VEVENT
END:VCALENDAR
