BEGIN:VCALENDAR
VERSION:2.0
PRODID:-//EZFacility.com, Inc.//EZL 2.5.5.28621
BEGIN:VEVENT
UID:9138747@ezleagues.ezfacility.com
DTSTAMP:20260426T034934Z
CREATED:20260426T034934Z
DTSTART:20160301T014000Z
DTEND:20160301T023000Z
LOCATION:Jessup Premier Field #2
CONTACT:
SUMMARY:Pumpkin Eaters  VS. Ecuador
DESCRIPTION:League Name: Mon Mens Over 35s 1st div \nGame Type: Regular\nGa
 me Status: Complete\nHome Team: Pumpkin Eaters \nAway Team: Ecuador\nHome 
 Score: 1\nAway Score: 6
END:VEVENT
BEGIN:VEVENT
UID:9138760@ezleagues.ezfacility.com
DTSTAMP:20260426T034934Z
CREATED:20260426T034934Z
DTSTART:20160308T041000Z
DTEND:20160308T050000Z
LOCATION:Jessup Premier Field #2
CONTACT:
SUMMARY:Pumpkin Eaters  VS. Howard  United 
DESCRIPTION:League Name: Mon Mens Over 35s 1st div \nGame Type: Regular\nGa
 me Status: Complete\nHome Team: Pumpkin Eaters \nAway Team: Howard  United
  \nHome Score: 3\nAway Score: 4
END:VEVENT
BEGIN:VEVENT
UID:9138769@ezleagues.ezfacility.com
DTSTAMP:20260426T034934Z
CREATED:20260426T034934Z
DTSTART:20160314T235000Z
DTEND:20160315T004000Z
LOCATION:Jessup Premier Field #1
CONTACT:
SUMMARY:Iron Word  VS. Pumpkin Eaters 
DESCRIPTION:League Name: Mon Mens Over 35s 1st div \nGame Type: Regular\nGa
 me Status: Complete\nHome Team: Iron Word \nAway Team: Pumpkin Eaters \nHo
 me Score: 3\nAway Score: 5
END:VEVENT
BEGIN:VEVENT
UID:9138784@ezleagues.ezfacility.com
DTSTAMP:20260426T034934Z
CREATED:20260426T034934Z
DTSTART:20160321T230000Z
DTEND:20160321T235000Z
LOCATION:Jessup Premier Field #2
CONTACT:
SUMMARY:Polar  Bears  VS. Pumpkin Eaters 
DESCRIPTION:League Name: Mon Mens Over 35s 1st div \nGame Type: Regular\nGa
 me Status: Complete\nHome Team: Polar  Bears \nAway Team: Pumpkin Eaters \
 nHome Score: 4\nAway Score: 5
END:VEVENT
BEGIN:VEVENT
UID:9138795@ezleagues.ezfacility.com
DTSTAMP:20260426T034934Z
CREATED:20260426T034934Z
DTSTART:20160329T022000Z
DTEND:20160329T031000Z
LOCATION:Jessup Premier Field #2
CONTACT:
SUMMARY:Gunners VS. Pumpkin Eaters 
DESCRIPTION:League Name: Mon Mens Over 35s 1st div \nGame Type: Regular\nGa
 me Status: Complete\nHome Team: Gunners\nAway Team: Pumpkin Eaters \nHome 
 Score: 8\nAway Score: 2
END:VEVENT
BEGIN:VEVENT
UID:9138806@ezleagues.ezfacility.com
DTSTAMP:20260426T034934Z
CREATED:20260426T034934Z
DTSTART:20160404T235000Z
DTEND:20160405T004000Z
LOCATION:Jessup Premier Field #2
CONTACT:
SUMMARY:Blue  VS. Pumpkin Eaters 
DESCRIPTION:League Name: Mon Mens Over 35s 1st div \nGame Type: Regular\nGa
 me Status: Complete\nHome Team: Blue \nAway Team: Pumpkin Eaters \nHome Sc
 ore: 8\nAway Score: 3
END:VEVENT
BEGIN:VEVENT
UID:9138818@ezleagues.ezfacility.com
DTSTAMP:20260426T034934Z
CREATED:20260426T034934Z
DTSTART:20160412T004000Z
DTEND:20160412T013000Z
LOCATION:Jessup Premier Field #2
CONTACT:
SUMMARY:Pumpkin Eaters  VS. G-Force 
DESCRIPTION:League Name: Mon Mens Over 35s 1st div \nGame Type: Regular\nGa
 me Status: Complete\nHome Team: Pumpkin Eaters \nAway Team: G-Force \nHome
  Score: 3\nAway Score: 3
END:VEVENT
BEGIN:VEVENT
UID:9282925@ezleagues.ezfacility.com
DTSTAMP:20260426T034934Z
CREATED:20260426T034934Z
DTSTART:20160418T235000Z
DTEND:20160419T003800Z
LOCATION:Jessup Premier Field #2
CONTACT:
SUMMARY:Pumpkin Eaters  VS. Iron Word 
DESCRIPTION:League Name: Mon Mens Over 35s 1st div \nGame Type: Regular\nGa
 me Status: Complete\nHome Team: Pumpkin Eaters \nAway Team: Iron Word \nHo
 me Score: 5\nAway Score: 6
END:VEVENT
BEGIN:VEVENT
UID:9299015@ezleagues.ezfacility.com
DTSTAMP:20260426T034934Z
CREATED:20260426T034934Z
DTSTART:20160425T230000Z
DTEND:20160425T234800Z
LOCATION:Jessup Premier Field #1
CONTACT:
SUMMARY:Pumpkin Eaters  VS. Howard  United 
DESCRIPTION:League Name: Mon Mens Over 35s 1st div \nGame Type: Regular\nGa
 me Status: Complete\nHome Team: Pumpkin Eaters \nAway Team: Howard  United
  \nHome Score: 3\nAway Score: 0
END:VEVENT
END:VCALENDAR
