BEGIN:VCALENDAR
VERSION:2.0
PRODID:-//EZFacility.com, Inc.//EZL 2.5.5.28621
BEGIN:VEVENT
UID:8833325@ezleagues.ezfacility.com
DTSTAMP:20260424T044038Z
CREATED:20260424T044038Z
DTSTART:20151211T005000Z
DTEND:20151211T014000Z
LOCATION:Jessup Premier Field #1
CONTACT:
SUMMARY:Lap Specimens  VS. Metapan 
DESCRIPTION:League Name: Thurs Mens Open 2nd I div  \nGame Type: Regular\nG
 ame Status: Complete\nHome Team: Lap Specimens \nAway Team: Metapan \nHome
  Score: 4\nAway Score: 6
END:VEVENT
BEGIN:VEVENT
UID:8833336@ezleagues.ezfacility.com
DTSTAMP:20260424T044038Z
CREATED:20260424T044038Z
DTSTART:20151218T014000Z
DTEND:20151218T023000Z
LOCATION:Jessup Premier Field #2
CONTACT:
SUMMARY:Metapan  VS. FC Chelsea 
DESCRIPTION:League Name: Thurs Mens Open 2nd I div  \nGame Type: Regular\nG
 ame Status: Complete\nHome Team: Metapan \nAway Team: FC Chelsea \nHome Sc
 ore: 3\nAway Score: 5
END:VEVENT
BEGIN:VEVENT
UID:8833375@ezleagues.ezfacility.com
DTSTAMP:20260424T044038Z
CREATED:20260424T044038Z
DTSTART:20160108T032000Z
DTEND:20160108T041000Z
LOCATION:Jessup Premier Field #1
CONTACT:
SUMMARY:Metapan  VS. Pink Avocado 
DESCRIPTION:League Name: Thurs Mens Open 2nd I div  \nGame Type: Regular\nG
 ame Status: Complete\nHome Team: Metapan \nAway Team: Pink Avocado \nHome 
 Score: 4\nAway Score: 6
END:VEVENT
BEGIN:VEVENT
UID:8833387@ezleagues.ezfacility.com
DTSTAMP:20260424T044038Z
CREATED:20260424T044038Z
DTSTART:20160115T014000Z
DTEND:20160115T023000Z
LOCATION:Jessup Premier Field #2
CONTACT:
SUMMARY:Punjab Warrios  VS. Metapan 
DESCRIPTION:League Name: Thurs Mens Open 2nd I div  \nGame Type: Regular\nG
 ame Status: Complete\nHome Team: Punjab Warrios \nAway Team: Metapan \nHom
 e Score: 3\nAway Score: 9
END:VEVENT
BEGIN:VEVENT
UID:8833398@ezleagues.ezfacility.com
DTSTAMP:20260424T044038Z
CREATED:20260424T044038Z
DTSTART:20160122T005000Z
DTEND:20160122T014000Z
LOCATION:Jessup Premier Field #1
CONTACT:
SUMMARY:Brisas VS. Metapan 
DESCRIPTION:League Name: Thurs Mens Open 2nd I div  \nGame Type: Regular\nG
 ame Status: Complete\nHome Team: Brisas\nAway Team: Metapan \nHome Score: 
 3\nAway Score: 1
END:VEVENT
BEGIN:VEVENT
UID:8833349@ezleagues.ezfacility.com
DTSTAMP:20260424T044038Z
CREATED:20260424T044038Z
DTSTART:20160129T041000Z
DTEND:20160129T050000Z
LOCATION:Jessup Premier Field #1
CONTACT:
SUMMARY:Metapan  VS. Red Devils
DESCRIPTION:League Name: Thurs Mens Open 2nd I div  \nGame Type: Regular\nG
 ame Status: Complete\nHome Team: Metapan \nAway Team: Red Devils\nHome Sco
 re: 10\nAway Score: 4
END:VEVENT
BEGIN:VEVENT
UID:8833362@ezleagues.ezfacility.com
DTSTAMP:20260424T044038Z
CREATED:20260424T044038Z
DTSTART:20160205T000000Z
DTEND:20160205T005000Z
LOCATION:Jessup Premier Field #1
CONTACT:
SUMMARY:Metapan  VS. Ultimate Alliance
DESCRIPTION:League Name: Thurs Mens Open 2nd I div  \nGame Type: Regular\nG
 ame Status: Complete\nHome Team: Metapan \nAway Team: Ultimate Alliance\nH
 ome Score: 4\nAway Score: 1
END:VEVENT
BEGIN:VEVENT
UID:9091224@ezleagues.ezfacility.com
DTSTAMP:20260424T044038Z
CREATED:20260424T044038Z
DTSTART:20160212T005000Z
DTEND:20160212T013800Z
LOCATION:Jessup Premier Field #2
CONTACT:
SUMMARY:Metapan  VS. Brisas
DESCRIPTION:League Name: Thurs Mens Open 2nd I div  \nGame Type: Regular\nG
 ame Status: Complete\nHome Team: Metapan \nAway Team: Brisas\nHome Score: 
 8\nAway Score: 6
END:VEVENT
BEGIN:VEVENT
UID:9108572@ezleagues.ezfacility.com
DTSTAMP:20260424T044038Z
CREATED:20260424T044038Z
DTSTART:20160219T023000Z
DTEND:20160219T031800Z
LOCATION:Jessup Premier Field #2
CONTACT:
SUMMARY:Metapan  VS. FC Chelsea 
DESCRIPTION:League Name: Thurs Mens Open 2nd I div  \nGame Type: Regular\nG
 ame Status: Complete\nHome Team: Metapan \nAway Team: FC Chelsea \nHome Sc
 ore: 7\nAway Score: 4
END:VEVENT
END:VCALENDAR
