BEGIN:VCALENDAR
VERSION:2.0
PRODID:-//EZFacility.com, Inc.//EZL 2.5.5.28621
BEGIN:VEVENT
UID:8833326@ezleagues.ezfacility.com
DTSTAMP:20260420T014843Z
CREATED:20260420T014843Z
DTSTART:20151211T014000Z
DTEND:20151211T023000Z
LOCATION:Jessup Premier Field #1
CONTACT:
SUMMARY:Ultimate Alliance VS. Punjab Warrios 
DESCRIPTION:League Name: Thurs Mens Open 2nd I div  \nGame Type: Regular\nG
 ame Status: Complete\nHome Team: Ultimate Alliance\nAway Team: Punjab Warr
 ios \nHome Score: 8\nAway Score: 0
END:VEVENT
BEGIN:VEVENT
UID:8833337@ezleagues.ezfacility.com
DTSTAMP:20260420T014843Z
CREATED:20260420T014843Z
DTSTART:20151218T005000Z
DTEND:20151218T014000Z
LOCATION:Jessup Premier Field #2
CONTACT:
SUMMARY:Pink Avocado  VS. Punjab Warrios 
DESCRIPTION:League Name: Thurs Mens Open 2nd I div  \nGame Type: Regular\nG
 ame Status: Complete\nHome Team: Pink Avocado \nAway Team: Punjab Warrios 
 \nHome Score: 7\nAway Score: 4
END:VEVENT
BEGIN:VEVENT
UID:8833374@ezleagues.ezfacility.com
DTSTAMP:20260420T014843Z
CREATED:20260420T014843Z
DTSTART:20160108T041000Z
DTEND:20160108T050000Z
LOCATION:Jessup Premier Field #1
CONTACT:
SUMMARY:Punjab Warrios  VS. Lap Specimens 
DESCRIPTION:League Name: Thurs Mens Open 2nd I div  \nGame Type: Regular\nG
 ame Status: Complete\nHome Team: Punjab Warrios \nAway Team: Lap Specimens
  \nHome Score: 4\nAway Score: 6
END:VEVENT
BEGIN:VEVENT
UID:8833387@ezleagues.ezfacility.com
DTSTAMP:20260420T014843Z
CREATED:20260420T014843Z
DTSTART:20160115T014000Z
DTEND:20160115T023000Z
LOCATION:Jessup Premier Field #2
CONTACT:
SUMMARY:Punjab Warrios  VS. Metapan 
DESCRIPTION:League Name: Thurs Mens Open 2nd I div  \nGame Type: Regular\nG
 ame Status: Complete\nHome Team: Punjab Warrios \nAway Team: Metapan \nHom
 e Score: 3\nAway Score: 9
END:VEVENT
BEGIN:VEVENT
UID:8833399@ezleagues.ezfacility.com
DTSTAMP:20260420T014843Z
CREATED:20260420T014843Z
DTSTART:20160122T023000Z
DTEND:20160122T032000Z
LOCATION:Jessup Premier Field #1
CONTACT:
SUMMARY:Red Devils VS. Punjab Warrios 
DESCRIPTION:League Name: Thurs Mens Open 2nd I div  \nGame Type: Regular\nG
 ame Status: Complete\nHome Team: Red Devils\nAway Team: Punjab Warrios \nH
 ome Score: 7\nAway Score: 11
END:VEVENT
BEGIN:VEVENT
UID:8833348@ezleagues.ezfacility.com
DTSTAMP:20260420T014843Z
CREATED:20260420T014843Z
DTSTART:20160129T023000Z
DTEND:20160129T032000Z
LOCATION:Jessup Premier Field #1
CONTACT:
SUMMARY:Punjab Warrios  VS. FC Chelsea 
DESCRIPTION:League Name: Thurs Mens Open 2nd I div  \nGame Type: Regular\nG
 ame Status: Complete\nHome Team: Punjab Warrios \nAway Team: FC Chelsea \n
 Home Score: 3\nAway Score: 7
END:VEVENT
BEGIN:VEVENT
UID:8833361@ezleagues.ezfacility.com
DTSTAMP:20260420T014843Z
CREATED:20260420T014843Z
DTSTART:20160205T032000Z
DTEND:20160205T041000Z
LOCATION:Jessup Premier Field #2
CONTACT:
SUMMARY:Punjab Warrios  VS. Brisas
DESCRIPTION:League Name: Thurs Mens Open 2nd I div  \nGame Type: Regular\nG
 ame Status: Complete\nHome Team: Punjab Warrios \nAway Team: Brisas\nHome 
 Score: 5\nAway Score: 8
END:VEVENT
BEGIN:VEVENT
UID:9091228@ezleagues.ezfacility.com
DTSTAMP:20260420T014843Z
CREATED:20260420T014843Z
DTSTART:20160212T000000Z
DTEND:20160212T004800Z
LOCATION:Jessup Premier Field #2
CONTACT:
SUMMARY:Punjab Warrios  VS. Red Devils
DESCRIPTION:League Name: Thurs Mens Open 2nd I div  \nGame Type: Regular\nG
 ame Status: Complete\nHome Team: Punjab Warrios \nAway Team: Red Devils\nH
 ome Score: 6\nAway Score: 6
END:VEVENT
BEGIN:VEVENT
UID:9108581@ezleagues.ezfacility.com
DTSTAMP:20260420T014843Z
CREATED:20260420T014843Z
DTSTART:20160219T000000Z
DTEND:20160219T004800Z
LOCATION:Jessup Premier Field #1
CONTACT:
SUMMARY:Brisas VS. Punjab Warrios 
DESCRIPTION:League Name: Thurs Mens Open 2nd I div  \nGame Type: Regular\nG
 ame Status: Complete\nHome Team: Brisas\nAway Team: Punjab Warrios \nHome 
 Score: 0\nAway Score: 3
END:VEVENT
END:VCALENDAR
