BEGIN:VCALENDAR
VERSION:2.0
PRODID:-//EZFacility.com, Inc.//EZL 2.5.5.28621
BEGIN:VEVENT
UID:8318802@ezleagues.ezfacility.com
DTSTAMP:20260424T044140Z
CREATED:20260424T044140Z
DTSTART:20150602T120000Z
DTEND:20150602T124000Z
LOCATION:Hull - Pitch 1
CONTACT:
SUMMARY:BILTON COUGARS VS. TEAM REQ
DESCRIPTION:League Name: U7'S White League\nGame Type: Regular\nGame Status
 : Complete\nHome Team: BILTON COUGARS\nAway Team: TEAM REQ\nHome Score: 0\
 nAway Score: 7
END:VEVENT
BEGIN:VEVENT
UID:8318803@ezleagues.ezfacility.com
DTSTAMP:20260424T044140Z
CREATED:20260424T044140Z
DTSTART:20150602T120000Z
DTEND:20150602T124000Z
LOCATION:Hull - Pitch 1
CONTACT:
SUMMARY:PELICAN FC VS. TEAM REQ
DESCRIPTION:League Name: U7'S White League\nGame Type: Regular\nGame Status
 : Complete\nHome Team: PELICAN FC\nAway Team: TEAM REQ\nHome Score: 0\nAwa
 y Score: 9
END:VEVENT
BEGIN:VEVENT
UID:8318808@ezleagues.ezfacility.com
DTSTAMP:20260424T044140Z
CREATED:20260424T044140Z
DTSTART:20150602T120000Z
DTEND:20150602T124000Z
LOCATION:Hull - Pitch 1
CONTACT:
SUMMARY:SS TITANS VS. TEAM REQ
DESCRIPTION:League Name: U7'S White League\nGame Type: Regular\nGame Status
 : Complete\nHome Team: SS TITANS\nAway Team: TEAM REQ\nHome Score: 1\nAway
  Score: 3
END:VEVENT
BEGIN:VEVENT
UID:8318809@ezleagues.ezfacility.com
DTSTAMP:20260424T044140Z
CREATED:20260424T044140Z
DTSTART:20150602T120000Z
DTEND:20150602T124000Z
LOCATION:Hull - Pitch 1
CONTACT:
SUMMARY:SS MONSTERS VS. TEAM REQ
DESCRIPTION:League Name: U7'S White League\nGame Type: Regular\nGame Status
 : Complete\nHome Team: SS MONSTERS\nAway Team: TEAM REQ\nHome Score: 1\nAw
 ay Score: 9
END:VEVENT
END:VCALENDAR
