BEGIN:VCALENDAR
VERSION:2.0
PRODID:-//EZFacility.com, Inc.//EZL 2.5.5.28621
BEGIN:VEVENT
UID:9167347@ezleagues.ezfacility.com
DTSTAMP:20260426T034059Z
CREATED:20260426T034059Z
DTSTART:20160310T014000Z
DTEND:20160310T023000Z
LOCATION:Harmans Premier Field #4
CONTACT:
SUMMARY:Kakaismessi VS. Franks and Beans
DESCRIPTION:League Name: Wed Coed 4th Eagles \nGame Type: Regular\nGame Sta
 tus: Complete\nHome Team: Kakaismessi\nAway Team: Franks and Beans\nHome S
 core: 3\nAway Score: 1
END:VEVENT
BEGIN:VEVENT
UID:9167357@ezleagues.ezfacility.com
DTSTAMP:20260426T034059Z
CREATED:20260426T034059Z
DTSTART:20160316T230000Z
DTEND:20160316T235000Z
LOCATION:Harmans Premier Field #5
CONTACT:
SUMMARY:Kakaismessi VS. tocarspa.com
DESCRIPTION:League Name: Wed Coed 4th Eagles \nGame Type: Regular\nGame Sta
 tus: Complete\nHome Team: Kakaismessi\nAway Team: tocarspa.com\nHome Score
 : 7\nAway Score: 5
END:VEVENT
BEGIN:VEVENT
UID:9167367@ezleagues.ezfacility.com
DTSTAMP:20260426T034059Z
CREATED:20260426T034059Z
DTSTART:20160324T004000Z
DTEND:20160324T013000Z
LOCATION:Harmans Premier Field #5
CONTACT:
SUMMARY:Kakaismessi VS. Wednesday Nightmare
DESCRIPTION:League Name: Wed Coed 4th Eagles \nGame Type: Regular\nGame Sta
 tus: Complete\nHome Team: Kakaismessi\nAway Team: Wednesday Nightmare\nHom
 e Score: 2\nAway Score: 7
END:VEVENT
BEGIN:VEVENT
UID:9167377@ezleagues.ezfacility.com
DTSTAMP:20260426T034059Z
CREATED:20260426T034059Z
DTSTART:20160331T022000Z
DTEND:20160331T031000Z
LOCATION:Harmans Premier Field #5
CONTACT:
SUMMARY:Kakaismessi VS. Latin Kings
DESCRIPTION:League Name: Wed Coed 4th Eagles \nGame Type: Regular\nGame Sta
 tus: Complete\nHome Team: Kakaismessi\nAway Team: Latin Kings\nHome Score:
  4\nAway Score: 6
END:VEVENT
BEGIN:VEVENT
UID:9167387@ezleagues.ezfacility.com
DTSTAMP:20260426T034059Z
CREATED:20260426T034059Z
DTSTART:20160407T013000Z
DTEND:20160407T022000Z
LOCATION:Harmans Premier Field #5
CONTACT:
SUMMARY:Orange Team VS. Kakaismessi
DESCRIPTION:League Name: Wed Coed 4th Eagles \nGame Type: Regular\nGame Sta
 tus: Complete\nHome Team: Orange Team\nAway Team: Kakaismessi\nHome Score:
  4\nAway Score: 3
END:VEVENT
BEGIN:VEVENT
UID:9167397@ezleagues.ezfacility.com
DTSTAMP:20260426T034059Z
CREATED:20260426T034059Z
DTSTART:20160414T004000Z
DTEND:20160414T013000Z
LOCATION:Harmans Premier Field #4
CONTACT:
SUMMARY:Franks and Beans VS. Kakaismessi
DESCRIPTION:League Name: Wed Coed 4th Eagles \nGame Type: Regular\nGame Sta
 tus: Complete\nHome Team: Franks and Beans\nAway Team: Kakaismessi\nHome S
 core: 2\nAway Score: 5
END:VEVENT
BEGIN:VEVENT
UID:9167407@ezleagues.ezfacility.com
DTSTAMP:20260426T034059Z
CREATED:20260426T034059Z
DTSTART:20160421T004000Z
DTEND:20160421T013000Z
LOCATION:Harmans Premier Field #4
CONTACT:
SUMMARY:tocarspa.com VS. Kakaismessi
DESCRIPTION:League Name: Wed Coed 4th Eagles \nGame Type: Regular\nGame Sta
 tus: Complete\nHome Team: tocarspa.com\nAway Team: Kakaismessi\nHome Score
 : 4\nAway Score: 5
END:VEVENT
BEGIN:VEVENT
UID:9298447@ezleagues.ezfacility.com
DTSTAMP:20260426T034059Z
CREATED:20260426T034059Z
DTSTART:20160427T235000Z
DTEND:20160428T005000Z
LOCATION:Harmans Premier Field #5
CONTACT:
SUMMARY:Wednesday Nightmare VS. Kakaismessi
DESCRIPTION:League Name: Wed Coed 4th Eagles \nGame Type: Regular\nGame Sta
 tus: Complete\nHome Team: Wednesday Nightmare\nAway Team: Kakaismessi\nHom
 e Score: 4\nAway Score: 8
END:VEVENT
BEGIN:VEVENT
UID:9317289@ezleagues.ezfacility.com
DTSTAMP:20260426T034059Z
CREATED:20260426T034059Z
DTSTART:20160505T004000Z
DTEND:20160505T014000Z
LOCATION:Harmans Premier Field #4
CONTACT:
SUMMARY:Latin Kings VS. Kakaismessi
DESCRIPTION:League Name: Wed Coed 4th Eagles \nGame Type: Regular\nGame Sta
 tus: Complete\nHome Team: Latin Kings\nAway Team: Kakaismessi\nHome Score:
  3\nAway Score: 2
END:VEVENT
END:VCALENDAR
