BEGIN:VCALENDAR
VERSION:2.0
PRODID:-//EZFacility.com, Inc.//EZL 2.5.5.28621
BEGIN:VEVENT
UID:9167349@ezleagues.ezfacility.com
DTSTAMP:20260425T225115Z
CREATED:20260425T225115Z
DTSTART:20160310T041000Z
DTEND:20160310T050000Z
LOCATION:Harmans Premier Field #5
CONTACT:
SUMMARY:Wednesday Nightmare VS. Latin Kings
DESCRIPTION:League Name: Wed Coed 4th Eagles \nGame Type: Regular\nGame Sta
 tus: Complete\nHome Team: Wednesday Nightmare\nAway Team: Latin Kings\nHom
 e Score: 0\nAway Score: 3
END:VEVENT
BEGIN:VEVENT
UID:9167359@ezleagues.ezfacility.com
DTSTAMP:20260425T225115Z
CREATED:20260425T225115Z
DTSTART:20160317T022000Z
DTEND:20160317T031000Z
LOCATION:Harmans Premier Field #5
CONTACT:
SUMMARY:Latin Kings VS. Orange Team
DESCRIPTION:League Name: Wed Coed 4th Eagles \nGame Type: Regular\nGame Sta
 tus: Complete\nHome Team: Latin Kings\nAway Team: Orange Team\nHome Score:
  5\nAway Score: 9
END:VEVENT
BEGIN:VEVENT
UID:9167368@ezleagues.ezfacility.com
DTSTAMP:20260425T225115Z
CREATED:20260425T225115Z
DTSTART:20160324T022000Z
DTEND:20160324T031000Z
LOCATION:Harmans Premier Field #4
CONTACT:
SUMMARY:tocarspa.com VS. Latin Kings
DESCRIPTION:League Name: Wed Coed 4th Eagles \nGame Type: Regular\nGame Sta
 tus: Complete\nHome Team: tocarspa.com\nAway Team: Latin Kings\nHome Score
 : 3\nAway Score: 6
END:VEVENT
BEGIN:VEVENT
UID:9167377@ezleagues.ezfacility.com
DTSTAMP:20260425T225115Z
CREATED:20260425T225115Z
DTSTART:20160331T022000Z
DTEND:20160331T031000Z
LOCATION:Harmans Premier Field #5
CONTACT:
SUMMARY:Kakaismessi VS. Latin Kings
DESCRIPTION:League Name: Wed Coed 4th Eagles \nGame Type: Regular\nGame Sta
 tus: Complete\nHome Team: Kakaismessi\nAway Team: Latin Kings\nHome Score:
  4\nAway Score: 6
END:VEVENT
BEGIN:VEVENT
UID:9167388@ezleagues.ezfacility.com
DTSTAMP:20260425T225115Z
CREATED:20260425T225115Z
DTSTART:20160407T004000Z
DTEND:20160407T013000Z
LOCATION:Harmans Premier Field #4
CONTACT:
SUMMARY:Latin Kings VS. Franks and Beans
DESCRIPTION:League Name: Wed Coed 4th Eagles \nGame Type: Regular\nGame Sta
 tus: Complete\nHome Team: Latin Kings\nAway Team: Franks and Beans\nHome S
 core: 3\nAway Score: 2
END:VEVENT
BEGIN:VEVENT
UID:9167399@ezleagues.ezfacility.com
DTSTAMP:20260425T225115Z
CREATED:20260425T225115Z
DTSTART:20160414T031000Z
DTEND:20160414T040000Z
LOCATION:Harmans Premier Field #5
CONTACT:
SUMMARY:Latin Kings VS. Wednesday Nightmare
DESCRIPTION:League Name: Wed Coed 4th Eagles \nGame Type: Regular\nGame Sta
 tus: Complete\nHome Team: Latin Kings\nAway Team: Wednesday Nightmare\nHom
 e Score: 4\nAway Score: 5
END:VEVENT
BEGIN:VEVENT
UID:9167409@ezleagues.ezfacility.com
DTSTAMP:20260425T225115Z
CREATED:20260425T225115Z
DTSTART:20160421T022000Z
DTEND:20160421T031000Z
LOCATION:Harmans Premier Field #4
CONTACT:
SUMMARY:Orange Team VS. Latin Kings
DESCRIPTION:League Name: Wed Coed 4th Eagles \nGame Type: Regular\nGame Sta
 tus: Complete\nHome Team: Orange Team\nAway Team: Latin Kings\nHome Score:
  6\nAway Score: 5
END:VEVENT
BEGIN:VEVENT
UID:9298448@ezleagues.ezfacility.com
DTSTAMP:20260425T225115Z
CREATED:20260425T225115Z
DTSTART:20160428T013000Z
DTEND:20160428T023000Z
LOCATION:Harmans Premier Field #4
CONTACT:
SUMMARY:Latin Kings VS. Orange Team
DESCRIPTION:League Name: Wed Coed 4th Eagles \nGame Type: Regular\nGame Sta
 tus: Complete\nHome Team: Latin Kings\nAway Team: Orange Team\nHome Score:
  6\nAway Score: 4
END:VEVENT
BEGIN:VEVENT
UID:9317289@ezleagues.ezfacility.com
DTSTAMP:20260425T225115Z
CREATED:20260425T225115Z
DTSTART:20160505T004000Z
DTEND:20160505T014000Z
LOCATION:Harmans Premier Field #4
CONTACT:
SUMMARY:Latin Kings VS. Kakaismessi
DESCRIPTION:League Name: Wed Coed 4th Eagles \nGame Type: Regular\nGame Sta
 tus: Complete\nHome Team: Latin Kings\nAway Team: Kakaismessi\nHome Score:
  3\nAway Score: 2
END:VEVENT
END:VCALENDAR
