BEGIN:VCALENDAR
VERSION:2.0
PRODID:-//EZFacility.com, Inc.//EZL 2.5.5.28621
BEGIN:VEVENT
UID:8397762@ezleagues.ezfacility.com
DTSTAMP:20260422T140220Z
CREATED:20260422T140220Z
DTSTART:20150717T031500Z
DTEND:20150717T041500Z
LOCATION:Field 1
CONTACT:
SUMMARY:Blackwater VS. Flying Force
DESCRIPTION:League Name: Season 4 Thursday Men's D1- July 16th, 2015\nGame 
 Type: Regular\nGame Status: Complete\nHome Team: Blackwater\nAway Team: Fl
 ying Force\nHome Score: 12\nAway Score: 1
END:VEVENT
BEGIN:VEVENT
UID:8397763@ezleagues.ezfacility.com
DTSTAMP:20260422T140220Z
CREATED:20260422T140220Z
DTSTART:20150717T041500Z
DTEND:20150717T051500Z
LOCATION:Field 1
CONTACT:
SUMMARY:Flying Force VS. Blackwater
DESCRIPTION:League Name: Season 4 Thursday Men's D1- July 16th, 2015\nGame 
 Type: Regular\nGame Status: Complete\nHome Team: Flying Force\nAway Team: 
 Blackwater\nHome Score: 7\nAway Score: 24
END:VEVENT
BEGIN:VEVENT
UID:8411005@ezleagues.ezfacility.com
DTSTAMP:20260422T140220Z
CREATED:20260422T140220Z
DTSTART:20150724T011500Z
DTEND:20150724T021500Z
LOCATION:Field 5
CONTACT:
SUMMARY:Blackwater VS. Team Wear It
DESCRIPTION:League Name: Season 4 Thursday Men's D1- July 16th, 2015\nGame 
 Type: Regular\nGame Status: Complete\nHome Team: Blackwater\nAway Team: Te
 am Wear It\nHome Score: 9\nAway Score: 3
END:VEVENT
BEGIN:VEVENT
UID:8411007@ezleagues.ezfacility.com
DTSTAMP:20260422T140220Z
CREATED:20260422T140220Z
DTSTART:20150724T031500Z
DTEND:20150724T041500Z
LOCATION:Field 5
CONTACT:
SUMMARY:Midlife Crisis VS. Blackwater
DESCRIPTION:League Name: Season 4 Thursday Men's D1- July 16th, 2015\nGame 
 Type: Regular\nGame Status: Complete\nHome Team: Midlife Crisis\nAway Team
 : Blackwater\nHome Score: 15\nAway Score: 7
END:VEVENT
BEGIN:VEVENT
UID:8414683@ezleagues.ezfacility.com
DTSTAMP:20260422T140220Z
CREATED:20260422T140220Z
DTSTART:20150731T031500Z
DTEND:20150731T041500Z
LOCATION:Field 6
CONTACT:
SUMMARY:Blackwater VS. Coyote Towing
DESCRIPTION:League Name: Season 4 Thursday Men's D1- July 16th, 2015\nGame 
 Type: Regular\nGame Status: Complete\nHome Team: Blackwater\nAway Team: Co
 yote Towing\nHome Score: 16\nAway Score: 6
END:VEVENT
BEGIN:VEVENT
UID:8414684@ezleagues.ezfacility.com
DTSTAMP:20260422T140220Z
CREATED:20260422T140220Z
DTSTART:20150731T041500Z
DTEND:20150731T051500Z
LOCATION:Field 6
CONTACT:
SUMMARY:Coyote Towing VS. Blackwater
DESCRIPTION:League Name: Season 4 Thursday Men's D1- July 16th, 2015\nGame 
 Type: Regular\nGame Status: Complete\nHome Team: Coyote Towing\nAway Team:
  Blackwater\nHome Score: 13\nAway Score: 16
END:VEVENT
BEGIN:VEVENT
UID:8414690@ezleagues.ezfacility.com
DTSTAMP:20260422T140220Z
CREATED:20260422T140220Z
DTSTART:20150807T021500Z
DTEND:20150807T031500Z
LOCATION:Field 2
CONTACT:
SUMMARY:Blackwater VS. Mammas Boys
DESCRIPTION:League Name: Season 4 Thursday Men's D1- July 16th, 2015\nGame 
 Type: Regular\nGame Status: Complete\nHome Team: Blackwater\nAway Team: Ma
 mmas Boys\nHome Score: 16\nAway Score: 2
END:VEVENT
BEGIN:VEVENT
UID:8414689@ezleagues.ezfacility.com
DTSTAMP:20260422T140220Z
CREATED:20260422T140220Z
DTSTART:20150807T031500Z
DTEND:20150807T041500Z
LOCATION:Field 2
CONTACT:
SUMMARY:The Heights Sports Bar VS. Blackwater
DESCRIPTION:League Name: Season 4 Thursday Men's D1- July 16th, 2015\nGame 
 Type: Regular\nGame Status: Complete\nHome Team: The Heights Sports Bar\nA
 way Team: Blackwater\nHome Score: 20\nAway Score: 10
END:VEVENT
BEGIN:VEVENT
UID:8414706@ezleagues.ezfacility.com
DTSTAMP:20260422T140220Z
CREATED:20260422T140220Z
DTSTART:20150814T021500Z
DTEND:20150814T031500Z
LOCATION:Field 5
CONTACT:
SUMMARY:Flying Force VS. Blackwater
DESCRIPTION:League Name: Season 4 Thursday Men's D1- July 16th, 2015\nGame 
 Type: Regular\nGame Status: Complete\nHome Team: Flying Force\nAway Team: 
 Blackwater\nHome Score: 3\nAway Score: 14
END:VEVENT
BEGIN:VEVENT
UID:8414705@ezleagues.ezfacility.com
DTSTAMP:20260422T140220Z
CREATED:20260422T140220Z
DTSTART:20150814T031500Z
DTEND:20150814T041500Z
LOCATION:Field 5
CONTACT:
SUMMARY:Blackwater VS. Flying Force
DESCRIPTION:League Name: Season 4 Thursday Men's D1- July 16th, 2015\nGame 
 Type: Regular\nGame Status: Complete\nHome Team: Blackwater\nAway Team: Fl
 ying Force\nHome Score: 9\nAway Score: 9
END:VEVENT
BEGIN:VEVENT
UID:8414715@ezleagues.ezfacility.com
DTSTAMP:20260422T140220Z
CREATED:20260422T140220Z
DTSTART:20150821T031500Z
DTEND:20150821T041500Z
LOCATION:Field 6
CONTACT:
SUMMARY:Blackwater VS. Team Wear It
DESCRIPTION:League Name: Season 4 Thursday Men's D1- July 16th, 2015\nGame 
 Type: Regular\nGame Status: Complete\nHome Team: Blackwater\nAway Team: Te
 am Wear It\nHome Score: 10\nAway Score: 0
END:VEVENT
BEGIN:VEVENT
UID:8414716@ezleagues.ezfacility.com
DTSTAMP:20260422T140220Z
CREATED:20260422T140220Z
DTSTART:20150821T041500Z
DTEND:20150821T051500Z
LOCATION:Field 6
CONTACT:
SUMMARY:Team Wear It VS. Blackwater
DESCRIPTION:League Name: Season 4 Thursday Men's D1- July 16th, 2015\nGame 
 Type: Regular\nGame Status: Complete\nHome Team: Team Wear It\nAway Team: 
 Blackwater\nHome Score: 10\nAway Score: 16
END:VEVENT
BEGIN:VEVENT
UID:8414724@ezleagues.ezfacility.com
DTSTAMP:20260422T140220Z
CREATED:20260422T140220Z
DTSTART:20150828T011500Z
DTEND:20150828T021500Z
LOCATION:Field 1
CONTACT:
SUMMARY:Blackwater VS. OBI
DESCRIPTION:League Name: Season 4 Thursday Men's D1- July 16th, 2015\nGame 
 Type: Regular\nGame Status: Complete\nHome Team: Blackwater\nAway Team: OB
 I\nHome Score: 15\nAway Score: 4
END:VEVENT
BEGIN:VEVENT
UID:8414725@ezleagues.ezfacility.com
DTSTAMP:20260422T140220Z
CREATED:20260422T140220Z
DTSTART:20150828T021500Z
DTEND:20150828T031500Z
LOCATION:Field 1
CONTACT:
SUMMARY:OBI VS. Blackwater
DESCRIPTION:League Name: Season 4 Thursday Men's D1- July 16th, 2015\nGame 
 Type: Regular\nGame Status: Complete\nHome Team: OBI\nAway Team: Blackwate
 r\nHome Score: 1\nAway Score: 12
END:VEVENT
END:VCALENDAR
