BEGIN:VCALENDAR
VERSION:2.0
PRODID:-//EZFacility.com, Inc.//EZL 2.5.5.28621
BEGIN:VEVENT
UID:8397768@ezleagues.ezfacility.com
DTSTAMP:20260424T184813Z
CREATED:20260424T184813Z
DTSTART:20150717T031500Z
DTEND:20150717T041500Z
LOCATION:Field 4
CONTACT:
SUMMARY:Midlife Crisis VS. OBI
DESCRIPTION:League Name: Season 4 Thursday Men's D1- July 16th, 2015\nGame 
 Type: Regular\nGame Status: Complete\nHome Team: Midlife Crisis\nAway Team
 : OBI\nHome Score: 8\nAway Score: 6
END:VEVENT
BEGIN:VEVENT
UID:8397769@ezleagues.ezfacility.com
DTSTAMP:20260424T184813Z
CREATED:20260424T184813Z
DTSTART:20150717T041500Z
DTEND:20150717T051500Z
LOCATION:Field 4
CONTACT:
SUMMARY:OBI VS. Midlife Crisis
DESCRIPTION:League Name: Season 4 Thursday Men's D1- July 16th, 2015\nGame 
 Type: Regular\nGame Status: Complete\nHome Team: OBI\nAway Team: Midlife C
 risis\nHome Score: 6\nAway Score: 11
END:VEVENT
BEGIN:VEVENT
UID:8411008@ezleagues.ezfacility.com
DTSTAMP:20260424T184813Z
CREATED:20260424T184813Z
DTSTART:20150724T011500Z
DTEND:20150724T021500Z
LOCATION:Field 1
CONTACT:
SUMMARY:Flying Force VS. OBI
DESCRIPTION:League Name: Season 4 Thursday Men's D1- July 16th, 2015\nGame 
 Type: Regular\nGame Status: Complete\nHome Team: Flying Force\nAway Team: 
 OBI\nHome Score: 6\nAway Score: 9
END:VEVENT
BEGIN:VEVENT
UID:8411009@ezleagues.ezfacility.com
DTSTAMP:20260424T184813Z
CREATED:20260424T184813Z
DTSTART:20150724T021500Z
DTEND:20150724T031500Z
LOCATION:Field 1
CONTACT:
SUMMARY:OBI VS. Flying Force
DESCRIPTION:League Name: Season 4 Thursday Men's D1- July 16th, 2015\nGame 
 Type: Regular\nGame Status: Complete\nHome Team: OBI\nAway Team: Flying Fo
 rce\nHome Score: 9\nAway Score: 6
END:VEVENT
BEGIN:VEVENT
UID:8414686@ezleagues.ezfacility.com
DTSTAMP:20260424T184813Z
CREATED:20260424T184813Z
DTSTART:20150731T031500Z
DTEND:20150731T041500Z
LOCATION:Field 1
CONTACT:
SUMMARY:OBI VS. Team Wear It
DESCRIPTION:League Name: Season 4 Thursday Men's D1- July 16th, 2015\nGame 
 Type: Regular\nGame Status: Complete\nHome Team: OBI\nAway Team: Team Wear
  It\nHome Score: 3\nAway Score: 6
END:VEVENT
BEGIN:VEVENT
UID:8414685@ezleagues.ezfacility.com
DTSTAMP:20260424T184813Z
CREATED:20260424T184813Z
DTSTART:20150731T041500Z
DTEND:20150731T051500Z
LOCATION:Field 1
CONTACT:
SUMMARY:Team Wear It VS. OBI
DESCRIPTION:League Name: Season 4 Thursday Men's D1- July 16th, 2015\nGame 
 Type: Regular\nGame Status: Complete\nHome Team: Team Wear It\nAway Team: 
 OBI\nHome Score: 17\nAway Score: 3
END:VEVENT
BEGIN:VEVENT
UID:8414697@ezleagues.ezfacility.com
DTSTAMP:20260424T184813Z
CREATED:20260424T184813Z
DTSTART:20150807T041500Z
DTEND:20150807T051500Z
LOCATION:Field 2
CONTACT:
SUMMARY:Coyote Towing VS. OBI
DESCRIPTION:League Name: Season 4 Thursday Men's D1- July 16th, 2015\nGame 
 Type: Regular\nGame Status: Complete\nHome Team: Coyote Towing\nAway Team:
  OBI\nHome Score: 11\nAway Score: 12
END:VEVENT
BEGIN:VEVENT
UID:8414698@ezleagues.ezfacility.com
DTSTAMP:20260424T184813Z
CREATED:20260424T184813Z
DTSTART:20150807T051500Z
DTEND:20150807T061500Z
LOCATION:Field 2
CONTACT:
SUMMARY:OBI VS. Coyote Towing
DESCRIPTION:League Name: Season 4 Thursday Men's D1- July 16th, 2015\nGame 
 Type: Regular\nGame Status: Complete\nHome Team: OBI\nAway Team: Coyote To
 wing\nHome Score: 9\nAway Score: 13
END:VEVENT
BEGIN:VEVENT
UID:8414710@ezleagues.ezfacility.com
DTSTAMP:20260424T184813Z
CREATED:20260424T184813Z
DTSTART:20150814T011500Z
DTEND:20150814T021500Z
LOCATION:Field 4
CONTACT:
SUMMARY:OBI VS. Mammas Boys
DESCRIPTION:League Name: Season 4 Thursday Men's D1- July 16th, 2015\nGame 
 Type: Regular\nGame Status: Complete\nHome Team: OBI\nAway Team: Mammas Bo
 ys\nHome Score: 9\nAway Score: 20
END:VEVENT
BEGIN:VEVENT
UID:8414711@ezleagues.ezfacility.com
DTSTAMP:20260424T184813Z
CREATED:20260424T184813Z
DTSTART:20150814T021500Z
DTEND:20150814T031500Z
LOCATION:Field 4
CONTACT:
SUMMARY:Mammas Boys VS. OBI
DESCRIPTION:League Name: Season 4 Thursday Men's D1- July 16th, 2015\nGame 
 Type: Regular\nGame Status: Complete\nHome Team: Mammas Boys\nAway Team: O
 BI\nHome Score: 9\nAway Score: 8
END:VEVENT
BEGIN:VEVENT
UID:8414713@ezleagues.ezfacility.com
DTSTAMP:20260424T184813Z
CREATED:20260424T184813Z
DTSTART:20150821T021500Z
DTEND:20150821T031500Z
LOCATION:Field 5
CONTACT:
SUMMARY:The Heights Sports Bar VS. OBI
DESCRIPTION:League Name: Season 4 Thursday Men's D1- July 16th, 2015\nGame 
 Type: Regular\nGame Status: Complete\nHome Team: The Heights Sports Bar\nA
 way Team: OBI\nHome Score: 14\nAway Score: 6
END:VEVENT
BEGIN:VEVENT
UID:8414714@ezleagues.ezfacility.com
DTSTAMP:20260424T184813Z
CREATED:20260424T184813Z
DTSTART:20150821T031500Z
DTEND:20150821T041500Z
LOCATION:Field 5
CONTACT:
SUMMARY:OBI VS. Murphy's Law
DESCRIPTION:League Name: Season 4 Thursday Men's D1- July 16th, 2015\nGame 
 Type: Regular\nGame Status: Complete\nHome Team: OBI\nAway Team: Murphy's 
 Law\nHome Score: 14\nAway Score: 1
END:VEVENT
BEGIN:VEVENT
UID:8414724@ezleagues.ezfacility.com
DTSTAMP:20260424T184813Z
CREATED:20260424T184813Z
DTSTART:20150828T011500Z
DTEND:20150828T021500Z
LOCATION:Field 1
CONTACT:
SUMMARY:Blackwater VS. OBI
DESCRIPTION:League Name: Season 4 Thursday Men's D1- July 16th, 2015\nGame 
 Type: Regular\nGame Status: Complete\nHome Team: Blackwater\nAway Team: OB
 I\nHome Score: 15\nAway Score: 4
END:VEVENT
BEGIN:VEVENT
UID:8414725@ezleagues.ezfacility.com
DTSTAMP:20260424T184813Z
CREATED:20260424T184813Z
DTSTART:20150828T021500Z
DTEND:20150828T031500Z
LOCATION:Field 1
CONTACT:
SUMMARY:OBI VS. Blackwater
DESCRIPTION:League Name: Season 4 Thursday Men's D1- July 16th, 2015\nGame 
 Type: Regular\nGame Status: Complete\nHome Team: OBI\nAway Team: Blackwate
 r\nHome Score: 1\nAway Score: 12
END:VEVENT
END:VCALENDAR
