BEGIN:VCALENDAR
VERSION:2.0
PRODID:-//EZFacility.com, Inc.//EZL 2.5.5.28621
BEGIN:VEVENT
UID:8520254@ezleagues.ezfacility.com
DTSTAMP:20260426T034823Z
CREATED:20260426T034823Z
DTSTART:20151009T020000Z
DTEND:20151009T030000Z
LOCATION:Bridgeville RollerPlex
CONTACT:
SUMMARY:Venom VS. Remy Boyz
DESCRIPTION:League Name: z Archive 2015  Fall PUCK   NORTH\nGame Type: Regu
 lar\nGame Status: Complete\nHome Team: Venom\nAway Team: Remy Boyz\nHome S
 core: 6\nAway Score: 2
END:VEVENT
BEGIN:VEVENT
UID:8520258@ezleagues.ezfacility.com
DTSTAMP:20260426T034823Z
CREATED:20260426T034823Z
DTSTART:20151016T020000Z
DTEND:20151016T030000Z
LOCATION:Bridgeville RollerPlex
CONTACT:
SUMMARY:Remy Boyz VS. Mamalukes
DESCRIPTION:League Name: z Archive 2015  Fall PUCK   NORTH\nGame Type: Regu
 lar\nGame Status: Complete\nHome Team: Remy Boyz\nAway Team: Mamalukes\nHo
 me Score: 4\nAway Score: 5
END:VEVENT
BEGIN:VEVENT
UID:8520261@ezleagues.ezfacility.com
DTSTAMP:20260426T034823Z
CREATED:20260426T034823Z
DTSTART:20151022T010000Z
DTEND:20151022T020000Z
LOCATION:Bridgeville RollerPlex
CONTACT:
SUMMARY:Remy Boyz VS. FireHawks
DESCRIPTION:League Name: z Archive 2015  Fall PUCK   NORTH\nGame Type: Regu
 lar\nGame Status: Complete\nHome Team: Remy Boyz\nAway Team: FireHawks\nHo
 me Score: 8\nAway Score: 7
END:VEVENT
BEGIN:VEVENT
UID:8520264@ezleagues.ezfacility.com
DTSTAMP:20260426T034823Z
CREATED:20260426T034823Z
DTSTART:20151029T010000Z
DTEND:20151029T020000Z
LOCATION:Bridgeville RollerPlex
CONTACT:
SUMMARY:Team Molson VS. Remy Boyz
DESCRIPTION:League Name: z Archive 2015  Fall PUCK   NORTH\nGame Type: Regu
 lar\nGame Status: Complete\nHome Team: Team Molson\nAway Team: Remy Boyz\n
 Home Score: 9\nAway Score: 5
END:VEVENT
BEGIN:VEVENT
UID:8520267@ezleagues.ezfacility.com
DTSTAMP:20260426T034823Z
CREATED:20260426T034823Z
DTSTART:20151105T020000Z
DTEND:20151105T030000Z
LOCATION:Bridgeville RollerPlex
CONTACT:
SUMMARY:Coon and Friends VS. Remy Boyz
DESCRIPTION:League Name: z Archive 2015  Fall PUCK   NORTH\nGame Type: Regu
 lar\nGame Status: Complete\nHome Team: Coon and Friends\nAway Team: Remy B
 oyz\nHome Score: 4\nAway Score: 3
END:VEVENT
BEGIN:VEVENT
UID:8520272@ezleagues.ezfacility.com
DTSTAMP:20260426T034823Z
CREATED:20260426T034823Z
DTSTART:20151112T030000Z
DTEND:20151112T040000Z
LOCATION:Bridgeville RollerPlex
CONTACT:
SUMMARY:Remy Boyz VS. Creeping Death
DESCRIPTION:League Name: z Archive 2015  Fall PUCK   NORTH\nGame Type: Regu
 lar\nGame Status: Complete\nHome Team: Remy Boyz\nAway Team: Creeping Deat
 h\nHome Score: 6\nAway Score: 3
END:VEVENT
BEGIN:VEVENT
UID:8520277@ezleagues.ezfacility.com
DTSTAMP:20260426T034823Z
CREATED:20260426T034823Z
DTSTART:20151120T020000Z
DTEND:20151120T030000Z
LOCATION:Bridgeville RollerPlex
CONTACT:
SUMMARY:Remy Boyz VS. North Baldwin
DESCRIPTION:League Name: z Archive 2015  Fall PUCK   NORTH\nGame Type: Regu
 lar\nGame Status: Complete\nHome Team: Remy Boyz\nAway Team: North Baldwin
 \nHome Score: 4\nAway Score: 12
END:VEVENT
BEGIN:VEVENT
UID:8520286@ezleagues.ezfacility.com
DTSTAMP:20260426T034823Z
CREATED:20260426T034823Z
DTSTART:20151204T020000Z
DTEND:20151204T030000Z
LOCATION:Bridgeville RollerPlex
CONTACT:
SUMMARY:Mamalukes VS. Remy Boyz
DESCRIPTION:League Name: z Archive 2015  Fall PUCK   NORTH\nGame Type: Regu
 lar\nGame Status: Complete\nHome Team: Mamalukes\nAway Team: Remy Boyz\nHo
 me Score: 6\nAway Score: 3
END:VEVENT
BEGIN:VEVENT
UID:8520289@ezleagues.ezfacility.com
DTSTAMP:20260426T034823Z
CREATED:20260426T034823Z
DTSTART:20151210T030000Z
DTEND:20151210T040000Z
LOCATION:Bridgeville RollerPlex
CONTACT:
SUMMARY:FireHawks VS. Remy Boyz
DESCRIPTION:League Name: z Archive 2015  Fall PUCK   NORTH\nGame Type: Regu
 lar\nGame Status: Complete\nHome Team: FireHawks\nAway Team: Remy Boyz\nHo
 me Score: 0\nAway Score: 8
END:VEVENT
BEGIN:VEVENT
UID:8520282@ezleagues.ezfacility.com
DTSTAMP:20260426T034823Z
CREATED:20260426T034823Z
DTSTART:20151218T030000Z
DTEND:20151218T040000Z
LOCATION:Bridgeville RollerPlex
CONTACT:
SUMMARY:Remy Boyz VS. Venom
DESCRIPTION:League Name: z Archive 2015  Fall PUCK   NORTH\nGame Type: Regu
 lar\nGame Status: Complete\nHome Team: Remy Boyz\nAway Team: Venom\nHome S
 core: 2\nAway Score: 3
END:VEVENT
BEGIN:VEVENT
UID:8874132@ezleagues.ezfacility.com
DTSTAMP:20260426T034823Z
CREATED:20260426T034823Z
DTSTART:20151224T030000Z
DTEND:20151224T040000Z
LOCATION:Bridgeville RollerPlex
CONTACT:
SUMMARY:Venom VS. Remy Boyz
DESCRIPTION:League Name: z Archive 2015  Fall PUCK   NORTH\nGame Type: Post
 season\nGame Status: Complete\nHome Team: Venom\nAway Team: Remy Boyz\nHom
 e Score: 7\nAway Score: 4
END:VEVENT
END:VCALENDAR
