BEGIN:VCALENDAR
VERSION:2.0
PRODID:-//EZFacility.com, Inc.//EZL 2.5.5.28621
BEGIN:VEVENT
UID:9017894@ezleagues.ezfacility.com
DTSTAMP:20260421T081627Z
CREATED:20260421T081627Z
DTSTART:20160130T120000Z
DTEND:20160130T125500Z
LOCATION:Jessup Premier Field #1
CONTACT:
SUMMARY:Lightning Bolts VS. Thunder Chivas
DESCRIPTION:League Name: Youth (WINTER 2) SD1 Sat/Sun U10 Boys SILVER\nGame
  Type: Regular\nGame Status: Complete\nHome Team: Lightning Bolts\nAway Te
 am: Thunder Chivas\nHome Score: 1\nAway Score: 4
END:VEVENT
BEGIN:VEVENT
UID:9017926@ezleagues.ezfacility.com
DTSTAMP:20260421T081627Z
CREATED:20260421T081627Z
DTSTART:20160206T163500Z
DTEND:20160206T173000Z
LOCATION:Jessup Premier Field #1
CONTACT:
SUMMARY:Lightning Bolts VS. Lions
DESCRIPTION:League Name: Youth (WINTER 2) SD1 Sat/Sun U10 Boys SILVER\nGame
  Type: Regular\nGame Status: Complete\nHome Team: Lightning Bolts\nAway Te
 am: Lions\nHome Score: 1\nAway Score: 3
END:VEVENT
BEGIN:VEVENT
UID:9017958@ezleagues.ezfacility.com
DTSTAMP:20260421T081627Z
CREATED:20260421T081627Z
DTSTART:20160214T180000Z
DTEND:20160214T185500Z
LOCATION:Jessup Premier Field #2
CONTACT:
SUMMARY:Lightning Bolts VS. Davidsonville U10 Gators
DESCRIPTION:League Name: Youth (WINTER 2) SD1 Sat/Sun U10 Boys SILVER\nGame
  Type: Regular\nGame Status: Complete\nHome Team: Lightning Bolts\nAway Te
 am: Davidsonville U10 Gators\nHome Score: 1\nAway Score: 5
END:VEVENT
BEGIN:VEVENT
UID:9017989@ezleagues.ezfacility.com
DTSTAMP:20260421T081627Z
CREATED:20260421T081627Z
DTSTART:20160220T173000Z
DTEND:20160220T182500Z
LOCATION:Jessup Premier Field #2
CONTACT:
SUMMARY:A3 United VS. Lightning Bolts
DESCRIPTION:League Name: Youth (WINTER 2) SD1 Sat/Sun U10 Boys SILVER\nGame
  Type: Regular\nGame Status: Complete\nHome Team: A3 United\nAway Team: Li
 ghtning Bolts\nHome Score: 4\nAway Score: 2
END:VEVENT
BEGIN:VEVENT
UID:9018019@ezleagues.ezfacility.com
DTSTAMP:20260421T081627Z
CREATED:20260421T081627Z
DTSTART:20160228T170000Z
DTEND:20160228T175500Z
LOCATION:Jessup Premier Field #2
CONTACT:
SUMMARY:Lightning  VS. Lightning Bolts
DESCRIPTION:League Name: Youth (WINTER 2) SD1 Sat/Sun U10 Boys SILVER\nGame
  Type: Regular\nGame Status: Complete\nHome Team: Lightning \nAway Team: L
 ightning Bolts\nHome Score: 6\nAway Score: 0
END:VEVENT
BEGIN:VEVENT
UID:9018049@ezleagues.ezfacility.com
DTSTAMP:20260421T081627Z
CREATED:20260421T081627Z
DTSTART:20160305T173000Z
DTEND:20160305T182500Z
LOCATION:Jessup Premier Field #1
CONTACT:
SUMMARY:Team China VS. Lightning Bolts
DESCRIPTION:League Name: Youth (WINTER 2) SD1 Sat/Sun U10 Boys SILVER\nGame
  Type: Regular\nGame Status: Complete\nHome Team: Team China\nAway Team: L
 ightning Bolts\nHome Score: 0\nAway Score: 2
END:VEVENT
BEGIN:VEVENT
UID:9018079@ezleagues.ezfacility.com
DTSTAMP:20260421T081627Z
CREATED:20260421T081627Z
DTSTART:20160312T154000Z
DTEND:20160312T163500Z
LOCATION:Jessup Premier Field #2
CONTACT:
SUMMARY:FSC Predators VS. Lightning Bolts
DESCRIPTION:League Name: Youth (WINTER 2) SD1 Sat/Sun U10 Boys SILVER\nGame
  Type: Regular\nGame Status: Complete\nHome Team: FSC Predators\nAway Team
 : Lightning Bolts\nHome Score: 6\nAway Score: 0
END:VEVENT
BEGIN:VEVENT
UID:9018109@ezleagues.ezfacility.com
DTSTAMP:20260421T081627Z
CREATED:20260421T081627Z
DTSTART:20160319T144000Z
DTEND:20160319T153500Z
LOCATION:Jessup Premier Field #2
CONTACT:
SUMMARY:Lightning Bolts VS. Dreamers Tigre
DESCRIPTION:League Name: Youth (WINTER 2) SD1 Sat/Sun U10 Boys SILVER\nGame
  Type: Regular\nGame Status: Complete\nHome Team: Lightning Bolts\nAway Te
 am: Dreamers Tigre\nHome Score: 2\nAway Score: 6
END:VEVENT
END:VCALENDAR
