BEGIN:VCALENDAR
VERSION:2.0
PRODID:-//EZFacility.com, Inc.//EZL 2.5.5.28621
BEGIN:VEVENT
UID:9038065@ezleagues.ezfacility.com
DTSTAMP:20260426T033828Z
CREATED:20260426T033828Z
DTSTART:20160202T220000Z
DTEND:20160202T224800Z
LOCATION:Harmans Premier Field #5
CONTACT:
SUMMARY:A3 Attack VS. SAC United White (00-01)
DESCRIPTION:League Name: Youth (WINTER 2) SD2 M-F HS Girls Div 2\nGame Type
 : Regular\nGame Status: Complete\nHome Team: A3 Attack\nAway Team: SAC Uni
 ted White (00-01)\nHome Score: 3\nAway Score: 9
END:VEVENT
BEGIN:VEVENT
UID:9038083@ezleagues.ezfacility.com
DTSTAMP:20260426T033828Z
CREATED:20260426T033828Z
DTSTART:20160212T220000Z
DTEND:20160212T224800Z
LOCATION:Harmans Premier Field #4
CONTACT:
SUMMARY:A3 Attack VS. ASA Roadrunners
DESCRIPTION:League Name: Youth (WINTER 2) SD2 M-F HS Girls Div 2\nGame Type
 : Regular\nGame Status: Complete\nHome Team: A3 Attack\nAway Team: ASA Roa
 drunners\nHome Score: 5\nAway Score: 4
END:VEVENT
BEGIN:VEVENT
UID:9038118@ezleagues.ezfacility.com
DTSTAMP:20260426T033828Z
CREATED:20260426T033828Z
DTSTART:20160222T230000Z
DTEND:20160222T234800Z
LOCATION:Harmans Premier Field #4
CONTACT:
SUMMARY:United White VS. A3 Attack
DESCRIPTION:League Name: Youth (WINTER 2) SD2 M-F HS Girls Div 2\nGame Type
 : Regular\nGame Status: Complete\nHome Team: United White\nAway Team: A3 A
 ttack\nHome Score: 2\nAway Score: 5
END:VEVENT
BEGIN:VEVENT
UID:9038134@ezleagues.ezfacility.com
DTSTAMP:20260426T033828Z
CREATED:20260426T033828Z
DTSTART:20160301T230000Z
DTEND:20160301T234800Z
LOCATION:Harmans Premier Field #5
CONTACT:
SUMMARY:A3 Attack 2 VS. A3 Attack
DESCRIPTION:League Name: Youth (WINTER 2) SD2 M-F HS Girls Div 2\nGame Type
 : Regular\nGame Status: Complete\nHome Team: A3 Attack 2\nAway Team: A3 At
 tack\nHome Score: 1\nAway Score: 6
END:VEVENT
BEGIN:VEVENT
UID:9038150@ezleagues.ezfacility.com
DTSTAMP:20260426T033828Z
CREATED:20260426T033828Z
DTSTART:20160311T220000Z
DTEND:20160311T224800Z
LOCATION:Harmans Premier Field #4
CONTACT:
SUMMARY:Warriors VS. A3 Attack
DESCRIPTION:League Name: Youth (WINTER 2) SD2 M-F HS Girls Div 2\nGame Type
 : Regular\nGame Status: Complete\nHome Team: Warriors\nAway Team: A3 Attac
 k\nHome Score: 5\nAway Score: 3
END:VEVENT
BEGIN:VEVENT
UID:9038166@ezleagues.ezfacility.com
DTSTAMP:20260426T033828Z
CREATED:20260426T033828Z
DTSTART:20160314T220000Z
DTEND:20160314T224800Z
LOCATION:Harmans Premier Field #5
CONTACT:
SUMMARY:SAC U17 United White VS. A3 Attack
DESCRIPTION:League Name: Youth (WINTER 2) SD2 M-F HS Girls Div 2\nGame Type
 : Regular\nGame Status: Complete\nHome Team: SAC U17 United White\nAway Te
 am: A3 Attack\nHome Score: 7\nAway Score: 1
END:VEVENT
BEGIN:VEVENT
UID:9038182@ezleagues.ezfacility.com
DTSTAMP:20260426T033828Z
CREATED:20260426T033828Z
DTSTART:20160324T213000Z
DTEND:20160324T221800Z
LOCATION:Harmans Premier Field #4
CONTACT:
SUMMARY:A3 Attack VS. PSC Thunder
DESCRIPTION:League Name: Youth (WINTER 2) SD2 M-F HS Girls Div 2\nGame Type
 : Regular\nGame Status: Complete\nHome Team: A3 Attack\nAway Team: PSC Thu
 nder\nHome Score: 4\nAway Score: 0
END:VEVENT
BEGIN:VEVENT
UID:9038101@ezleagues.ezfacility.com
DTSTAMP:20260426T033828Z
CREATED:20260426T033828Z
DTSTART:20160326T134500Z
DTEND:20160326T144000Z
LOCATION:Harmans Premier Field #4
CONTACT:
SUMMARY:A3 Attack VS. Lady Eagles
DESCRIPTION:League Name: Youth (WINTER 2) SD2 M-F HS Girls Div 2\nGame Type
 : Regular\nGame Status: Complete\nHome Team: A3 Attack\nAway Team: Lady Ea
 gles\nHome Score: 0\nAway Score: 6
END:VEVENT
END:VCALENDAR
