BEGIN:VCALENDAR
VERSION:2.0
PRODID:-//EZFacility.com, Inc.//EZL 2.5.5.28621
BEGIN:VEVENT
UID:8579526@ezleagues.ezfacility.com
DTSTAMP:20260426T033658Z
CREATED:20260426T033658Z
DTSTART:20151010T030000Z
DTEND:20151010T040000Z
LOCATION:Bridgeville RollerPlex
CONTACT:
SUMMARY:The Gary Roberts Project VS. Canadiens
DESCRIPTION:League Name: z Archive 2015  Fall BALL   SOUTH\nGame Type: Regu
 lar\nGame Status: Complete\nHome Team: The Gary Roberts Project\nAway Team
 : Canadiens\nHome Score: 5\nAway Score: 3
END:VEVENT
BEGIN:VEVENT
UID:8579543@ezleagues.ezfacility.com
DTSTAMP:20260426T033658Z
CREATED:20260426T033658Z
DTSTART:20151019T000000Z
DTEND:20151019T010000Z
LOCATION:Bridgeville RollerPlex
CONTACT:
SUMMARY:Canadiens VS. Beer Bellys
DESCRIPTION:League Name: z Archive 2015  Fall BALL   SOUTH\nGame Type: Regu
 lar\nGame Status: Complete\nHome Team: Canadiens\nAway Team: Beer Bellys\n
 Home Score: 2\nAway Score: 3
END:VEVENT
BEGIN:VEVENT
UID:8579545@ezleagues.ezfacility.com
DTSTAMP:20260426T033658Z
CREATED:20260426T033658Z
DTSTART:20151025T200000Z
DTEND:20151025T210000Z
LOCATION:Bridgeville RollerPlex
CONTACT:
SUMMARY:Canadiens VS. The Avengers
DESCRIPTION:League Name: z Archive 2015  Fall BALL   SOUTH\nGame Type: Regu
 lar\nGame Status: Complete\nHome Team: Canadiens\nAway Team: The Avengers\
 nHome Score: 3\nAway Score: 4
END:VEVENT
BEGIN:VEVENT
UID:8579555@ezleagues.ezfacility.com
DTSTAMP:20260426T033658Z
CREATED:20260426T033658Z
DTSTART:20151101T220000Z
DTEND:20151101T230000Z
LOCATION:Bridgeville RollerPlex
CONTACT:
SUMMARY:Canadiens VS. Iron City Bikes
DESCRIPTION:League Name: z Archive 2015  Fall BALL   SOUTH\nGame Type: Regu
 lar\nGame Status: Complete\nHome Team: Canadiens\nAway Team: Iron City Bik
 es\nHome Score: 4\nAway Score: 7
END:VEVENT
BEGIN:VEVENT
UID:8612819@ezleagues.ezfacility.com
DTSTAMP:20260426T033658Z
CREATED:20260426T033658Z
DTSTART:20151109T020000Z
DTEND:20151109T030000Z
LOCATION:Bridgeville RollerPlex
CONTACT:
SUMMARY:Beer Bellys VS. Canadiens
DESCRIPTION:League Name: z Archive 2015  Fall BALL   SOUTH\nGame Type: Regu
 lar\nGame Status: Complete\nHome Team: Beer Bellys\nAway Team: Canadiens\n
 Home Score: 4\nAway Score: 3
END:VEVENT
BEGIN:VEVENT
UID:8612824@ezleagues.ezfacility.com
DTSTAMP:20260426T033658Z
CREATED:20260426T033658Z
DTSTART:20151115T210000Z
DTEND:20151115T220000Z
LOCATION:Bridgeville RollerPlex
CONTACT:
SUMMARY:Predators VS. Canadiens
DESCRIPTION:League Name: z Archive 2015  Fall BALL   SOUTH\nGame Type: Regu
 lar\nGame Status: Complete\nHome Team: Predators\nAway Team: Canadiens\nHo
 me Score: 5\nAway Score: 6
END:VEVENT
BEGIN:VEVENT
UID:8612827@ezleagues.ezfacility.com
DTSTAMP:20260426T033658Z
CREATED:20260426T033658Z
DTSTART:20151122T200000Z
DTEND:20151122T210000Z
LOCATION:Bridgeville RollerPlex
CONTACT:
SUMMARY:Canadiens VS. The Gary Roberts Project
DESCRIPTION:League Name: z Archive 2015  Fall BALL   SOUTH\nGame Type: Regu
 lar\nGame Status: Complete\nHome Team: Canadiens\nAway Team: The Gary Robe
 rts Project\nHome Score: 3\nAway Score: 6
END:VEVENT
BEGIN:VEVENT
UID:8612883@ezleagues.ezfacility.com
DTSTAMP:20260426T033658Z
CREATED:20260426T033658Z
DTSTART:20151129T230000Z
DTEND:20151130T000000Z
LOCATION:Bridgeville RollerPlex
CONTACT:
SUMMARY:Red Army VS. Canadiens
DESCRIPTION:League Name: z Archive 2015  Fall BALL   SOUTH\nGame Type: Regu
 lar\nGame Status: Complete\nHome Team: Red Army\nAway Team: Canadiens\nHom
 e Score: 1\nAway Score: 6
END:VEVENT
BEGIN:VEVENT
UID:8612887@ezleagues.ezfacility.com
DTSTAMP:20260426T033658Z
CREATED:20260426T033658Z
DTSTART:20151206T230000Z
DTEND:20151207T000000Z
LOCATION:Bridgeville RollerPlex
CONTACT:
SUMMARY:The Avengers VS. Canadiens
DESCRIPTION:League Name: z Archive 2015  Fall BALL   SOUTH\nGame Type: Regu
 lar\nGame Status: Complete\nHome Team: The Avengers\nAway Team: Canadiens\
 nHome Score: 8\nAway Score: 4
END:VEVENT
BEGIN:VEVENT
UID:8612892@ezleagues.ezfacility.com
DTSTAMP:20260426T033658Z
CREATED:20260426T033658Z
DTSTART:20151212T030000Z
DTEND:20151212T040000Z
LOCATION:Bridgeville RollerPlex
CONTACT:
SUMMARY:Canadiens VS. A Team
DESCRIPTION:League Name: z Archive 2015  Fall BALL   SOUTH\nGame Type: Regu
 lar\nGame Status: Complete\nHome Team: Canadiens\nAway Team: A Team\nHome 
 Score: 2\nAway Score: 6
END:VEVENT
BEGIN:VEVENT
UID:8613369@ezleagues.ezfacility.com
DTSTAMP:20260426T033658Z
CREATED:20260426T033658Z
DTSTART:20151220T210000Z
DTEND:20151220T220000Z
LOCATION:Bridgeville RollerPlex
CONTACT:
SUMMARY:Beer Bellys VS. Canadiens
DESCRIPTION:League Name: z Archive 2015  Fall BALL   SOUTH\nGame Type: Post
 season\nGame Status: Complete\nHome Team: Beer Bellys\nAway Team: Canadien
 s\nHome Score: 1\nAway Score: 3
END:VEVENT
BEGIN:VEVENT
UID:8613408@ezleagues.ezfacility.com
DTSTAMP:20260426T033658Z
CREATED:20260426T033658Z
DTSTART:20151227T220000Z
DTEND:20151227T230000Z
LOCATION:Bridgeville RollerPlex
CONTACT:
SUMMARY:Iron City Bikes VS. Canadiens
DESCRIPTION:League Name: z Archive 2015  Fall BALL   SOUTH\nGame Type: Post
 season\nGame Status: Complete\nHome Team: Iron City Bikes\nAway Team: Cana
 diens\nHome Score: 6\nAway Score: 5
END:VEVENT
END:VCALENDAR
