BEGIN:VCALENDAR
VERSION:2.0
PRODID:-//EZFacility.com, Inc.//EZL 2.5.5.28621
BEGIN:VEVENT
UID:8579561@ezleagues.ezfacility.com
DTSTAMP:20260426T033742Z
CREATED:20260426T033742Z
DTSTART:20151011T190000Z
DTEND:20151011T200000Z
LOCATION:Bridgeville RollerPlex
CONTACT:
SUMMARY:Clydesdale Trotters VS. Phantoms
DESCRIPTION:League Name: z Archive 2015  Fall BALL  DEEP SOUTH\nGame Type: 
 Regular\nGame Status: Complete\nHome Team: Clydesdale Trotters\nAway Team:
  Phantoms\nHome Score: 5\nAway Score: 1
END:VEVENT
BEGIN:VEVENT
UID:8579602@ezleagues.ezfacility.com
DTSTAMP:20260426T033742Z
CREATED:20260426T033742Z
DTSTART:20151018T210000Z
DTEND:20151018T220000Z
LOCATION:Bridgeville RollerPlex
CONTACT:
SUMMARY:Phantoms VS. Baby Shox
DESCRIPTION:League Name: z Archive 2015  Fall BALL  DEEP SOUTH\nGame Type: 
 Regular\nGame Status: Complete\nHome Team: Phantoms\nAway Team: Baby Shox\
 nHome Score: 4\nAway Score: 2
END:VEVENT
BEGIN:VEVENT
UID:8579605@ezleagues.ezfacility.com
DTSTAMP:20260426T033742Z
CREATED:20260426T033742Z
DTSTART:20151025T180000Z
DTEND:20151025T190000Z
LOCATION:Bridgeville RollerPlex
CONTACT:
SUMMARY:Sudden Death VS. Phantoms
DESCRIPTION:League Name: z Archive 2015  Fall BALL  DEEP SOUTH\nGame Type: 
 Regular\nGame Status: Complete\nHome Team: Sudden Death\nAway Team: Phanto
 ms\nHome Score: 4\nAway Score: 3
END:VEVENT
BEGIN:VEVENT
UID:8579607@ezleagues.ezfacility.com
DTSTAMP:20260426T033742Z
CREATED:20260426T033742Z
DTSTART:20151031T010000Z
DTEND:20151031T020000Z
LOCATION:Bridgeville RollerPlex
CONTACT:
SUMMARY:Phantoms VS. The Defenders
DESCRIPTION:League Name: z Archive 2015  Fall BALL  DEEP SOUTH\nGame Type: 
 Regular\nGame Status: Complete\nHome Team: Phantoms\nAway Team: The Defend
 ers\nHome Score: 5\nAway Score: 2
END:VEVENT
BEGIN:VEVENT
UID:8612896@ezleagues.ezfacility.com
DTSTAMP:20260426T033742Z
CREATED:20260426T033742Z
DTSTART:20151107T030000Z
DTEND:20151107T040000Z
LOCATION:Bridgeville RollerPlex
CONTACT:
SUMMARY:Phantoms VS. Baby Shox
DESCRIPTION:League Name: z Archive 2015  Fall BALL  DEEP SOUTH\nGame Type: 
 Regular\nGame Status: Complete\nHome Team: Phantoms\nAway Team: Baby Shox\
 nHome Score: 4\nAway Score: 3
END:VEVENT
BEGIN:VEVENT
UID:8612974@ezleagues.ezfacility.com
DTSTAMP:20260426T033742Z
CREATED:20260426T033742Z
DTSTART:20151109T000000Z
DTEND:20151109T010000Z
LOCATION:Bridgeville RollerPlex
CONTACT:
SUMMARY:Disco Dan's Disciples VS. Phantoms
DESCRIPTION:League Name: z Archive 2015  Fall BALL  DEEP SOUTH\nGame Type: 
 Regular\nGame Status: Complete\nHome Team: Disco Dan's Disciples\nAway Tea
 m: Phantoms\nHome Score: 3\nAway Score: 2
END:VEVENT
BEGIN:VEVENT
UID:8613053@ezleagues.ezfacility.com
DTSTAMP:20260426T033742Z
CREATED:20260426T033742Z
DTSTART:20151114T020000Z
DTEND:20151114T030000Z
LOCATION:Bridgeville RollerPlex
CONTACT:
SUMMARY:Phantoms VS. Terrapins
DESCRIPTION:League Name: z Archive 2015  Fall BALL  DEEP SOUTH\nGame Type: 
 Regular\nGame Status: Complete\nHome Team: Phantoms\nAway Team: Terrapins\
 nHome Score: 2\nAway Score: 1
END:VEVENT
BEGIN:VEVENT
UID:8613133@ezleagues.ezfacility.com
DTSTAMP:20260426T033742Z
CREATED:20260426T033742Z
DTSTART:20151121T010000Z
DTEND:20151121T020000Z
LOCATION:Bridgeville RollerPlex
CONTACT:
SUMMARY:Clydesdale Trotters VS. Phantoms
DESCRIPTION:League Name: z Archive 2015  Fall BALL  DEEP SOUTH\nGame Type: 
 Regular\nGame Status: Complete\nHome Team: Clydesdale Trotters\nAway Team:
  Phantoms\nHome Score: 4\nAway Score: 3
END:VEVENT
BEGIN:VEVENT
UID:8613141@ezleagues.ezfacility.com
DTSTAMP:20260426T033742Z
CREATED:20260426T033742Z
DTSTART:20151205T020000Z
DTEND:20151205T030000Z
LOCATION:Bridgeville RollerPlex
CONTACT:
SUMMARY:Phantoms VS. Sudden Death
DESCRIPTION:League Name: z Archive 2015  Fall BALL  DEEP SOUTH\nGame Type: 
 Regular\nGame Status: Complete\nHome Team: Phantoms\nAway Team: Sudden Dea
 th\nHome Score: 0\nAway Score: 2
END:VEVENT
BEGIN:VEVENT
UID:8613147@ezleagues.ezfacility.com
DTSTAMP:20260426T033742Z
CREATED:20260426T033742Z
DTSTART:20151214T010000Z
DTEND:20151214T020000Z
LOCATION:Bridgeville RollerPlex
CONTACT:
SUMMARY:Mustard Tigers VS. Phantoms
DESCRIPTION:League Name: z Archive 2015  Fall BALL  DEEP SOUTH\nGame Type: 
 Regular\nGame Status: Complete\nHome Team: Mustard Tigers\nAway Team: Phan
 toms\nHome Score: 3\nAway Score: 2
END:VEVENT
BEGIN:VEVENT
UID:8613351@ezleagues.ezfacility.com
DTSTAMP:20260426T033742Z
CREATED:20260426T033742Z
DTSTART:20151219T030000Z
DTEND:20151219T040000Z
LOCATION:Bridgeville RollerPlex
CONTACT:
SUMMARY:Terrapins VS. Phantoms
DESCRIPTION:League Name: z Archive 2015  Fall BALL  DEEP SOUTH\nGame Type: 
 Postseason\nGame Status: Complete\nHome Team: Terrapins\nAway Team: Phanto
 ms\nHome Score: 2\nAway Score: 1
END:VEVENT
END:VCALENDAR
