BEGIN:VCALENDAR
VERSION:2.0
PRODID:-//EZFacility.com, Inc.//EZL 2.5.5.28621
BEGIN:VEVENT
UID:9018868@ezleagues.ezfacility.com
DTSTAMP:20260426T033759Z
CREATED:20260426T033759Z
DTSTART:20160128T230000Z
DTEND:20160129T000000Z
LOCATION:Jessup Premier Field #1
CONTACT:
SUMMARY:Blue VS. Orange
DESCRIPTION:League Name: FMSL Co-Rec \nGame Type: Regular\nGame Status: Com
 plete\nHome Team: Blue\nAway Team: Orange\nHome Score: 2\nAway Score: 5
END:VEVENT
BEGIN:VEVENT
UID:9018874@ezleagues.ezfacility.com
DTSTAMP:20260426T033759Z
CREATED:20260426T033759Z
DTSTART:20160204T220000Z
DTEND:20160204T230000Z
LOCATION:Jessup Premier Field #1
CONTACT:
SUMMARY:Green VS. Orange
DESCRIPTION:League Name: FMSL Co-Rec \nGame Type: Regular\nGame Status: Com
 plete\nHome Team: Green\nAway Team: Orange\nHome Score: 1\nAway Score: 8
END:VEVENT
BEGIN:VEVENT
UID:9018880@ezleagues.ezfacility.com
DTSTAMP:20260426T033759Z
CREATED:20260426T033759Z
DTSTART:20160211T220000Z
DTEND:20160211T230000Z
LOCATION:Jessup Premier Field #2
CONTACT:
SUMMARY:Orange VS. White
DESCRIPTION:League Name: FMSL Co-Rec \nGame Type: Regular\nGame Status: Com
 plete\nHome Team: Orange\nAway Team: White\nHome Score: 8\nAway Score: 2
END:VEVENT
BEGIN:VEVENT
UID:9018886@ezleagues.ezfacility.com
DTSTAMP:20260426T033759Z
CREATED:20260426T033759Z
DTSTART:20160218T220000Z
DTEND:20160218T230000Z
LOCATION:Jessup Premier Field #2
CONTACT:
SUMMARY:Black VS. Orange
DESCRIPTION:League Name: FMSL Co-Rec \nGame Type: Regular\nGame Status: Com
 plete\nHome Team: Black\nAway Team: Orange\nHome Score: 2\nAway Score: 9
END:VEVENT
BEGIN:VEVENT
UID:9018891@ezleagues.ezfacility.com
DTSTAMP:20260426T033759Z
CREATED:20260426T033759Z
DTSTART:20160225T230000Z
DTEND:20160226T000000Z
LOCATION:Jessup Premier Field #2
CONTACT:
SUMMARY:Red VS. Orange
DESCRIPTION:League Name: FMSL Co-Rec \nGame Type: Regular\nGame Status: Com
 plete\nHome Team: Red\nAway Team: Orange\nHome Score: 2\nAway Score: 3
END:VEVENT
BEGIN:VEVENT
UID:9018895@ezleagues.ezfacility.com
DTSTAMP:20260426T033759Z
CREATED:20260426T033759Z
DTSTART:20160303T230000Z
DTEND:20160304T000000Z
LOCATION:Jessup Premier Field #2
CONTACT:
SUMMARY:Orange VS. Purple
DESCRIPTION:League Name: FMSL Co-Rec \nGame Type: Regular\nGame Status: Com
 plete\nHome Team: Orange\nAway Team: Purple\nHome Score: 7\nAway Score: 5
END:VEVENT
BEGIN:VEVENT
UID:9018903@ezleagues.ezfacility.com
DTSTAMP:20260426T033759Z
CREATED:20260426T033759Z
DTSTART:20160317T210000Z
DTEND:20160317T220000Z
LOCATION:Jessup Premier Field #1
CONTACT:
SUMMARY:Orange VS. Yellow
DESCRIPTION:League Name: FMSL Co-Rec \nGame Type: Regular\nGame Status: Com
 plete\nHome Team: Orange\nAway Team: Yellow\nHome Score: 8\nAway Score: 2
END:VEVENT
BEGIN:VEVENT
UID:9018907@ezleagues.ezfacility.com
DTSTAMP:20260426T033759Z
CREATED:20260426T033759Z
DTSTART:20160324T220000Z
DTEND:20160324T230000Z
LOCATION:Jessup Premier Field #1
CONTACT:
SUMMARY:Orange VS. Silver
DESCRIPTION:League Name: FMSL Co-Rec \nGame Type: Regular\nGame Status: Com
 plete\nHome Team: Orange\nAway Team: Silver\nHome Score: 5\nAway Score: 1
END:VEVENT
END:VCALENDAR
