BEGIN:VCALENDAR
VERSION:2.0
PRODID:-//EZFacility.com, Inc.//EZL 2.5.5.28621
BEGIN:VEVENT
UID:8793402@ezleagues.ezfacility.com
DTSTAMP:20260421T030948Z
CREATED:20260421T030948Z
DTSTART:20151127T180000Z
DTEND:20151127T190000Z
LOCATION:Total Turf
CONTACT:
SUMMARY:Team 07 EHT Eagles VS. Team 06 Deptford Eli
DESCRIPTION:League Name: 5/6 Grade Thanksgiving Classic\nGame Type: Regular
 \nGame Status: Complete\nHome Team: Team 07 EHT Eagles\nAway Team: Team 06
  Deptford Eli\nHome Score: 35\nAway Score: 44
END:VEVENT
BEGIN:VEVENT
UID:8793404@ezleagues.ezfacility.com
DTSTAMP:20260421T030948Z
CREATED:20260421T030948Z
DTSTART:20151127T210000Z
DTEND:20151127T220000Z
LOCATION:Total Turf
CONTACT:
SUMMARY:Team 07 EHT Eagles VS. Team 08 West Deptford
DESCRIPTION:League Name: 5/6 Grade Thanksgiving Classic\nGame Type: Regular
 \nGame Status: Complete\nHome Team: Team 07 EHT Eagles\nAway Team: Team 08
  West Deptford\nHome Score: 51\nAway Score: 19
END:VEVENT
BEGIN:VEVENT
UID:8793407@ezleagues.ezfacility.com
DTSTAMP:20260421T030948Z
CREATED:20260421T030948Z
DTSTART:20151129T133000Z
DTEND:20151129T143000Z
LOCATION:Total Turf
CONTACT:
SUMMARY:Team 07 EHT Eagles VS. Team 10 Deptford Spartins
DESCRIPTION:League Name: 5/6 Grade Thanksgiving Classic\nGame Type: Regular
 \nGame Status: Complete\nHome Team: Team 07 EHT Eagles\nAway Team: Team 10
  Deptford Spartins\nHome Score: 52\nAway Score: 12
END:VEVENT
BEGIN:VEVENT
UID:8793410@ezleagues.ezfacility.com
DTSTAMP:20260421T030948Z
CREATED:20260421T030948Z
DTSTART:20151129T153000Z
DTEND:20151129T163000Z
LOCATION:Total Turf
CONTACT:
SUMMARY:Team 06 Deptford Eli VS. Team 07 EHT Eagles
DESCRIPTION:League Name: 5/6 Grade Thanksgiving Classic\nGame Type: Regular
 \nGame Status: Complete\nHome Team: Team 06 Deptford Eli\nAway Team: Team 
 07 EHT Eagles\nHome Score: 34\nAway Score: 32
END:VEVENT
END:VCALENDAR
