BEGIN:VCALENDAR
VERSION:2.0
PRODID:-//EZFacility.com, Inc.//EZL 2.5.5.28621
BEGIN:VEVENT
UID:8793974@ezleagues.ezfacility.com
DTSTAMP:20260426T034048Z
CREATED:20260426T034048Z
DTSTART:20151205T203000Z
DTEND:20151205T211100Z
LOCATION:SUSA Bayside
CONTACT:
SUMMARY:Auburndale FC Green  VS. CSL Academy
DESCRIPTION:League Name: NSIS Bayside BU10 Blue \nGame Type: Regular\nGame 
 Status: Complete\nHome Team: Auburndale FC Green \nAway Team: CSL Academy\
 nHome Score: 5\nAway Score: 2
END:VEVENT
BEGIN:VEVENT
UID:8795171@ezleagues.ezfacility.com
DTSTAMP:20260426T034048Z
CREATED:20260426T034048Z
DTSTART:20151212T194500Z
DTEND:20151212T202600Z
LOCATION:SUSA Bayside
CONTACT:
SUMMARY:Jericho Blue Thunder  VS. Auburndale FC Green 
DESCRIPTION:League Name: NSIS Bayside BU10 Blue \nGame Type: Regular\nGame 
 Status: Complete\nHome Team: Jericho Blue Thunder \nAway Team: Auburndale 
 FC Green \nHome Score: 1\nAway Score: 4
END:VEVENT
BEGIN:VEVENT
UID:8795160@ezleagues.ezfacility.com
DTSTAMP:20260426T034048Z
CREATED:20260426T034048Z
DTSTART:20151219T190000Z
DTEND:20151219T194100Z
LOCATION:SUSA Bayside
CONTACT:
SUMMARY:Auburndale FC Green  VS. NHP Panthers 
DESCRIPTION:League Name: NSIS Bayside BU10 Blue \nGame Type: Regular\nGame 
 Status: Complete\nHome Team: Auburndale FC Green \nAway Team: NHP Panthers
  \nHome Score: 5\nAway Score: 5
END:VEVENT
BEGIN:VEVENT
UID:8857730@ezleagues.ezfacility.com
DTSTAMP:20260426T034048Z
CREATED:20260426T034048Z
DTSTART:20160109T181500Z
DTEND:20160109T185600Z
LOCATION:SUSA Bayside
CONTACT:
SUMMARY:Auburndale FC Green  VS. CSL Academy
DESCRIPTION:League Name: NSIS Bayside BU10 Blue \nGame Type: Regular\nGame 
 Status: Complete\nHome Team: Auburndale FC Green \nAway Team: CSL Academy\
 nHome Score: 7\nAway Score: 2
END:VEVENT
BEGIN:VEVENT
UID:8857735@ezleagues.ezfacility.com
DTSTAMP:20260426T034048Z
CREATED:20260426T034048Z
DTSTART:20160116T203000Z
DTEND:20160116T211100Z
LOCATION:SUSA Bayside
CONTACT:
SUMMARY:Auburndale FC Green  VS. POB Strykeforce 
DESCRIPTION:League Name: NSIS Bayside BU10 Blue \nGame Type: Regular\nGame 
 Status: Complete\nHome Team: Auburndale FC Green \nAway Team: POB Strykefo
 rce \nHome Score: 0\nAway Score: 1
END:VEVENT
BEGIN:VEVENT
UID:8857769@ezleagues.ezfacility.com
DTSTAMP:20260426T034048Z
CREATED:20260426T034048Z
DTSTART:20160130T203000Z
DTEND:20160130T211100Z
LOCATION:SUSA Bayside
CONTACT:
SUMMARY:NHP Panthers  VS. Auburndale FC Green 
DESCRIPTION:League Name: NSIS Bayside BU10 Blue \nGame Type: Regular\nGame 
 Status: Complete\nHome Team: NHP Panthers \nAway Team: Auburndale FC Green
  \nHome Score: 0\nAway Score: 0
END:VEVENT
BEGIN:VEVENT
UID:8965587@ezleagues.ezfacility.com
DTSTAMP:20260426T034048Z
CREATED:20260426T034048Z
DTSTART:20160206T203000Z
DTEND:20160206T211100Z
LOCATION:SUSA Bayside
CONTACT:
SUMMARY:Auburndale FC Green  VS. Jericho Blue Thunder 
DESCRIPTION:League Name: NSIS Bayside BU10 Blue \nGame Type: Regular\nGame 
 Status: Complete\nHome Team: Auburndale FC Green \nAway Team: Jericho Blue
  Thunder \nHome Score: 3\nAway Score: 2
END:VEVENT
BEGIN:VEVENT
UID:9005533@ezleagues.ezfacility.com
DTSTAMP:20260426T034048Z
CREATED:20260426T034048Z
DTSTART:20160227T203000Z
DTEND:20160227T211100Z
LOCATION:SUSA Bayside
CONTACT:
SUMMARY:Auburndale FC Green  VS. POB Strykeforce 
DESCRIPTION:League Name: NSIS Bayside BU10 Blue \nGame Type: Regular\nGame 
 Status: Complete\nHome Team: Auburndale FC Green \nAway Team: POB Strykefo
 rce \nHome Score: 2\nAway Score: 0
END:VEVENT
END:VCALENDAR
