BEGIN:VCALENDAR
VERSION:2.0
PRODID:-//EZFacility.com, Inc.//EZL 2.5.5.28621
BEGIN:VEVENT
UID:8793441@ezleagues.ezfacility.com
DTSTAMP:20260419T195719Z
CREATED:20260419T195719Z
DTSTART:20151128T140000Z
DTEND:20151128T150000Z
LOCATION:Total Turf
CONTACT:
SUMMARY:Team 12 Runnin Rebels WT VS. Team 13 Blue Devils WT
DESCRIPTION:League Name: 7/8 Grade Thanksgiving Classic\nGame Type: Regular
 \nGame Status: Complete\nHome Team: Team 12 Runnin Rebels WT\nAway Team: T
 eam 13 Blue Devils WT\nHome Score: 61\nAway Score: 32
END:VEVENT
BEGIN:VEVENT
UID:8793446@ezleagues.ezfacility.com
DTSTAMP:20260419T195719Z
CREATED:20260419T195719Z
DTSTART:20151128T180000Z
DTEND:20151128T190000Z
LOCATION:Total Turf
CONTACT:
SUMMARY:Team 14 Deptford VS. Team 13 Blue Devils WT
DESCRIPTION:League Name: 7/8 Grade Thanksgiving Classic\nGame Type: Regular
 \nGame Status: Complete\nHome Team: Team 14 Deptford\nAway Team: Team 13 B
 lue Devils WT\nHome Score: 26\nAway Score: 42
END:VEVENT
BEGIN:VEVENT
UID:8793447@ezleagues.ezfacility.com
DTSTAMP:20260419T195719Z
CREATED:20260419T195719Z
DTSTART:20151129T203000Z
DTEND:20151129T213000Z
LOCATION:Total Turf
CONTACT:
SUMMARY:Team 13 Blue Devils WT VS. Team 14 Deptford
DESCRIPTION:League Name: 7/8 Grade Thanksgiving Classic\nGame Type: Regular
 \nGame Status: Complete\nHome Team: Team 13 Blue Devils WT\nAway Team: Tea
 m 14 Deptford\nHome Score: 56\nAway Score: 34
END:VEVENT
BEGIN:VEVENT
UID:8793478@ezleagues.ezfacility.com
DTSTAMP:20260419T195719Z
CREATED:20260419T195719Z
DTSTART:20151129T223000Z
DTEND:20151129T233000Z
LOCATION:Total Turf
CONTACT:
SUMMARY:Team 17 Sj Jazz VS. Team 13 Blue Devils WT
DESCRIPTION:League Name: 7/8 Grade Thanksgiving Classic\nGame Type: Regular
 \nGame Status: Pending\nHome Team: Team 17 Sj Jazz\nAway Team: Team 13 Blu
 e Devils WT\n
END:VEVENT
END:VCALENDAR
