BEGIN:VCALENDAR
VERSION:2.0
PRODID:-//EZFacility.com, Inc.//EZL 2.5.5.28621
BEGIN:VEVENT
UID:8828785@ezleagues.ezfacility.com
DTSTAMP:20260421T122057Z
CREATED:20260421T122057Z
DTSTART:20151206T031000Z
DTEND:20151206T040000Z
LOCATION:Field 1 Full
CONTACT:
SUMMARY:Mason FC VS. Los Primos
DESCRIPTION:League Name: La Liga Futbol Winter 1 2015\nGame Type: Regular\n
 Game Status: Complete\nHome Team: Mason FC\nAway Team: Los Primos\nHome Sc
 ore: 1\nAway Score: 4
END:VEVENT
BEGIN:VEVENT
UID:8828794@ezleagues.ezfacility.com
DTSTAMP:20260421T122057Z
CREATED:20260421T122057Z
DTSTART:20151213T022000Z
DTEND:20151213T031000Z
LOCATION:Field 2 Full
CONTACT:
SUMMARY:Club America FC VS. Los Primos
DESCRIPTION:League Name: La Liga Futbol Winter 1 2015\nGame Type: Regular\n
 Game Status: Complete\nHome Team: Club America FC\nAway Team: Los Primos\n
 Home Score: 1\nAway Score: 1
END:VEVENT
BEGIN:VEVENT
UID:8828803@ezleagues.ezfacility.com
DTSTAMP:20260421T122057Z
CREATED:20260421T122057Z
DTSTART:20151220T040000Z
DTEND:20151220T045000Z
LOCATION:Field 1 Full
CONTACT:
SUMMARY:Guanaco 503 VS. Los Primos
DESCRIPTION:League Name: La Liga Futbol Winter 1 2015\nGame Type: Regular\n
 Game Status: Complete\nHome Team: Guanaco 503\nAway Team: Los Primos\nHome
  Score: 6\nAway Score: 2
END:VEVENT
BEGIN:VEVENT
UID:8828825@ezleagues.ezfacility.com
DTSTAMP:20260421T122057Z
CREATED:20260421T122057Z
DTSTART:20160103T045000Z
DTEND:20160103T054000Z
LOCATION:Field 1 Full
CONTACT:
SUMMARY:Los Primos VS. FC Chiquimula
DESCRIPTION:League Name: La Liga Futbol Winter 1 2015\nGame Type: Regular\n
 Game Status: Complete\nHome Team: Los Primos\nAway Team: FC Chiquimula\nHo
 me Score: 3\nAway Score: 7
END:VEVENT
BEGIN:VEVENT
UID:8828836@ezleagues.ezfacility.com
DTSTAMP:20260421T122057Z
CREATED:20260421T122057Z
DTSTART:20160110T013000Z
DTEND:20160110T022000Z
LOCATION:Field 1 Full
CONTACT:
SUMMARY:Los Primos VS. FC Mclean
DESCRIPTION:League Name: La Liga Futbol Winter 1 2015\nGame Type: Regular\n
 Game Status: Complete\nHome Team: Los Primos\nAway Team: FC Mclean\nHome S
 core: 3\nAway Score: 10
END:VEVENT
BEGIN:VEVENT
UID:8828847@ezleagues.ezfacility.com
DTSTAMP:20260421T122057Z
CREATED:20260421T122057Z
DTSTART:20160117T031000Z
DTEND:20160117T040000Z
LOCATION:Field 2 Full
CONTACT:
SUMMARY:Los Primos VS. Milan
DESCRIPTION:League Name: La Liga Futbol Winter 1 2015\nGame Type: Regular\n
 Game Status: Complete\nHome Team: Los Primos\nAway Team: Milan\nHome Score
 : 3\nAway Score: 3
END:VEVENT
BEGIN:VEVENT
UID:8828814@ezleagues.ezfacility.com
DTSTAMP:20260421T122057Z
CREATED:20260421T122057Z
DTSTART:20160131T013000Z
DTEND:20160131T022000Z
LOCATION:Field 2 Full
CONTACT:
SUMMARY:Los Primos VS. San Fernando FC
DESCRIPTION:League Name: La Liga Futbol Winter 1 2015\nGame Type: Regular\n
 Game Status: Complete\nHome Team: Los Primos\nAway Team: San Fernando FC\n
 Home Score: 2\nAway Score: 8
END:VEVENT
BEGIN:VEVENT
UID:9087947@ezleagues.ezfacility.com
DTSTAMP:20260421T122057Z
CREATED:20260421T122057Z
DTSTART:20160207T022000Z
DTEND:20160207T030800Z
LOCATION:Field 2 Full
CONTACT:
SUMMARY:Guanaco 503 VS. Los Primos
DESCRIPTION:League Name: La Liga Futbol Winter 1 2015\nGame Type: Friendly\
 nGame Status: Complete\nHome Team: Guanaco 503\nAway Team: Los Primos\nHom
 e Score: 5\nAway Score: 4
END:VEVENT
END:VCALENDAR
