BEGIN:VCALENDAR
VERSION:2.0
PRODID:-//EZFacility.com, Inc.//EZL 2.5.5.28621
BEGIN:VEVENT
UID:8828791@ezleagues.ezfacility.com
DTSTAMP:20260424T041329Z
CREATED:20260424T041329Z
DTSTART:20151206T040000Z
DTEND:20151206T045000Z
LOCATION:Field 2 Full
CONTACT:
SUMMARY:Leones Rallados VS. FC Mclean
DESCRIPTION:League Name: La Liga Futbol Winter 1 2015\nGame Type: Regular\n
 Game Status: Complete\nHome Team: Leones Rallados\nAway Team: FC Mclean\nH
 ome Score: 4\nAway Score: 2
END:VEVENT
BEGIN:VEVENT
UID:8828801@ezleagues.ezfacility.com
DTSTAMP:20260424T041329Z
CREATED:20260424T041329Z
DTSTART:20151213T045000Z
DTEND:20151213T054000Z
LOCATION:Field 1 Full
CONTACT:
SUMMARY:Green Bellies VS. Leones Rallados
DESCRIPTION:League Name: La Liga Futbol Winter 1 2015\nGame Type: Regular\n
 Game Status: Complete\nHome Team: Green Bellies\nAway Team: Leones Rallado
 s\nHome Score: 1\nAway Score: 7
END:VEVENT
BEGIN:VEVENT
UID:8828812@ezleagues.ezfacility.com
DTSTAMP:20260424T041329Z
CREATED:20260424T041329Z
DTSTART:20151220T040000Z
DTEND:20151220T045000Z
LOCATION:Field 2 Full
CONTACT:
SUMMARY:Green Bellies VS. Leones Rallados
DESCRIPTION:League Name: La Liga Futbol Winter 1 2015\nGame Type: Regular\n
 Game Status: Rescheduled\nHome Team: Green Bellies\nAway Team: Leones Rall
 ados\n
END:VEVENT
BEGIN:VEVENT
UID:8828830@ezleagues.ezfacility.com
DTSTAMP:20260424T041329Z
CREATED:20260424T041329Z
DTSTART:20160103T013000Z
DTEND:20160103T022000Z
LOCATION:Field 1 Full
CONTACT:
SUMMARY:Highs Chimney F.C. VS. Leones Rallados
DESCRIPTION:League Name: La Liga Futbol Winter 1 2015\nGame Type: Regular\n
 Game Status: Complete\nHome Team: Highs Chimney F.C.\nAway Team: Leones Ra
 llados\nHome Score: 3\nAway Score: 6
END:VEVENT
BEGIN:VEVENT
UID:8828839@ezleagues.ezfacility.com
DTSTAMP:20260424T041329Z
CREATED:20260424T041329Z
DTSTART:20160110T031000Z
DTEND:20160110T040000Z
LOCATION:Field 2 Full
CONTACT:
SUMMARY:Leones Rallados VS. Firpo FC
DESCRIPTION:League Name: La Liga Futbol Winter 1 2015\nGame Type: Regular\n
 Game Status: Complete\nHome Team: Leones Rallados\nAway Team: Firpo FC\nHo
 me Score: 6\nAway Score: 2
END:VEVENT
BEGIN:VEVENT
UID:8828848@ezleagues.ezfacility.com
DTSTAMP:20260424T041329Z
CREATED:20260424T041329Z
DTSTART:20160117T031000Z
DTEND:20160117T040000Z
LOCATION:Field 1 Full
CONTACT:
SUMMARY:FC Bolognesi 1 VS. Leones Rallados
DESCRIPTION:League Name: La Liga Futbol Winter 1 2015\nGame Type: Regular\n
 Game Status: Complete\nHome Team: FC Bolognesi 1\nAway Team: Leones Rallad
 os\nHome Score: 2\nAway Score: 11
END:VEVENT
BEGIN:VEVENT
UID:8828821@ezleagues.ezfacility.com
DTSTAMP:20260424T041329Z
CREATED:20260424T041329Z
DTSTART:20160131T022000Z
DTEND:20160131T031000Z
LOCATION:Field 1 Full
CONTACT:
SUMMARY:Salva-Mex VS. Leones Rallados
DESCRIPTION:League Name: La Liga Futbol Winter 1 2015\nGame Type: Regular\n
 Game Status: Complete\nHome Team: Salva-Mex\nAway Team: Leones Rallados\nH
 ome Score: 5\nAway Score: 13
END:VEVENT
BEGIN:VEVENT
UID:9081575@ezleagues.ezfacility.com
DTSTAMP:20260424T041329Z
CREATED:20260424T041329Z
DTSTART:20160204T033000Z
DTEND:20160204T042000Z
LOCATION:Field 1 Full
CONTACT:
SUMMARY:Green Bellies VS. Leones Rallados
DESCRIPTION:League Name: La Liga Futbol Winter 1 2015\nGame Type: Regular\n
 Game Status: Complete\nHome Team: Green Bellies\nAway Team: Leones Rallado
 s\nHome Score: 2\nAway Score: 7
END:VEVENT
BEGIN:VEVENT
UID:9087930@ezleagues.ezfacility.com
DTSTAMP:20260424T041329Z
CREATED:20260424T041329Z
DTSTART:20160207T013000Z
DTEND:20160207T021800Z
LOCATION:Field 1 Full
CONTACT:
SUMMARY:Leones Rallados VS. Club America FC
DESCRIPTION:League Name: La Liga Futbol Winter 1 2015\nGame Type: Postseaso
 n\nGame Status: Complete\nHome Team: Leones Rallados\nAway Team: Club Amer
 ica FC\nHome Score: 10\nAway Score: 3
END:VEVENT
BEGIN:VEVENT
UID:9103626@ezleagues.ezfacility.com
DTSTAMP:20260424T041329Z
CREATED:20260424T041329Z
DTSTART:20160214T023000Z
DTEND:20160214T031800Z
LOCATION:Field 1 Full
CONTACT:
SUMMARY:Leones Rallados VS. Juventud FC
DESCRIPTION:League Name: La Liga Futbol Winter 1 2015\nGame Type: Postseaso
 n\nGame Status: Complete\nHome Team: Leones Rallados\nAway Team: Juventud 
 FC\nHome Score: 5\nAway Score: 3
END:VEVENT
END:VCALENDAR
