BEGIN:VCALENDAR
VERSION:2.0
PRODID:-//EZFacility.com, Inc.//EZL 2.5.5.28621
BEGIN:VEVENT
UID:9049485@ezleagues.ezfacility.com
DTSTAMP:20260426T035105Z
CREATED:20260426T035105Z
DTSTART:20160110T230000Z
DTEND:20160111T000000Z
LOCATION:Indoor Dek
CONTACT:
SUMMARY:Lawn Sense VS. Green Achers
DESCRIPTION:League Name: Over 40 Dek (Jan 2016)\nGame Type: Regular\nGame S
 tatus: Complete\nHome Team: Lawn Sense\nAway Team: Green Achers\nHome Scor
 e: 1\nAway Score: 4
END:VEVENT
BEGIN:VEVENT
UID:9049491@ezleagues.ezfacility.com
DTSTAMP:20260426T035105Z
CREATED:20260426T035105Z
DTSTART:20160124T230000Z
DTEND:20160125T000000Z
LOCATION:Indoor Dek
CONTACT:
SUMMARY:Lawn Sense VS. ODB
DESCRIPTION:League Name: Over 40 Dek (Jan 2016)\nGame Type: Regular\nGame S
 tatus: Complete\nHome Team: Lawn Sense\nAway Team: ODB\nHome Score: 2\nAwa
 y Score: 4
END:VEVENT
BEGIN:VEVENT
UID:9049455@ezleagues.ezfacility.com
DTSTAMP:20260426T035105Z
CREATED:20260426T035105Z
DTSTART:20160201T000000Z
DTEND:20160201T010000Z
LOCATION:Indoor Dek
CONTACT:
SUMMARY:Lawn Sense VS. North Park Lounge Wizurions
DESCRIPTION:League Name: Over 40 Dek (Jan 2016)\nGame Type: Regular\nGame S
 tatus: Complete\nHome Team: Lawn Sense\nAway Team: North Park Lounge Wizur
 ions\nHome Score: 2\nAway Score: 6
END:VEVENT
BEGIN:VEVENT
UID:9049464@ezleagues.ezfacility.com
DTSTAMP:20260426T035105Z
CREATED:20260426T035105Z
DTSTART:20160215T000000Z
DTEND:20160215T010000Z
LOCATION:Indoor Dek
CONTACT:
SUMMARY:GHF VS. Lawn Sense
DESCRIPTION:League Name: Over 40 Dek (Jan 2016)\nGame Type: Regular\nGame S
 tatus: Complete\nHome Team: GHF\nAway Team: Lawn Sense\nHome Score: 4\nAwa
 y Score: 6
END:VEVENT
BEGIN:VEVENT
UID:9049502@ezleagues.ezfacility.com
DTSTAMP:20260426T035105Z
CREATED:20260426T035105Z
DTSTART:20160215T010000Z
DTEND:20160215T020000Z
LOCATION:Indoor Dek
CONTACT:
SUMMARY:Lawn Sense VS. Dek Heads
DESCRIPTION:League Name: Over 40 Dek (Jan 2016)\nGame Type: Regular\nGame S
 tatus: Complete\nHome Team: Lawn Sense\nAway Team: Dek Heads\nHome Score: 
 2\nAway Score: 1
END:VEVENT
BEGIN:VEVENT
UID:9049460@ezleagues.ezfacility.com
DTSTAMP:20260426T035105Z
CREATED:20260426T035105Z
DTSTART:20160222T000000Z
DTEND:20160222T010000Z
LOCATION:Indoor Dek
CONTACT:
SUMMARY:Lawn Sense VS. Green Achers
DESCRIPTION:League Name: Over 40 Dek (Jan 2016)\nGame Type: Regular\nGame S
 tatus: Complete\nHome Team: Lawn Sense\nAway Team: Green Achers\nHome Scor
 e: 6\nAway Score: 0
END:VEVENT
BEGIN:VEVENT
UID:9049470@ezleagues.ezfacility.com
DTSTAMP:20260426T035105Z
CREATED:20260426T035105Z
DTSTART:20160229T000000Z
DTEND:20160229T010000Z
LOCATION:Indoor Dek
CONTACT:
SUMMARY:Red Army VS. Lawn Sense
DESCRIPTION:League Name: Over 40 Dek (Jan 2016)\nGame Type: Regular\nGame S
 tatus: Complete\nHome Team: Red Army\nAway Team: Lawn Sense\nHome Score: 4
 \nAway Score: 5
END:VEVENT
BEGIN:VEVENT
UID:9049473@ezleagues.ezfacility.com
DTSTAMP:20260426T035105Z
CREATED:20260426T035105Z
DTSTART:20160313T210000Z
DTEND:20160313T220000Z
LOCATION:Outdoor Dek
CONTACT:
SUMMARY:Dek Heads VS. Lawn Sense
DESCRIPTION:League Name: Over 40 Dek (Jan 2016)\nGame Type: Regular\nGame S
 tatus: Complete\nHome Team: Dek Heads\nAway Team: Lawn Sense\nHome Score: 
 2\nAway Score: 3
END:VEVENT
BEGIN:VEVENT
UID:9049478@ezleagues.ezfacility.com
DTSTAMP:20260426T035105Z
CREATED:20260426T035105Z
DTSTART:20160320T220000Z
DTEND:20160320T230000Z
LOCATION:Indoor Dek
CONTACT:
SUMMARY:Lawn Sense VS. ODB
DESCRIPTION:League Name: Over 40 Dek (Jan 2016)\nGame Type: Regular\nGame S
 tatus: Complete\nHome Team: Lawn Sense\nAway Team: ODB\nHome Score: 1\nAwa
 y Score: 3
END:VEVENT
BEGIN:VEVENT
UID:9049483@ezleagues.ezfacility.com
DTSTAMP:20260426T035105Z
CREATED:20260426T035105Z
DTSTART:20160320T230000Z
DTEND:20160321T000000Z
LOCATION:Indoor Dek
CONTACT:
SUMMARY:North Park Lounge Wizurions VS. Lawn Sense
DESCRIPTION:League Name: Over 40 Dek (Jan 2016)\nGame Type: Regular\nGame S
 tatus: Complete\nHome Team: North Park Lounge Wizurions\nAway Team: Lawn S
 ense\nHome Score: 7\nAway Score: 4
END:VEVENT
BEGIN:VEVENT
UID:9234858@ezleagues.ezfacility.com
DTSTAMP:20260426T035105Z
CREATED:20260426T035105Z
DTSTART:20160403T230000Z
DTEND:20160404T000000Z
LOCATION:Indoor Dek
CONTACT:
SUMMARY:Lawn Sense VS. Dek Heads
DESCRIPTION:League Name: Over 40 Dek (Jan 2016)\nGame Type: Regular\nGame S
 tatus: Complete\nHome Team: Lawn Sense\nAway Team: Dek Heads\nHome Score: 
 2\nAway Score: 3
END:VEVENT
END:VCALENDAR
