BEGIN:VCALENDAR
VERSION:2.0
PRODID:-//EZFacility.com, Inc.//EZL 2.5.5.28621
BEGIN:VEVENT
UID:8970627@ezleagues.ezfacility.com
DTSTAMP:20260424T043150Z
CREATED:20260424T043150Z
DTSTART:20160117T174200Z
DTEND:20160117T183400Z
LOCATION:_
CONTACT:
SUMMARY:Club Ohio Green 1  VS. Dublin Ninjas
DESCRIPTION:League Name: Winter Indoor 2016 Boy's U-11 North\nGame Type: Re
 gular\nGame Status: Complete\nHome Team: Club Ohio Green 1 \nAway Team: Du
 blin Ninjas\nHome Score: 4\nAway Score: 3
END:VEVENT
BEGIN:VEVENT
UID:9008955@ezleagues.ezfacility.com
DTSTAMP:20260424T043150Z
CREATED:20260424T043150Z
DTSTART:20160124T155800Z
DTEND:20160124T165000Z
LOCATION:_
CONTACT:
SUMMARY:Dublin Ninjas VS. Special Ops
DESCRIPTION:League Name: Winter Indoor 2016 Boy's U-11 North\nGame Type: Re
 gular\nGame Status: Complete\nHome Team: Dublin Ninjas\nAway Team: Special
  Ops\nHome Score: 3\nAway Score: 9
END:VEVENT
BEGIN:VEVENT
UID:9008967@ezleagues.ezfacility.com
DTSTAMP:20260424T043150Z
CREATED:20260424T043150Z
DTSTART:20160131T174200Z
DTEND:20160131T183400Z
LOCATION:_
CONTACT:
SUMMARY:Krakens VS. Dublin Ninjas
DESCRIPTION:League Name: Winter Indoor 2016 Boy's U-11 North\nGame Type: Re
 gular\nGame Status: Complete\nHome Team: Krakens\nAway Team: Dublin Ninjas
 \nHome Score: 9\nAway Score: 9
END:VEVENT
BEGIN:VEVENT
UID:9008982@ezleagues.ezfacility.com
DTSTAMP:20260424T043150Z
CREATED:20260424T043150Z
DTSTART:20160214T165000Z
DTEND:20160214T174200Z
LOCATION:Field   ID 1
CONTACT:
SUMMARY:Dublin Ninjas VS. Club Ohio Green 2 U11B
DESCRIPTION:League Name: Winter Indoor 2016 Boy's U-11 North\nGame Type: Re
 gular\nGame Status: Complete\nHome Team: Dublin Ninjas\nAway Team: Club Oh
 io Green 2 U11B\nHome Score: 8\nAway Score: 4
END:VEVENT
BEGIN:VEVENT
UID:9008991@ezleagues.ezfacility.com
DTSTAMP:20260424T043150Z
CREATED:20260424T043150Z
DTSTART:20160221T183400Z
DTEND:20160221T192600Z
LOCATION:_
CONTACT:
SUMMARY:Black Dragons VS. Dublin Ninjas
DESCRIPTION:League Name: Winter Indoor 2016 Boy's U-11 North\nGame Type: Re
 gular\nGame Status: Complete\nHome Team: Black Dragons\nAway Team: Dublin 
 Ninjas\nHome Score: 1\nAway Score: 19
END:VEVENT
BEGIN:VEVENT
UID:9008995@ezleagues.ezfacility.com
DTSTAMP:20260424T043150Z
CREATED:20260424T043150Z
DTSTART:20160228T174200Z
DTEND:20160228T183400Z
LOCATION:_
CONTACT:
SUMMARY:Dublin Ninjas VS. Club Ohio Scorpions
DESCRIPTION:League Name: Winter Indoor 2016 Boy's U-11 North\nGame Type: Re
 gular\nGame Status: Complete\nHome Team: Dublin Ninjas\nAway Team: Club Oh
 io Scorpions\nHome Score: 4\nAway Score: 5
END:VEVENT
BEGIN:VEVENT
UID:9009000@ezleagues.ezfacility.com
DTSTAMP:20260424T043150Z
CREATED:20260424T043150Z
DTSTART:20160308T222500Z
DTEND:20160308T231700Z
LOCATION:Field   ID 3
CONTACT:
SUMMARY:International Jrs FC VS. Dublin Ninjas
DESCRIPTION:League Name: Winter Indoor 2016 Boy's U-11 North\nGame Type: Re
 gular\nGame Status: Complete\nHome Team: International Jrs FC\nAway Team: 
 Dublin Ninjas\nHome Score: 0\nAway Score: 16
END:VEVENT
BEGIN:VEVENT
UID:9009004@ezleagues.ezfacility.com
DTSTAMP:20260424T043150Z
CREATED:20260424T043150Z
DTSTART:20160315T212500Z
DTEND:20160315T221700Z
LOCATION:Field   ID 3
CONTACT:
SUMMARY:Deportivo Madrid FC VS. Dublin Ninjas
DESCRIPTION:League Name: Winter Indoor 2016 Boy's U-11 North\nGame Type: Re
 gular\nGame Status: Complete\nHome Team: Deportivo Madrid FC\nAway Team: D
 ublin Ninjas\nHome Score: 7\nAway Score: 8
END:VEVENT
BEGIN:VEVENT
UID:9009007@ezleagues.ezfacility.com
DTSTAMP:20260424T043150Z
CREATED:20260424T043150Z
DTSTART:20160320T140600Z
DTEND:20160320T145800Z
LOCATION:_
CONTACT:
SUMMARY:Dublin Ninjas VS. Club Ohio Green 1 
DESCRIPTION:League Name: Winter Indoor 2016 Boy's U-11 North\nGame Type: Re
 gular\nGame Status: Rescheduled\nHome Team: Dublin Ninjas\nAway Team: Club
  Ohio Green 1 \n
END:VEVENT
BEGIN:VEVENT
UID:9120890@ezleagues.ezfacility.com
DTSTAMP:20260424T043150Z
CREATED:20260424T043150Z
DTSTART:20160330T222000Z
DTEND:20160330T231200Z
LOCATION:Field   ID 3
CONTACT:
SUMMARY:Dublin Ninjas VS. Club Ohio Green 1 
DESCRIPTION:League Name: Winter Indoor 2016 Boy's U-11 North\nGame Type: Re
 gular\nGame Status: Complete\nHome Team: Dublin Ninjas\nAway Team: Club Oh
 io Green 1 \nHome Score: 4\nAway Score: 7
END:VEVENT
END:VCALENDAR
