BEGIN:VCALENDAR
VERSION:2.0
PRODID:-//EZFacility.com, Inc.//EZL 2.5.5.28621
BEGIN:VEVENT
UID:9049493@ezleagues.ezfacility.com
DTSTAMP:20260421T013040Z
CREATED:20260421T013040Z
DTSTART:20160125T000000Z
DTEND:20160125T010000Z
LOCATION:Indoor Dek
CONTACT:
SUMMARY:Dek Heads VS. North Park Lounge Wizurions
DESCRIPTION:League Name: Over 40 Dek (Jan 2016)\nGame Type: Regular\nGame S
 tatus: Complete\nHome Team: Dek Heads\nAway Team: North Park Lounge Wizuri
 ons\nHome Score: 5\nAway Score: 11
END:VEVENT
BEGIN:VEVENT
UID:9049497@ezleagues.ezfacility.com
DTSTAMP:20260421T013040Z
CREATED:20260421T013040Z
DTSTART:20160125T010000Z
DTEND:20160125T020000Z
LOCATION:Indoor Dek
CONTACT:
SUMMARY:GHF VS. North Park Lounge Wizurions
DESCRIPTION:League Name: Over 40 Dek (Jan 2016)\nGame Type: Regular\nGame S
 tatus: Complete\nHome Team: GHF\nAway Team: North Park Lounge Wizurions\nH
 ome Score: 4\nAway Score: 9
END:VEVENT
BEGIN:VEVENT
UID:9049455@ezleagues.ezfacility.com
DTSTAMP:20260421T013040Z
CREATED:20260421T013040Z
DTSTART:20160201T000000Z
DTEND:20160201T010000Z
LOCATION:Indoor Dek
CONTACT:
SUMMARY:Lawn Sense VS. North Park Lounge Wizurions
DESCRIPTION:League Name: Over 40 Dek (Jan 2016)\nGame Type: Regular\nGame S
 tatus: Complete\nHome Team: Lawn Sense\nAway Team: North Park Lounge Wizur
 ions\nHome Score: 2\nAway Score: 6
END:VEVENT
BEGIN:VEVENT
UID:9049458@ezleagues.ezfacility.com
DTSTAMP:20260421T013040Z
CREATED:20260421T013040Z
DTSTART:20160215T040000Z
DTEND:20160215T050000Z
LOCATION:Indoor Dek
CONTACT:
SUMMARY:North Park Lounge Wizurions VS. ODB
DESCRIPTION:League Name: Over 40 Dek (Jan 2016)\nGame Type: Regular\nGame S
 tatus: Complete\nHome Team: North Park Lounge Wizurions\nAway Team: ODB\nH
 ome Score: 8\nAway Score: 7
END:VEVENT
BEGIN:VEVENT
UID:9049466@ezleagues.ezfacility.com
DTSTAMP:20260421T013040Z
CREATED:20260421T013040Z
DTSTART:20160222T010000Z
DTEND:20160222T020000Z
LOCATION:Indoor Dek
CONTACT:
SUMMARY:Green Achers VS. North Park Lounge Wizurions
DESCRIPTION:League Name: Over 40 Dek (Jan 2016)\nGame Type: Regular\nGame S
 tatus: Complete\nHome Team: Green Achers\nAway Team: North Park Lounge Wiz
 urions\nHome Score: 1\nAway Score: 5
END:VEVENT
BEGIN:VEVENT
UID:9049461@ezleagues.ezfacility.com
DTSTAMP:20260421T013040Z
CREATED:20260421T013040Z
DTSTART:20160229T040000Z
DTEND:20160229T050000Z
LOCATION:Indoor Dek
CONTACT:
SUMMARY:North Park Lounge Wizurions VS. Dek Heads
DESCRIPTION:League Name: Over 40 Dek (Jan 2016)\nGame Type: Regular\nGame S
 tatus: Complete\nHome Team: North Park Lounge Wizurions\nAway Team: Dek He
 ads\nHome Score: 3\nAway Score: 2
END:VEVENT
BEGIN:VEVENT
UID:9049480@ezleagues.ezfacility.com
DTSTAMP:20260421T013040Z
CREATED:20260421T013040Z
DTSTART:20160313T230000Z
DTEND:20160314T000000Z
LOCATION:Indoor Dek
CONTACT:
SUMMARY:Red Army VS. North Park Lounge Wizurions
DESCRIPTION:League Name: Over 40 Dek (Jan 2016)\nGame Type: Regular\nGame S
 tatus: Complete\nHome Team: Red Army\nAway Team: North Park Lounge Wizurio
 ns\nHome Score: 1\nAway Score: 9
END:VEVENT
BEGIN:VEVENT
UID:9049471@ezleagues.ezfacility.com
DTSTAMP:20260421T013040Z
CREATED:20260421T013040Z
DTSTART:20160314T000000Z
DTEND:20160314T010000Z
LOCATION:Indoor Dek
CONTACT:
SUMMARY:North Park Lounge Wizurions VS. GHF
DESCRIPTION:League Name: Over 40 Dek (Jan 2016)\nGame Type: Regular\nGame S
 tatus: Complete\nHome Team: North Park Lounge Wizurions\nAway Team: GHF\nH
 ome Score: 10\nAway Score: 5
END:VEVENT
BEGIN:VEVENT
UID:9049483@ezleagues.ezfacility.com
DTSTAMP:20260421T013040Z
CREATED:20260421T013040Z
DTSTART:20160320T230000Z
DTEND:20160321T000000Z
LOCATION:Indoor Dek
CONTACT:
SUMMARY:North Park Lounge Wizurions VS. Lawn Sense
DESCRIPTION:League Name: Over 40 Dek (Jan 2016)\nGame Type: Regular\nGame S
 tatus: Complete\nHome Team: North Park Lounge Wizurions\nAway Team: Lawn S
 ense\nHome Score: 7\nAway Score: 4
END:VEVENT
BEGIN:VEVENT
UID:9049498@ezleagues.ezfacility.com
DTSTAMP:20260421T013040Z
CREATED:20260421T013040Z
DTSTART:20160321T000000Z
DTEND:20160321T010000Z
LOCATION:Indoor Dek
CONTACT:
SUMMARY:Red Army VS. North Park Lounge Wizurions
DESCRIPTION:League Name: Over 40 Dek (Jan 2016)\nGame Type: Regular\nGame S
 tatus: Complete\nHome Team: Red Army\nAway Team: North Park Lounge Wizurio
 ns\nHome Score: 2\nAway Score: 6
END:VEVENT
BEGIN:VEVENT
UID:9257496@ezleagues.ezfacility.com
DTSTAMP:20260421T013040Z
CREATED:20260421T013040Z
DTSTART:20160410T220000Z
DTEND:20160410T230000Z
LOCATION:Indoor Dek
CONTACT:
SUMMARY:North Park Lounge Wizurions VS. Dek Heads
DESCRIPTION:League Name: Over 40 Dek (Jan 2016)\nGame Type: Postseason\nGam
 e Status: Complete\nHome Team: North Park Lounge Wizurions\nAway Team: Dek
  Heads\nHome Score: 9\nAway Score: 4
END:VEVENT
BEGIN:VEVENT
UID:9257498@ezleagues.ezfacility.com
DTSTAMP:20260421T013040Z
CREATED:20260421T013040Z
DTSTART:20160411T000000Z
DTEND:20160411T010000Z
LOCATION:Indoor Dek
CONTACT:
SUMMARY:North Park Lounge Wizurions VS. ODB
DESCRIPTION:League Name: Over 40 Dek (Jan 2016)\nGame Type: Postseason\nGam
 e Status: Complete\nHome Team: North Park Lounge Wizurions\nAway Team: ODB
 \nHome Score: 7\nAway Score: 6
END:VEVENT
END:VCALENDAR
