BEGIN:VCALENDAR
VERSION:2.0
PRODID:-//EZFacility.com, Inc.//EZL 2.5.5.28621
BEGIN:VEVENT
UID:9106839@ezleagues.ezfacility.com
DTSTAMP:20260422T082719Z
CREATED:20260422T082719Z
DTSTART:20160216T040000Z
DTEND:20160216T045000Z
LOCATION:Field 1
CONTACT:
SUMMARY:Just Do It VS. Los Invasores
DESCRIPTION:League Name: **Mens 1 Relaxed 2 Spring 2016\nGame Type: Regular
 \nGame Status: Complete\nHome Team: Just Do It\nAway Team: Los Invasores\n
 Home Score: 6\nAway Score: 3
END:VEVENT
BEGIN:VEVENT
UID:9106852@ezleagues.ezfacility.com
DTSTAMP:20260422T082719Z
CREATED:20260422T082719Z
DTSTART:20160304T013000Z
DTEND:20160304T022000Z
LOCATION:Field 1
CONTACT:
SUMMARY:Los Invasores VS. Gunners
DESCRIPTION:League Name: **Mens 1 Relaxed 2 Spring 2016\nGame Type: Regular
 \nGame Status: Complete\nHome Team: Los Invasores\nAway Team: Gunners\nHom
 e Score: 5\nAway Score: 16
END:VEVENT
BEGIN:VEVENT
UID:9106858@ezleagues.ezfacility.com
DTSTAMP:20260422T082719Z
CREATED:20260422T082719Z
DTSTART:20160308T040000Z
DTEND:20160308T045000Z
LOCATION:Field 1
CONTACT:
SUMMARY:Toon Squad  VS. Los Invasores
DESCRIPTION:League Name: **Mens 1 Relaxed 2 Spring 2016\nGame Type: Regular
 \nGame Status: Complete\nHome Team: Toon Squad \nAway Team: Los Invasores\
 nHome Score: 2\nAway Score: 14
END:VEVENT
BEGIN:VEVENT
UID:9106854@ezleagues.ezfacility.com
DTSTAMP:20260422T082719Z
CREATED:20260422T082719Z
DTSTART:20160310T040000Z
DTEND:20160310T045000Z
LOCATION:Field 1
CONTACT:
SUMMARY:Los Invasores VS. Arroyo Grande
DESCRIPTION:League Name: **Mens 1 Relaxed 2 Spring 2016\nGame Type: Regular
 \nGame Status: Complete\nHome Team: Los Invasores\nAway Team: Arroyo Grand
 e\nHome Score: 3\nAway Score: 7
END:VEVENT
BEGIN:VEVENT
UID:9106831@ezleagues.ezfacility.com
DTSTAMP:20260422T082719Z
CREATED:20260422T082719Z
DTSTART:20160319T030000Z
DTEND:20160319T035000Z
LOCATION:Field 1
CONTACT:
SUMMARY:Outkasts VS. Los Invasores
DESCRIPTION:League Name: **Mens 1 Relaxed 2 Spring 2016\nGame Type: Regular
 \nGame Status: Complete\nHome Team: Outkasts\nAway Team: Los Invasores\nHo
 me Score: 3\nAway Score: 7
END:VEVENT
BEGIN:VEVENT
UID:9106868@ezleagues.ezfacility.com
DTSTAMP:20260422T082719Z
CREATED:20260422T082719Z
DTSTART:20160322T030000Z
DTEND:20160322T035000Z
LOCATION:Field 1
CONTACT:
SUMMARY:Los Invasores VS. Statyc
DESCRIPTION:League Name: **Mens 1 Relaxed 2 Spring 2016\nGame Type: Regular
 \nGame Status: Complete\nHome Team: Los Invasores\nAway Team: Statyc\nHome
  Score: 10\nAway Score: 1
END:VEVENT
BEGIN:VEVENT
UID:9106847@ezleagues.ezfacility.com
DTSTAMP:20260422T082719Z
CREATED:20260422T082719Z
DTSTART:20160326T003000Z
DTEND:20160326T012000Z
LOCATION:Field 1
CONTACT:
SUMMARY:Avengers VS. Los Invasores
DESCRIPTION:League Name: **Mens 1 Relaxed 2 Spring 2016\nGame Type: Regular
 \nGame Status: Complete\nHome Team: Avengers\nAway Team: Los Invasores\nHo
 me Score: 5\nAway Score: 6
END:VEVENT
BEGIN:VEVENT
UID:9106857@ezleagues.ezfacility.com
DTSTAMP:20260422T082719Z
CREATED:20260422T082719Z
DTSTART:20160402T003000Z
DTEND:20160402T012000Z
LOCATION:Field 1
CONTACT:Laura
SUMMARY:Leicester FC VS. Los Invasores
DESCRIPTION:League Name: **Mens 1 Relaxed 2 Spring 2016\nGame Type: Regular
 \nGame Status: Complete\nHome Team: Leicester FC\nAway Team: Los Invasores
 \nHome Score: 0\nAway Score: 6
END:VEVENT
BEGIN:VEVENT
UID:9291071@ezleagues.ezfacility.com
DTSTAMP:20260422T082719Z
CREATED:20260422T082719Z
DTSTART:20160422T014000Z
DTEND:20160422T023000Z
LOCATION:Field 1
CONTACT:
SUMMARY:Grupo R VS. Los Invasores
DESCRIPTION:League Name: **Mens 1 Relaxed 2 Spring 2016\nGame Type: Postsea
 son\nGame Status: Complete\nHome Team: Grupo R\nAway Team: Los Invasores\n
 Home Score: 8\nAway Score: 7
END:VEVENT
END:VCALENDAR
