BEGIN:VCALENDAR
VERSION:2.0
PRODID:-//EZFacility.com, Inc.//EZL 2.5.5.28621
BEGIN:VEVENT
UID:9107149@ezleagues.ezfacility.com
DTSTAMP:20260426T035139Z
CREATED:20260426T035139Z
DTSTART:20160217T040000Z
DTEND:20160217T045000Z
LOCATION:Field 1
CONTACT:
SUMMARY:Union VS. Galaxi
DESCRIPTION:League Name: **Mens 3 Spring 2016\nGame Type: Regular\nGame Sta
 tus: Complete\nHome Team: Union\nAway Team: Galaxi\nHome Score: 8\nAway Sc
 ore: 6
END:VEVENT
BEGIN:VEVENT
UID:9107150@ezleagues.ezfacility.com
DTSTAMP:20260426T035139Z
CREATED:20260426T035139Z
DTSTART:20160224T022000Z
DTEND:20160224T031000Z
LOCATION:Field 1
CONTACT:
SUMMARY:Galaxi VS. Club America
DESCRIPTION:League Name: **Mens 3 Spring 2016\nGame Type: Regular\nGame Sta
 tus: Complete\nHome Team: Galaxi\nAway Team: Club America\nHome Score: 5\n
 Away Score: 7
END:VEVENT
BEGIN:VEVENT
UID:9107154@ezleagues.ezfacility.com
DTSTAMP:20260426T035139Z
CREATED:20260426T035139Z
DTSTART:20160302T031000Z
DTEND:20160302T040000Z
LOCATION:Field 1
CONTACT:
SUMMARY:Galaxi VS. Juventus
DESCRIPTION:League Name: **Mens 3 Spring 2016\nGame Type: Regular\nGame Sta
 tus: Complete\nHome Team: Galaxi\nAway Team: Juventus\nHome Score: 8\nAway
  Score: 8
END:VEVENT
BEGIN:VEVENT
UID:9107156@ezleagues.ezfacility.com
DTSTAMP:20260426T035139Z
CREATED:20260426T035139Z
DTSTART:20160309T031000Z
DTEND:20160309T040000Z
LOCATION:Field 1
CONTACT:
SUMMARY:Chupacabras VS. Galaxi
DESCRIPTION:League Name: **Mens 3 Spring 2016\nGame Type: Regular\nGame Sta
 tus: Complete\nHome Team: Chupacabras\nAway Team: Galaxi\nHome Score: 6\nA
 way Score: 11
END:VEVENT
BEGIN:VEVENT
UID:9107164@ezleagues.ezfacility.com
DTSTAMP:20260426T035139Z
CREATED:20260426T035139Z
DTSTART:20160323T035000Z
DTEND:20160323T044000Z
LOCATION:Field 1
CONTACT:
SUMMARY:Galaxi VS. Los Perros
DESCRIPTION:League Name: **Mens 3 Spring 2016\nGame Type: Regular\nGame Sta
 tus: Complete\nHome Team: Galaxi\nAway Team: Los Perros\nHome Score: 5\nAw
 ay Score: 9
END:VEVENT
BEGIN:VEVENT
UID:9107165@ezleagues.ezfacility.com
DTSTAMP:20260426T035139Z
CREATED:20260426T035139Z
DTSTART:20160330T021000Z
DTEND:20160330T030000Z
LOCATION:Field 1
CONTACT:
SUMMARY:Club America VS. Galaxi
DESCRIPTION:League Name: **Mens 3 Spring 2016\nGame Type: Regular\nGame Sta
 tus: Complete\nHome Team: Club America\nAway Team: Galaxi\nHome Score: 6\n
 Away Score: 5
END:VEVENT
BEGIN:VEVENT
UID:9107169@ezleagues.ezfacility.com
DTSTAMP:20260426T035139Z
CREATED:20260426T035139Z
DTSTART:20160406T012000Z
DTEND:20160406T021000Z
LOCATION:Field 1
CONTACT:
SUMMARY:Juventus VS. Galaxi
DESCRIPTION:League Name: **Mens 3 Spring 2016\nGame Type: Regular\nGame Sta
 tus: Complete\nHome Team: Juventus\nAway Team: Galaxi\nHome Score: 11\nAwa
 y Score: 7
END:VEVENT
BEGIN:VEVENT
UID:9128983@ezleagues.ezfacility.com
DTSTAMP:20260426T035139Z
CREATED:20260426T035139Z
DTSTART:20160413T003000Z
DTEND:20160413T012000Z
LOCATION:Field 1
CONTACT:
SUMMARY:Galaxi VS. The Orange Team
DESCRIPTION:League Name: **Mens 3 Spring 2016\nGame Type: Regular\nGame Sta
 tus: Complete\nHome Team: Galaxi\nAway Team: The Orange Team\nHome Score: 
 0\nAway Score: 0
END:VEVENT
END:VCALENDAR
