BEGIN:VCALENDAR
VERSION:2.0
PRODID:-//EZFacility.com, Inc.//EZL 2.5.5.28621
BEGIN:VEVENT
UID:9194385@ezleagues.ezfacility.com
DTSTAMP:20260422T143735Z
CREATED:20260422T143735Z
DTSTART:20160319T140000Z
DTEND:20160319T150000Z
LOCATION:Outdoor Dek
CONTACT:
SUMMARY:Chipmunk Blue VS. Chipmunk Green
DESCRIPTION:League Name: Chipmunk (Early Spring 2016)\nGame Type: Regular\n
 Game Status: Complete\nHome Team: Chipmunk Blue\nAway Team: Chipmunk Green
 \nHome Score: 1\nAway Score: 0
END:VEVENT
BEGIN:VEVENT
UID:9203934@ezleagues.ezfacility.com
DTSTAMP:20260422T143735Z
CREATED:20260422T143735Z
DTSTART:20160326T150000Z
DTEND:20160326T160000Z
LOCATION:Outdoor Dek
CONTACT:
SUMMARY:Chipmunk Red VS. Chipmunk Blue
DESCRIPTION:League Name: Chipmunk (Early Spring 2016)\nGame Type: Regular\n
 Game Status: Complete\nHome Team: Chipmunk Red\nAway Team: Chipmunk Blue\n
 Home Score: 0\nAway Score: 1
END:VEVENT
BEGIN:VEVENT
UID:9226426@ezleagues.ezfacility.com
DTSTAMP:20260422T143735Z
CREATED:20260422T143735Z
DTSTART:20160402T150000Z
DTEND:20160402T160000Z
LOCATION:Outdoor Dek
CONTACT:
SUMMARY:Chipmunk Black VS. Chipmunk Blue
DESCRIPTION:League Name: Chipmunk (Early Spring 2016)\nGame Type: Regular\n
 Game Status: Complete\nHome Team: Chipmunk Black\nAway Team: Chipmunk Blue
 \nHome Score: 1\nAway Score: 0
END:VEVENT
BEGIN:VEVENT
UID:9226428@ezleagues.ezfacility.com
DTSTAMP:20260422T143735Z
CREATED:20260422T143735Z
DTSTART:20160409T140000Z
DTEND:20160409T150000Z
LOCATION:Outdoor Dek
CONTACT:
SUMMARY:Chipmunk Blue VS. Chipmunk Green
DESCRIPTION:League Name: Chipmunk (Early Spring 2016)\nGame Type: Regular\n
 Game Status: Complete\nHome Team: Chipmunk Blue\nAway Team: Chipmunk Green
 \nHome Score: 0\nAway Score: 1
END:VEVENT
BEGIN:VEVENT
UID:9226433@ezleagues.ezfacility.com
DTSTAMP:20260422T143735Z
CREATED:20260422T143735Z
DTSTART:20160415T220000Z
DTEND:20160415T230000Z
LOCATION:Outdoor Dek
CONTACT:
SUMMARY:Chipmunk Black VS. Chipmunk Blue
DESCRIPTION:League Name: Chipmunk (Early Spring 2016)\nGame Type: Regular\n
 Game Status: Complete\nHome Team: Chipmunk Black\nAway Team: Chipmunk Blue
 \nHome Score: 1\nAway Score: 0
END:VEVENT
BEGIN:VEVENT
UID:9226439@ezleagues.ezfacility.com
DTSTAMP:20260422T143735Z
CREATED:20260422T143735Z
DTSTART:20160416T150000Z
DTEND:20160416T160000Z
LOCATION:Outdoor Dek
CONTACT:
SUMMARY:Chipmunk Blue VS. Chipmunk Red
DESCRIPTION:League Name: Chipmunk (Early Spring 2016)\nGame Type: Regular\n
 Game Status: Complete\nHome Team: Chipmunk Blue\nAway Team: Chipmunk Red\n
 Home Score: 1\nAway Score: 0
END:VEVENT
BEGIN:VEVENT
UID:9226440@ezleagues.ezfacility.com
DTSTAMP:20260422T143735Z
CREATED:20260422T143735Z
DTSTART:20160422T220000Z
DTEND:20160422T230000Z
LOCATION:Outdoor Dek
CONTACT:
SUMMARY:Chipmunk Blue VS. Chipmunk Green
DESCRIPTION:League Name: Chipmunk (Early Spring 2016)\nGame Type: Regular\n
 Game Status: Complete\nHome Team: Chipmunk Blue\nAway Team: Chipmunk Green
 \nHome Score: 0\nAway Score: 1
END:VEVENT
BEGIN:VEVENT
UID:9226443@ezleagues.ezfacility.com
DTSTAMP:20260422T143735Z
CREATED:20260422T143735Z
DTSTART:20160423T150000Z
DTEND:20160423T160000Z
LOCATION:Outdoor Dek
CONTACT:
SUMMARY:Chipmunk Black VS. Chipmunk Blue
DESCRIPTION:League Name: Chipmunk (Early Spring 2016)\nGame Type: Regular\n
 Game Status: Complete\nHome Team: Chipmunk Black\nAway Team: Chipmunk Blue
 \nHome Score: 1\nAway Score: 0
END:VEVENT
BEGIN:VEVENT
UID:9226444@ezleagues.ezfacility.com
DTSTAMP:20260422T143735Z
CREATED:20260422T143735Z
DTSTART:20160430T140000Z
DTEND:20160430T150000Z
LOCATION:Outdoor Dek
CONTACT:
SUMMARY:Chipmunk Blue VS. Chipmunk Green
DESCRIPTION:League Name: Chipmunk (Early Spring 2016)\nGame Type: Regular\n
 Game Status: Complete\nHome Team: Chipmunk Blue\nAway Team: Chipmunk Green
 \nHome Score: 1\nAway Score: 1
END:VEVENT
BEGIN:VEVENT
UID:9226447@ezleagues.ezfacility.com
DTSTAMP:20260422T143735Z
CREATED:20260422T143735Z
DTSTART:20160507T150000Z
DTEND:20160507T160000Z
LOCATION:Outdoor Dek
CONTACT:
SUMMARY:Chipmunk Blue VS. Chipmunk Red
DESCRIPTION:League Name: Chipmunk (Early Spring 2016)\nGame Type: Regular\n
 Game Status: Complete\nHome Team: Chipmunk Blue\nAway Team: Chipmunk Red\n
 Home Score: 1\nAway Score: 0
END:VEVENT
BEGIN:VEVENT
UID:9310128@ezleagues.ezfacility.com
DTSTAMP:20260422T143735Z
CREATED:20260422T143735Z
DTSTART:20160514T120000Z
DTEND:20160514T130000Z
LOCATION:Outdoor Dek
CONTACT:
SUMMARY:Chipmunk Green VS. Chipmunk Blue
DESCRIPTION:League Name: Chipmunk (Early Spring 2016)\nGame Type: Postseaso
 n\nGame Status: Complete\nHome Team: Chipmunk Green\nAway Team: Chipmunk B
 lue\nHome Score: 1\nAway Score: 0
END:VEVENT
END:VCALENDAR
