BEGIN:VCALENDAR
VERSION:2.0
PRODID:-//EZFacility.com, Inc.//EZL 2.5.5.28621
BEGIN:VEVENT
UID:9194416@ezleagues.ezfacility.com
DTSTAMP:20260423T115835Z
CREATED:20260423T115835Z
DTSTART:20160319T180000Z
DTEND:20160319T190000Z
LOCATION:Outdoor Dek
CONTACT:
SUMMARY:Beaver Yellow VS. Beaver Blue
DESCRIPTION:League Name: Beaver (Early Spring 2016)\nGame Type: Regular\nGa
 me Status: Complete\nHome Team: Beaver Yellow\nAway Team: Beaver Blue\nHom
 e Score: 3\nAway Score: 6
END:VEVENT
BEGIN:VEVENT
UID:9203938@ezleagues.ezfacility.com
DTSTAMP:20260423T115835Z
CREATED:20260423T115835Z
DTSTART:20160326T170000Z
DTEND:20160326T180000Z
LOCATION:Outdoor Dek
CONTACT:
SUMMARY:Beaver Orange VS. Beaver Yellow
DESCRIPTION:League Name: Beaver (Early Spring 2016)\nGame Type: Regular\nGa
 me Status: Complete\nHome Team: Beaver Orange\nAway Team: Beaver Yellow\nH
 ome Score: 3\nAway Score: 9
END:VEVENT
BEGIN:VEVENT
UID:9226748@ezleagues.ezfacility.com
DTSTAMP:20260423T115835Z
CREATED:20260423T115835Z
DTSTART:20160402T000000Z
DTEND:20160402T010000Z
LOCATION:Outdoor Dek
CONTACT:
SUMMARY:Beaver Yellow VS. Beaver Silver 
DESCRIPTION:League Name: Beaver (Early Spring 2016)\nGame Type: Regular\nGa
 me Status: Complete\nHome Team: Beaver Yellow\nAway Team: Beaver Silver \n
 Home Score: 6\nAway Score: 5
END:VEVENT
BEGIN:VEVENT
UID:9226769@ezleagues.ezfacility.com
DTSTAMP:20260423T115835Z
CREATED:20260423T115835Z
DTSTART:20160402T170000Z
DTEND:20160402T180000Z
LOCATION:Outdoor Dek
CONTACT:
SUMMARY:Beaver Green VS. Beaver Yellow
DESCRIPTION:League Name: Beaver (Early Spring 2016)\nGame Type: Regular\nGa
 me Status: Complete\nHome Team: Beaver Green\nAway Team: Beaver Yellow\nHo
 me Score: 2\nAway Score: 2
END:VEVENT
BEGIN:VEVENT
UID:9226881@ezleagues.ezfacility.com
DTSTAMP:20260423T115835Z
CREATED:20260423T115835Z
DTSTART:20160409T180000Z
DTEND:20160409T190000Z
LOCATION:Outdoor Dek
CONTACT:
SUMMARY:Beaver Silver  VS. Beaver Yellow
DESCRIPTION:League Name: Beaver (Early Spring 2016)\nGame Type: Regular\nGa
 me Status: Complete\nHome Team: Beaver Silver \nAway Team: Beaver Yellow\n
 Home Score: 4\nAway Score: 6
END:VEVENT
BEGIN:VEVENT
UID:9226884@ezleagues.ezfacility.com
DTSTAMP:20260423T115835Z
CREATED:20260423T115835Z
DTSTART:20160416T160000Z
DTEND:20160416T170000Z
LOCATION:Outdoor Dek
CONTACT:
SUMMARY:Beaver Yellow VS. Beaver Black
DESCRIPTION:League Name: Beaver (Early Spring 2016)\nGame Type: Regular\nGa
 me Status: Complete\nHome Team: Beaver Yellow\nAway Team: Beaver Black\nHo
 me Score: 3\nAway Score: 4
END:VEVENT
BEGIN:VEVENT
UID:9226887@ezleagues.ezfacility.com
DTSTAMP:20260423T115835Z
CREATED:20260423T115835Z
DTSTART:20160423T000000Z
DTEND:20160423T010000Z
LOCATION:Outdoor Dek
CONTACT:
SUMMARY:Beaver Yellow VS. Beaver Green
DESCRIPTION:League Name: Beaver (Early Spring 2016)\nGame Type: Regular\nGa
 me Status: Complete\nHome Team: Beaver Yellow\nAway Team: Beaver Green\nHo
 me Score: 5\nAway Score: 1
END:VEVENT
BEGIN:VEVENT
UID:9226892@ezleagues.ezfacility.com
DTSTAMP:20260423T115835Z
CREATED:20260423T115835Z
DTSTART:20160430T010000Z
DTEND:20160430T020000Z
LOCATION:Outdoor Dek
CONTACT:
SUMMARY:Beaver Black VS. Beaver Yellow
DESCRIPTION:League Name: Beaver (Early Spring 2016)\nGame Type: Regular\nGa
 me Status: Complete\nHome Team: Beaver Black\nAway Team: Beaver Yellow\nHo
 me Score: 1\nAway Score: 4
END:VEVENT
BEGIN:VEVENT
UID:9226894@ezleagues.ezfacility.com
DTSTAMP:20260423T115835Z
CREATED:20260423T115835Z
DTSTART:20160430T170000Z
DTEND:20160430T180000Z
LOCATION:Outdoor Dek
CONTACT:
SUMMARY:Beaver Blue VS. Beaver Yellow
DESCRIPTION:League Name: Beaver (Early Spring 2016)\nGame Type: Regular\nGa
 me Status: Complete\nHome Team: Beaver Blue\nAway Team: Beaver Yellow\nHom
 e Score: 3\nAway Score: 7
END:VEVENT
BEGIN:VEVENT
UID:9226897@ezleagues.ezfacility.com
DTSTAMP:20260423T115835Z
CREATED:20260423T115835Z
DTSTART:20160507T170000Z
DTEND:20160507T180000Z
LOCATION:Outdoor Dek
CONTACT:
SUMMARY:Beaver Yellow VS. Beaver Red
DESCRIPTION:League Name: Beaver (Early Spring 2016)\nGame Type: Regular\nGa
 me Status: Complete\nHome Team: Beaver Yellow\nAway Team: Beaver Red\nHome
  Score: 6\nAway Score: 0
END:VEVENT
BEGIN:VEVENT
UID:9310148@ezleagues.ezfacility.com
DTSTAMP:20260423T115835Z
CREATED:20260423T115835Z
DTSTART:20160515T010000Z
DTEND:20160515T020000Z
LOCATION:Outdoor Dek
CONTACT:
SUMMARY:Beaver Yellow VS. Beaver Orange
DESCRIPTION:League Name: Beaver (Early Spring 2016)\nGame Type: Postseason\
 nGame Status: Complete\nHome Team: Beaver Yellow\nAway Team: Beaver Orange
 \nHome Score: 5\nAway Score: 0
END:VEVENT
BEGIN:VEVENT
UID:9310149@ezleagues.ezfacility.com
DTSTAMP:20260423T115835Z
CREATED:20260423T115835Z
DTSTART:20160515T170000Z
DTEND:20160515T180000Z
LOCATION:Outdoor Dek
CONTACT:
SUMMARY:Beaver Yellow VS. Beaver Black
DESCRIPTION:League Name: Beaver (Early Spring 2016)\nGame Type: Postseason\
 nGame Status: Complete\nHome Team: Beaver Yellow\nAway Team: Beaver Black\
 nHome Score: 2\nAway Score: 3
END:VEVENT
END:VCALENDAR
