BEGIN:VCALENDAR
VERSION:2.0
PRODID:-//EZFacility.com, Inc.//EZL 2.5.5.28621
BEGIN:VEVENT
UID:9318948@ezleagues.ezfacility.com
DTSTAMP:20260426T034925Z
CREATED:20260426T034925Z
DTSTART:20160510T050000Z
DTEND:20160510T060000Z
LOCATION:RCF East - Portland
CONTACT:
SUMMARY:Trophy Wives  VS. Bamn I
DESCRIPTION:League Name: Spring II Adult 2016-Women's Weekday - D2 M/F\nGam
 e Type: Regular\nGame Status: Complete\nHome Team: Trophy Wives \nAway Tea
 m: Bamn I\nHome Score: 3\nAway Score: 3
END:VEVENT
BEGIN:VEVENT
UID:9318963@ezleagues.ezfacility.com
DTSTAMP:20260426T034925Z
CREATED:20260426T034925Z
DTSTART:20160521T030000Z
DTEND:20160521T040000Z
LOCATION:RCF East - Portland
CONTACT:
SUMMARY:A Corgi named Tobi VS. Trophy Wives 
DESCRIPTION:League Name: Spring II Adult 2016-Women's Weekday - D2 M/F\nGam
 e Type: Regular\nGame Status: Complete\nHome Team: A Corgi named Tobi\nAwa
 y Team: Trophy Wives \nHome Score: 8\nAway Score: 8
END:VEVENT
BEGIN:VEVENT
UID:9318980@ezleagues.ezfacility.com
DTSTAMP:20260426T034925Z
CREATED:20260426T034925Z
DTSTART:20160524T050000Z
DTEND:20160524T060000Z
LOCATION:RCF East - Portland
CONTACT:
SUMMARY:Prov Girls with a Mission  VS. Trophy Wives 
DESCRIPTION:League Name: Spring II Adult 2016-Women's Weekday - D2 M/F\nGam
 e Type: Regular\nGame Status: Complete\nHome Team: Prov Girls with a Missi
 on \nAway Team: Trophy Wives \nHome Score: 9\nAway Score: 11
END:VEVENT
BEGIN:VEVENT
UID:9318997@ezleagues.ezfacility.com
DTSTAMP:20260426T034925Z
CREATED:20260426T034925Z
DTSTART:20160531T044000Z
DTEND:20160531T054000Z
LOCATION:RCF East - Rio
CONTACT:
SUMMARY:Trophy Wives  VS. Bees Knees
DESCRIPTION:League Name: Spring II Adult 2016-Women's Weekday - D2 M/F\nGam
 e Type: Regular\nGame Status: Complete\nHome Team: Trophy Wives \nAway Tea
 m: Bees Knees\nHome Score: 5\nAway Score: 3
END:VEVENT
BEGIN:VEVENT
UID:9319013@ezleagues.ezfacility.com
DTSTAMP:20260426T034925Z
CREATED:20260426T034925Z
DTSTART:20160607T034000Z
DTEND:20160607T044000Z
LOCATION:RCF East - Rio
CONTACT:
SUMMARY:Vontraps VS. Trophy Wives 
DESCRIPTION:League Name: Spring II Adult 2016-Women's Weekday - D2 M/F\nGam
 e Type: Regular\nGame Status: Complete\nHome Team: Vontraps\nAway Team: Tr
 ophy Wives \nHome Score: 4\nAway Score: 2
END:VEVENT
BEGIN:VEVENT
UID:9319028@ezleagues.ezfacility.com
DTSTAMP:20260426T034925Z
CREATED:20260426T034925Z
DTSTART:20160614T032000Z
DTEND:20160614T042000Z
LOCATION:RCF East - Barcelona
CONTACT:
SUMMARY:Bamn I VS. Trophy Wives 
DESCRIPTION:League Name: Spring II Adult 2016-Women's Weekday - D2 M/F\nGam
 e Type: Regular\nGame Status: Complete\nHome Team: Bamn I\nAway Team: Trop
 hy Wives \nHome Score: 3\nAway Score: 8
END:VEVENT
BEGIN:VEVENT
UID:9319043@ezleagues.ezfacility.com
DTSTAMP:20260426T034925Z
CREATED:20260426T034925Z
DTSTART:20160621T052000Z
DTEND:20160621T062000Z
LOCATION:RCF East - Barcelona
CONTACT:
SUMMARY:Trophy Wives  VS. A Corgi named Tobi
DESCRIPTION:League Name: Spring II Adult 2016-Women's Weekday - D2 M/F\nGam
 e Type: Regular\nGame Status: Complete\nHome Team: Trophy Wives \nAway Tea
 m: A Corgi named Tobi\nHome Score: 5\nAway Score: 11
END:VEVENT
BEGIN:VEVENT
UID:9319060@ezleagues.ezfacility.com
DTSTAMP:20260426T034925Z
CREATED:20260426T034925Z
DTSTART:20160628T022000Z
DTEND:20160628T032000Z
LOCATION:RCF East - Barcelona
CONTACT:
SUMMARY:Trophy Wives  VS. Prov Girls with a Mission 
DESCRIPTION:League Name: Spring II Adult 2016-Women's Weekday - D2 M/F\nGam
 e Type: Regular\nGame Status: Complete\nHome Team: Trophy Wives \nAway Tea
 m: Prov Girls with a Mission \nHome Score: 6\nAway Score: 5
END:VEVENT
END:VCALENDAR
