BEGIN:VCALENDAR
VERSION:2.0
PRODID:-//EZFacility.com, Inc.//EZL 2.5.5.28621
BEGIN:VEVENT
UID:9430824@ezleagues.ezfacility.com
DTSTAMP:20260423T124439Z
CREATED:20260423T124439Z
DTSTART:20160621T233000Z
DTEND:20160622T003000Z
LOCATION:Jessup Premier Field #1
CONTACT:
SUMMARY:America VS. Juventus
DESCRIPTION:League Name: Tues Mens Open 2nd div \nGame Type: Regular\nGame 
 Status: Complete\nHome Team: America\nAway Team: Juventus\nHome Score: 3\n
 Away Score: 0
END:VEVENT
BEGIN:VEVENT
UID:9430832@ezleagues.ezfacility.com
DTSTAMP:20260423T124439Z
CREATED:20260423T124439Z
DTSTART:20160628T233000Z
DTEND:20160629T003000Z
LOCATION:Jessup Premier Field #1
CONTACT:
SUMMARY:Juventus VS. Well Developed FC
DESCRIPTION:League Name: Tues Mens Open 2nd div \nGame Type: Regular\nGame 
 Status: Complete\nHome Team: Juventus\nAway Team: Well Developed FC\nHome 
 Score: 5\nAway Score: 3
END:VEVENT
BEGIN:VEVENT
UID:9430840@ezleagues.ezfacility.com
DTSTAMP:20260423T124439Z
CREATED:20260423T124439Z
DTSTART:20160705T233000Z
DTEND:20160706T003000Z
LOCATION:Jessup Premier Field #1
CONTACT:
SUMMARY:Juventus VS. Real Annapolis
DESCRIPTION:League Name: Tues Mens Open 2nd div \nGame Type: Regular\nGame 
 Status: Complete\nHome Team: Juventus\nAway Team: Real Annapolis\nHome Sco
 re: 6\nAway Score: 2
END:VEVENT
BEGIN:VEVENT
UID:9430848@ezleagues.ezfacility.com
DTSTAMP:20260423T124439Z
CREATED:20260423T124439Z
DTSTART:20160712T233000Z
DTEND:20160713T003000Z
LOCATION:Jessup Premier Field #1
CONTACT:
SUMMARY:Juventus VS. Team 1
DESCRIPTION:League Name: Tues Mens Open 2nd div \nGame Type: Regular\nGame 
 Status: Complete\nHome Team: Juventus\nAway Team: Team 1\nHome Score: 6\nA
 way Score: 2
END:VEVENT
BEGIN:VEVENT
UID:9430856@ezleagues.ezfacility.com
DTSTAMP:20260423T124439Z
CREATED:20260423T124439Z
DTSTART:20160719T233000Z
DTEND:20160720T003000Z
LOCATION:Jessup Premier Field #1
CONTACT:
SUMMARY:Latin Kings VS. Juventus
DESCRIPTION:League Name: Tues Mens Open 2nd div \nGame Type: Regular\nGame 
 Status: Complete\nHome Team: Latin Kings\nAway Team: Juventus\nHome Score:
  4\nAway Score: 7
END:VEVENT
BEGIN:VEVENT
UID:9430864@ezleagues.ezfacility.com
DTSTAMP:20260423T124439Z
CREATED:20260423T124439Z
DTSTART:20160726T233000Z
DTEND:20160727T003000Z
LOCATION:Jessup Premier Field #1
CONTACT:
SUMMARY:YG United VS. Juventus
DESCRIPTION:League Name: Tues Mens Open 2nd div \nGame Type: Regular\nGame 
 Status: Complete\nHome Team: YG United\nAway Team: Juventus\nHome Score: 3
 \nAway Score: 9
END:VEVENT
BEGIN:VEVENT
UID:9430872@ezleagues.ezfacility.com
DTSTAMP:20260423T124439Z
CREATED:20260423T124439Z
DTSTART:20160802T233000Z
DTEND:20160803T003000Z
LOCATION:Jessup Premier Field #1
CONTACT:
SUMMARY:Fusion FC VS. Juventus
DESCRIPTION:League Name: Tues Mens Open 2nd div \nGame Type: Regular\nGame 
 Status: Complete\nHome Team: Fusion FC\nAway Team: Juventus\nHome Score: 7
 \nAway Score: 5
END:VEVENT
BEGIN:VEVENT
UID:9514839@ezleagues.ezfacility.com
DTSTAMP:20260423T124439Z
CREATED:20260423T124439Z
DTSTART:20160809T233000Z
DTEND:20160810T001800Z
LOCATION:Jessup Premier Field #1
CONTACT:
SUMMARY:Fusion FC VS. Juventus
DESCRIPTION:League Name: Tues Mens Open 2nd div \nGame Type: Regular\nGame 
 Status: Complete\nHome Team: Fusion FC\nAway Team: Juventus\nHome Score: 1
 \nAway Score: 3
END:VEVENT
BEGIN:VEVENT
UID:9528785@ezleagues.ezfacility.com
DTSTAMP:20260423T124439Z
CREATED:20260423T124439Z
DTSTART:20160817T003000Z
DTEND:20160817T013000Z
LOCATION:Jessup Premier Field #1
CONTACT:
SUMMARY:America VS. Juventus
DESCRIPTION:League Name: Tues Mens Open 2nd div \nGame Type: Regular\nGame 
 Status: Complete\nHome Team: America\nAway Team: Juventus\nHome Score: 3\n
 Away Score: 0
END:VEVENT
END:VCALENDAR
