BEGIN:VCALENDAR
VERSION:2.0
PRODID:-//EZFacility.com, Inc.//EZL 2.5.5.28621
BEGIN:VEVENT
UID:9477795@ezleagues.ezfacility.com
DTSTAMP:20260426T035007Z
CREATED:20260426T035007Z
DTSTART:20160713T120000Z
DTEND:20160713T124000Z
LOCATION:Hull - Pitch 1
CONTACT:
SUMMARY:SS TIGERS VS. LONGHILL RAVENS ALLSTARS
DESCRIPTION:League Name: CHAMPIONS LEAGUE GRP D WED U9S\nGame Type: Regular
 \nGame Status: Complete\nHome Team: SS TIGERS\nAway Team: LONGHILL RAVENS 
 ALLSTARS\nHome Score: 0\nAway Score: 6
END:VEVENT
BEGIN:VEVENT
UID:9477797@ezleagues.ezfacility.com
DTSTAMP:20260426T035007Z
CREATED:20260426T035007Z
DTSTART:20160713T120000Z
DTEND:20160713T124000Z
LOCATION:Hull - Pitch 1
CONTACT:
SUMMARY:HEDON RANGERS EASTSIDE VS. SS TIGERS
DESCRIPTION:League Name: CHAMPIONS LEAGUE GRP D WED U9S\nGame Type: Regular
 \nGame Status: Complete\nHome Team: HEDON RANGERS EASTSIDE\nAway Team: SS 
 TIGERS\nHome Score: 4\nAway Score: 3
END:VEVENT
END:VCALENDAR
