BEGIN:VCALENDAR
VERSION:2.0
PRODID:-//EZFacility.com, Inc.//EZL 2.5.5.28621
BEGIN:VEVENT
UID:9462847@ezleagues.ezfacility.com
DTSTAMP:20260426T033626Z
CREATED:20260426T033626Z
DTSTART:20160707T120000Z
DTEND:20160707T124000Z
LOCATION:Hull - Pitch 1
CONTACT:
SUMMARY:SS VULCANS VS. SS BOMBERS
DESCRIPTION:League Name: PURPLE LEAGUE U8S\nGame Type: Regular\nGame Status
 : Complete\nHome Team: SS VULCANS\nAway Team: SS BOMBERS\nHome Score: 0\nA
 way Score: 4
END:VEVENT
BEGIN:VEVENT
UID:9462844@ezleagues.ezfacility.com
DTSTAMP:20260426T033626Z
CREATED:20260426T033626Z
DTSTART:20160707T120000Z
DTEND:20160707T124000Z
LOCATION:Hull - Pitch 1
CONTACT:
SUMMARY:SS WARRIORS VS. SS VULCANS
DESCRIPTION:League Name: PURPLE LEAGUE U8S\nGame Type: Regular\nGame Status
 : Complete\nHome Team: SS WARRIORS\nAway Team: SS VULCANS\nHome Score: 5\n
 Away Score: 0
END:VEVENT
BEGIN:VEVENT
UID:9462845@ezleagues.ezfacility.com
DTSTAMP:20260426T033626Z
CREATED:20260426T033626Z
DTSTART:20160707T120000Z
DTEND:20160707T124000Z
LOCATION:Hull - Pitch 1
CONTACT:
SUMMARY:HULL UTD REDS VS. SS VULCANS
DESCRIPTION:League Name: PURPLE LEAGUE U8S\nGame Type: Regular\nGame Status
 : Complete\nHome Team: HULL UTD REDS\nAway Team: SS VULCANS\nHome Score: 6
 \nAway Score: 0
END:VEVENT
BEGIN:VEVENT
UID:9477376@ezleagues.ezfacility.com
DTSTAMP:20260426T033626Z
CREATED:20260426T033626Z
DTSTART:20160713T120000Z
DTEND:20160713T124000Z
LOCATION:Hull - Pitch 1
CONTACT:
SUMMARY:SS WARRIORS VS. SS VULCANS
DESCRIPTION:League Name: PURPLE LEAGUE U8S\nGame Type: Regular\nGame Status
 : Complete\nHome Team: SS WARRIORS\nAway Team: SS VULCANS\nHome Score: 2\n
 Away Score: 0
END:VEVENT
BEGIN:VEVENT
UID:9477370@ezleagues.ezfacility.com
DTSTAMP:20260426T033626Z
CREATED:20260426T033626Z
DTSTART:20160713T120000Z
DTEND:20160713T124000Z
LOCATION:Hull - Pitch 1
CONTACT:
SUMMARY:SS VULCANS VS. SS BOMBERS
DESCRIPTION:League Name: PURPLE LEAGUE U8S\nGame Type: Regular\nGame Status
 : Complete\nHome Team: SS VULCANS\nAway Team: SS BOMBERS\nHome Score: 2\nA
 way Score: 4
END:VEVENT
BEGIN:VEVENT
UID:9477371@ezleagues.ezfacility.com
DTSTAMP:20260426T033626Z
CREATED:20260426T033626Z
DTSTART:20160713T120000Z
DTEND:20160713T124000Z
LOCATION:Hull - Pitch 1
CONTACT:
SUMMARY:SS VULCANS VS. SS WARRIORS
DESCRIPTION:League Name: PURPLE LEAGUE U8S\nGame Type: Regular\nGame Status
 : Complete\nHome Team: SS VULCANS\nAway Team: SS WARRIORS\nHome Score: 0\n
 Away Score: 3
END:VEVENT
BEGIN:VEVENT
UID:9477372@ezleagues.ezfacility.com
DTSTAMP:20260426T033626Z
CREATED:20260426T033626Z
DTSTART:20160713T120000Z
DTEND:20160713T124000Z
LOCATION:Hull - Pitch 1
CONTACT:
SUMMARY:SS VULCANS VS. SS BOMBERS
DESCRIPTION:League Name: PURPLE LEAGUE U8S\nGame Type: Regular\nGame Status
 : Complete\nHome Team: SS VULCANS\nAway Team: SS BOMBERS\nHome Score: 1\nA
 way Score: 6
END:VEVENT
BEGIN:VEVENT
UID:9490533@ezleagues.ezfacility.com
DTSTAMP:20260426T033626Z
CREATED:20260426T033626Z
DTSTART:20160720T120000Z
DTEND:20160720T124000Z
LOCATION:Hull - Pitch 1
CONTACT:
SUMMARY:SS VULCANS VS. SS BOMBERS
DESCRIPTION:League Name: PURPLE LEAGUE U8S\nGame Type: Regular\nGame Status
 : Complete\nHome Team: SS VULCANS\nAway Team: SS BOMBERS\nHome Score: 0\nA
 way Score: 4
END:VEVENT
BEGIN:VEVENT
UID:9490535@ezleagues.ezfacility.com
DTSTAMP:20260426T033626Z
CREATED:20260426T033626Z
DTSTART:20160720T120000Z
DTEND:20160720T124000Z
LOCATION:Hull - Pitch 1
CONTACT:
SUMMARY:SS VULCANS VS. SS WARRIORS
DESCRIPTION:League Name: PURPLE LEAGUE U8S\nGame Type: Regular\nGame Status
 : Complete\nHome Team: SS VULCANS\nAway Team: SS WARRIORS\nHome Score: 0\n
 Away Score: 8
END:VEVENT
BEGIN:VEVENT
UID:9490529@ezleagues.ezfacility.com
DTSTAMP:20260426T033626Z
CREATED:20260426T033626Z
DTSTART:20160720T120000Z
DTEND:20160720T124000Z
LOCATION:Hull - Pitch 1
CONTACT:
SUMMARY:SS BOMBERS VS. SS VULCANS
DESCRIPTION:League Name: PURPLE LEAGUE U8S\nGame Type: Regular\nGame Status
 : Complete\nHome Team: SS BOMBERS\nAway Team: SS VULCANS\nHome Score: 3\nA
 way Score: 2
END:VEVENT
BEGIN:VEVENT
UID:9490530@ezleagues.ezfacility.com
DTSTAMP:20260426T033626Z
CREATED:20260426T033626Z
DTSTART:20160720T120000Z
DTEND:20160720T124000Z
LOCATION:Hull - Pitch 1
CONTACT:
SUMMARY:SS WARRIORS VS. SS VULCANS
DESCRIPTION:League Name: PURPLE LEAGUE U8S\nGame Type: Regular\nGame Status
 : Complete\nHome Team: SS WARRIORS\nAway Team: SS VULCANS\nHome Score: 6\n
 Away Score: 1
END:VEVENT
BEGIN:VEVENT
UID:9501686@ezleagues.ezfacility.com
DTSTAMP:20260426T033626Z
CREATED:20260426T033626Z
DTSTART:20160727T120000Z
DTEND:20160727T124000Z
LOCATION:Hull - Pitch 1
CONTACT:
SUMMARY:SS BOMBERS VS. SS VULCANS
DESCRIPTION:League Name: PURPLE LEAGUE U8S\nGame Type: Regular\nGame Status
 : Complete\nHome Team: SS BOMBERS\nAway Team: SS VULCANS\nHome Score: 3\nA
 way Score: 1
END:VEVENT
BEGIN:VEVENT
UID:9501683@ezleagues.ezfacility.com
DTSTAMP:20260426T033626Z
CREATED:20260426T033626Z
DTSTART:20160727T120000Z
DTEND:20160727T124000Z
LOCATION:Hull - Pitch 1
CONTACT:
SUMMARY:SS VULCANS VS. SS WARRIORS
DESCRIPTION:League Name: PURPLE LEAGUE U8S\nGame Type: Regular\nGame Status
 : Complete\nHome Team: SS VULCANS\nAway Team: SS WARRIORS\nHome Score: 2\n
 Away Score: 6
END:VEVENT
BEGIN:VEVENT
UID:9501690@ezleagues.ezfacility.com
DTSTAMP:20260426T033626Z
CREATED:20260426T033626Z
DTSTART:20160727T120000Z
DTEND:20160727T124000Z
LOCATION:Hull - Pitch 1
CONTACT:
SUMMARY:SS VULCANS VS. SS BOMBERS
DESCRIPTION:League Name: PURPLE LEAGUE U8S\nGame Type: Regular\nGame Status
 : Complete\nHome Team: SS VULCANS\nAway Team: SS BOMBERS\nHome Score: 1\nA
 way Score: 6
END:VEVENT
BEGIN:VEVENT
UID:9501687@ezleagues.ezfacility.com
DTSTAMP:20260426T033626Z
CREATED:20260426T033626Z
DTSTART:20160727T120000Z
DTEND:20160727T124000Z
LOCATION:Hull - Pitch 1
CONTACT:
SUMMARY:SS WARRIORS VS. SS VULCANS
DESCRIPTION:League Name: PURPLE LEAGUE U8S\nGame Type: Regular\nGame Status
 : Complete\nHome Team: SS WARRIORS\nAway Team: SS VULCANS\nHome Score: 4\n
 Away Score: 2
END:VEVENT
BEGIN:VEVENT
UID:9511035@ezleagues.ezfacility.com
DTSTAMP:20260426T033626Z
CREATED:20260426T033626Z
DTSTART:20160803T120000Z
DTEND:20160803T124000Z
LOCATION:Hull - Pitch 1
CONTACT:
SUMMARY:SS WARRIORS VS. SS VULCANS
DESCRIPTION:League Name: PURPLE LEAGUE U8S\nGame Type: Regular\nGame Status
 : Complete\nHome Team: SS WARRIORS\nAway Team: SS VULCANS\nHome Score: 8\n
 Away Score: 1
END:VEVENT
BEGIN:VEVENT
UID:9511036@ezleagues.ezfacility.com
DTSTAMP:20260426T033626Z
CREATED:20260426T033626Z
DTSTART:20160803T120000Z
DTEND:20160803T124000Z
LOCATION:Hull - Pitch 1
CONTACT:
SUMMARY:SS BOMBERS VS. SS VULCANS
DESCRIPTION:League Name: PURPLE LEAGUE U8S\nGame Type: Regular\nGame Status
 : Complete\nHome Team: SS BOMBERS\nAway Team: SS VULCANS\nHome Score: 1\nA
 way Score: 2
END:VEVENT
BEGIN:VEVENT
UID:9511041@ezleagues.ezfacility.com
DTSTAMP:20260426T033626Z
CREATED:20260426T033626Z
DTSTART:20160803T120000Z
DTEND:20160803T124000Z
LOCATION:Hull - Pitch 1
CONTACT:
SUMMARY:SS WARRIORS VS. SS VULCANS
DESCRIPTION:League Name: PURPLE LEAGUE U8S\nGame Type: Regular\nGame Status
 : Complete\nHome Team: SS WARRIORS\nAway Team: SS VULCANS\nHome Score: 7\n
 Away Score: 1
END:VEVENT
BEGIN:VEVENT
UID:9511043@ezleagues.ezfacility.com
DTSTAMP:20260426T033626Z
CREATED:20260426T033626Z
DTSTART:20160803T120000Z
DTEND:20160803T124000Z
LOCATION:Hull - Pitch 1
CONTACT:
SUMMARY:SS BOMBERS VS. SS VULCANS
DESCRIPTION:League Name: PURPLE LEAGUE U8S\nGame Type: Regular\nGame Status
 : Complete\nHome Team: SS BOMBERS\nAway Team: SS VULCANS\nHome Score: 0\nA
 way Score: 3
END:VEVENT
BEGIN:VEVENT
UID:9520653@ezleagues.ezfacility.com
DTSTAMP:20260426T033626Z
CREATED:20260426T033626Z
DTSTART:20160810T120000Z
DTEND:20160810T124000Z
LOCATION:Hull - Pitch 1
CONTACT:
SUMMARY:SS WARRIORS VS. SS VULCANS
DESCRIPTION:League Name: PURPLE LEAGUE U8S\nGame Type: Regular\nGame Status
 : Complete\nHome Team: SS WARRIORS\nAway Team: SS VULCANS\nHome Score: 5\n
 Away Score: 1
END:VEVENT
BEGIN:VEVENT
UID:9520654@ezleagues.ezfacility.com
DTSTAMP:20260426T033626Z
CREATED:20260426T033626Z
DTSTART:20160810T120000Z
DTEND:20160810T124000Z
LOCATION:Hull - Pitch 1
CONTACT:
SUMMARY:SS BOMBERS VS. SS VULCANS
DESCRIPTION:League Name: PURPLE LEAGUE U8S\nGame Type: Regular\nGame Status
 : Complete\nHome Team: SS BOMBERS\nAway Team: SS VULCANS\nHome Score: 0\nA
 way Score: 4
END:VEVENT
BEGIN:VEVENT
UID:9520656@ezleagues.ezfacility.com
DTSTAMP:20260426T033626Z
CREATED:20260426T033626Z
DTSTART:20160810T120000Z
DTEND:20160810T124000Z
LOCATION:Hull - Pitch 1
CONTACT:
SUMMARY:SS WARRIORS VS. SS VULCANS
DESCRIPTION:League Name: PURPLE LEAGUE U8S\nGame Type: Regular\nGame Status
 : Complete\nHome Team: SS WARRIORS\nAway Team: SS VULCANS\nHome Score: 3\n
 Away Score: 2
END:VEVENT
BEGIN:VEVENT
UID:9520657@ezleagues.ezfacility.com
DTSTAMP:20260426T033626Z
CREATED:20260426T033626Z
DTSTART:20160810T120000Z
DTEND:20160810T124000Z
LOCATION:Hull - Pitch 1
CONTACT:
SUMMARY:SS BOMBERS VS. SS VULCANS
DESCRIPTION:League Name: PURPLE LEAGUE U8S\nGame Type: Regular\nGame Status
 : Complete\nHome Team: SS BOMBERS\nAway Team: SS VULCANS\nHome Score: 2\nA
 way Score: 6
END:VEVENT
BEGIN:VEVENT
UID:9535427@ezleagues.ezfacility.com
DTSTAMP:20260426T033626Z
CREATED:20260426T033626Z
DTSTART:20160817T120000Z
DTEND:20160817T124000Z
LOCATION:Hull - Pitch 1
CONTACT:
SUMMARY:SS WARRIORS VS. SS VULCANS
DESCRIPTION:League Name: PURPLE LEAGUE U8S\nGame Type: Regular\nGame Status
 : Complete\nHome Team: SS WARRIORS\nAway Team: SS VULCANS\nHome Score: 5\n
 Away Score: 3
END:VEVENT
BEGIN:VEVENT
UID:9535432@ezleagues.ezfacility.com
DTSTAMP:20260426T033626Z
CREATED:20260426T033626Z
DTSTART:20160817T120000Z
DTEND:20160817T124000Z
LOCATION:Hull - Pitch 1
CONTACT:
SUMMARY:SS WARRIORS VS. SS VULCANS
DESCRIPTION:League Name: PURPLE LEAGUE U8S\nGame Type: Regular\nGame Status
 : Complete\nHome Team: SS WARRIORS\nAway Team: SS VULCANS\nHome Score: 4\n
 Away Score: 1
END:VEVENT
BEGIN:VEVENT
UID:9535434@ezleagues.ezfacility.com
DTSTAMP:20260426T033626Z
CREATED:20260426T033626Z
DTSTART:20160817T120000Z
DTEND:20160817T124000Z
LOCATION:Hull - Pitch 1
CONTACT:
SUMMARY:SS BOMBERS VS. SS VULCANS
DESCRIPTION:League Name: PURPLE LEAGUE U8S\nGame Type: Regular\nGame Status
 : Complete\nHome Team: SS BOMBERS\nAway Team: SS VULCANS\nHome Score: 3\nA
 way Score: 1
END:VEVENT
BEGIN:VEVENT
UID:9535435@ezleagues.ezfacility.com
DTSTAMP:20260426T033626Z
CREATED:20260426T033626Z
DTSTART:20160817T120000Z
DTEND:20160817T124000Z
LOCATION:Hull - Pitch 1
CONTACT:
SUMMARY:SS VULCANS VS. SS BOMBERS
DESCRIPTION:League Name: PURPLE LEAGUE U8S\nGame Type: Regular\nGame Status
 : Complete\nHome Team: SS VULCANS\nAway Team: SS BOMBERS\nHome Score: 4\nA
 way Score: 2
END:VEVENT
BEGIN:VEVENT
UID:9566655@ezleagues.ezfacility.com
DTSTAMP:20260426T033626Z
CREATED:20260426T033626Z
DTSTART:20160831T120000Z
DTEND:20160831T124000Z
LOCATION:Hull - Pitch 1
CONTACT:
SUMMARY:SS VULCANS VS. SS WARRIORS
DESCRIPTION:League Name: PURPLE LEAGUE U8S\nGame Type: Regular\nGame Status
 : Complete\nHome Team: SS VULCANS\nAway Team: SS WARRIORS\nHome Score: 0\n
 Away Score: 2
END:VEVENT
BEGIN:VEVENT
UID:9592525@ezleagues.ezfacility.com
DTSTAMP:20260426T033626Z
CREATED:20260426T033626Z
DTSTART:20160907T120000Z
DTEND:20160907T124000Z
LOCATION:Hull - Pitch 1
CONTACT:
SUMMARY:SS WARRIORS VS. SS VULCANS
DESCRIPTION:League Name: PURPLE LEAGUE U8S\nGame Type: Regular\nGame Status
 : Complete\nHome Team: SS WARRIORS\nAway Team: SS VULCANS\nHome Score: 5\n
 Away Score: 2
END:VEVENT
END:VCALENDAR
