BEGIN:VCALENDAR
VERSION:2.0
PRODID:-//EZFacility.com, Inc.//EZL 2.5.5.28621
BEGIN:VEVENT
UID:9472075@ezleagues.ezfacility.com
DTSTAMP:20260422T101357Z
CREATED:20260422T101357Z
DTSTART:20160909T055000Z
DTEND:20160909T070500Z
LOCATION:Beaverton IC
CONTACT:
SUMMARY:#5 - PHAT PUX VS. #6 - BLACKHOLE TATTOO
DESCRIPTION:League Name: FALL 2016 DIV 2B\nGame Type: Regular\nGame Status:
  Complete\nHome Team: #5 - PHAT PUX\nAway Team: #6 - BLACKHOLE TATTOO\nHom
 e Score: 6\nAway Score: 0
END:VEVENT
BEGIN:VEVENT
UID:9472079@ezleagues.ezfacility.com
DTSTAMP:20260422T101357Z
CREATED:20260422T101357Z
DTSTART:20160915T051000Z
DTEND:20160915T062500Z
LOCATION:Beaverton IC
CONTACT:
SUMMARY:#6 - BLACKHOLE TATTOO VS. #8 - O.F. SPORTS MEDICINE
DESCRIPTION:League Name: FALL 2016 DIV 2B\nGame Type: Regular\nGame Status:
  Complete\nHome Team: #6 - BLACKHOLE TATTOO\nAway Team: #8 - O.F. SPORTS M
 EDICINE\nHome Score: 4\nAway Score: 2
END:VEVENT
BEGIN:VEVENT
UID:9472082@ezleagues.ezfacility.com
DTSTAMP:20260422T101357Z
CREATED:20260422T101357Z
DTSTART:20160923T055000Z
DTEND:20160923T070500Z
LOCATION:Beaverton IC
CONTACT:
SUMMARY:#7 - CLUSTER PUCKS VS. #6 - BLACKHOLE TATTOO
DESCRIPTION:League Name: FALL 2016 DIV 2B\nGame Type: Regular\nGame Status:
  Complete\nHome Team: #7 - CLUSTER PUCKS\nAway Team: #6 - BLACKHOLE TATTOO
 \nHome Score: 4\nAway Score: 3
END:VEVENT
BEGIN:VEVENT
UID:9472085@ezleagues.ezfacility.com
DTSTAMP:20260422T101357Z
CREATED:20260422T101357Z
DTSTART:20160928T063500Z
DTEND:20160928T075000Z
LOCATION:Beaverton IC
CONTACT:
SUMMARY:#6 - BLACKHOLE TATTOO VS. #3 - OILERS
DESCRIPTION:League Name: FALL 2016 DIV 2B\nGame Type: Regular\nGame Status:
  Complete\nHome Team: #6 - BLACKHOLE TATTOO\nAway Team: #3 - OILERS\nHome 
 Score: 0\nAway Score: 5
END:VEVENT
BEGIN:VEVENT
UID:9472088@ezleagues.ezfacility.com
DTSTAMP:20260422T101357Z
CREATED:20260422T101357Z
DTSTART:20161007T042500Z
DTEND:20161007T054000Z
LOCATION:Beaverton IC
CONTACT:
SUMMARY:#4 - THE SHINING VS. #6 - BLACKHOLE TATTOO
DESCRIPTION:League Name: FALL 2016 DIV 2B\nGame Type: Regular\nGame Status:
  Complete\nHome Team: #4 - THE SHINING\nAway Team: #6 - BLACKHOLE TATTOO\n
 Home Score: 3\nAway Score: 7
END:VEVENT
BEGIN:VEVENT
UID:9472093@ezleagues.ezfacility.com
DTSTAMP:20260422T101357Z
CREATED:20260422T101357Z
DTSTART:20161012T063500Z
DTEND:20161012T075000Z
LOCATION:Beaverton IC
CONTACT:
SUMMARY:#6 - BLACKHOLE TATTOO VS. #2 - SESSION
DESCRIPTION:League Name: FALL 2016 DIV 2B\nGame Type: Regular\nGame Status:
  Complete\nHome Team: #6 - BLACKHOLE TATTOO\nAway Team: #2 - SESSION\nHome
  Score: 3\nAway Score: 2
END:VEVENT
BEGIN:VEVENT
UID:9472098@ezleagues.ezfacility.com
DTSTAMP:20260422T101357Z
CREATED:20260422T101357Z
DTSTART:20161021T042500Z
DTEND:20161021T054000Z
LOCATION:Beaverton IC
CONTACT:
SUMMARY:#6 - BLACKHOLE TATTOO VS. #1 - MIGHTY DRUNKS
DESCRIPTION:League Name: FALL 2016 DIV 2B\nGame Type: Regular\nGame Status:
  Complete\nHome Team: #6 - BLACKHOLE TATTOO\nAway Team: #1 - MIGHTY DRUNKS
 \nHome Score: 1\nAway Score: 6
END:VEVENT
BEGIN:VEVENT
UID:9472103@ezleagues.ezfacility.com
DTSTAMP:20260422T101357Z
CREATED:20260422T101357Z
DTSTART:20161027T051000Z
DTEND:20161027T062500Z
LOCATION:Beaverton IC
CONTACT:
SUMMARY:#6 - BLACKHOLE TATTOO VS. #5 - PHAT PUX
DESCRIPTION:League Name: FALL 2016 DIV 2B\nGame Type: Regular\nGame Status:
  Complete\nHome Team: #6 - BLACKHOLE TATTOO\nAway Team: #5 - PHAT PUX\nHom
 e Score: 4\nAway Score: 2
END:VEVENT
BEGIN:VEVENT
UID:9472107@ezleagues.ezfacility.com
DTSTAMP:20260422T101357Z
CREATED:20260422T101357Z
DTSTART:20161103T051000Z
DTEND:20161103T062500Z
LOCATION:Beaverton IC
CONTACT:
SUMMARY:#8 - O.F. SPORTS MEDICINE VS. #6 - BLACKHOLE TATTOO
DESCRIPTION:League Name: FALL 2016 DIV 2B\nGame Type: Regular\nGame Status:
  Complete\nHome Team: #8 - O.F. SPORTS MEDICINE\nAway Team: #6 - BLACKHOLE
  TATTOO\nHome Score: 2\nAway Score: 0
END:VEVENT
BEGIN:VEVENT
UID:9472110@ezleagues.ezfacility.com
DTSTAMP:20260422T101357Z
CREATED:20260422T101357Z
DTSTART:20161109T073500Z
DTEND:20161109T085000Z
LOCATION:Beaverton IC
CONTACT:
SUMMARY:#7 - CLUSTER PUCKS VS. #6 - BLACKHOLE TATTOO
DESCRIPTION:League Name: FALL 2016 DIV 2B\nGame Type: Regular\nGame Status:
  Complete\nHome Team: #7 - CLUSTER PUCKS\nAway Team: #6 - BLACKHOLE TATTOO
 \nHome Score: 5\nAway Score: 3
END:VEVENT
BEGIN:VEVENT
UID:9472113@ezleagues.ezfacility.com
DTSTAMP:20260422T101357Z
CREATED:20260422T101357Z
DTSTART:20161116T073500Z
DTEND:20161116T085000Z
LOCATION:Beaverton IC
CONTACT:
SUMMARY:#3 - OILERS VS. #6 - BLACKHOLE TATTOO
DESCRIPTION:League Name: FALL 2016 DIV 2B\nGame Type: Regular\nGame Status:
  Complete\nHome Team: #3 - OILERS\nAway Team: #6 - BLACKHOLE TATTOO\nHome 
 Score: 4\nAway Score: 3
END:VEVENT
BEGIN:VEVENT
UID:9472116@ezleagues.ezfacility.com
DTSTAMP:20260422T101357Z
CREATED:20260422T101357Z
DTSTART:20161202T065000Z
DTEND:20161202T080500Z
LOCATION:Beaverton IC
CONTACT:
SUMMARY:#6 - BLACKHOLE TATTOO VS. #4 - THE SHINING
DESCRIPTION:League Name: FALL 2016 DIV 2B\nGame Type: Regular\nGame Status:
  Complete\nHome Team: #6 - BLACKHOLE TATTOO\nAway Team: #4 - THE SHINING\n
 Home Score: 3\nAway Score: 4
END:VEVENT
BEGIN:VEVENT
UID:9472179@ezleagues.ezfacility.com
DTSTAMP:20260422T101357Z
CREATED:20260422T101357Z
DTSTART:20161216T065000Z
DTEND:20161216T080500Z
LOCATION:Beaverton IC
CONTACT:
SUMMARY:#3 - OILERS VS. #6 - BLACKHOLE TATTOO
DESCRIPTION:League Name: FALL 2016 DIV 2B\nGame Type: Postseason\nGame Stat
 us: Complete\nHome Team: #3 - OILERS\nAway Team: #6 - BLACKHOLE TATTOO\nHo
 me Score: 2\nAway Score: 3
END:VEVENT
BEGIN:VEVENT
UID:9472181@ezleagues.ezfacility.com
DTSTAMP:20260422T101357Z
CREATED:20260422T101357Z
DTSTART:20161222T063000Z
DTEND:20161222T074500Z
LOCATION:Beaverton IC
CONTACT:
SUMMARY:#7 - CLUSTER PUCKS VS. #6 - BLACKHOLE TATTOO
DESCRIPTION:League Name: FALL 2016 DIV 2B\nGame Type: Postseason\nGame Stat
 us: Complete\nHome Team: #7 - CLUSTER PUCKS\nAway Team: #6 - BLACKHOLE TAT
 TOO\nHome Score: 4\nAway Score: 6
END:VEVENT
BEGIN:VEVENT
UID:9472182@ezleagues.ezfacility.com
DTSTAMP:20260422T101357Z
CREATED:20260422T101357Z
DTSTART:20161223T063000Z
DTEND:20161223T074500Z
LOCATION:Beaverton IC
CONTACT:
SUMMARY:#1 - MIGHTY DRUNKS VS. #6 - BLACKHOLE TATTOO
DESCRIPTION:League Name: FALL 2016 DIV 2B\nGame Type: Postseason\nGame Stat
 us: Complete\nHome Team: #1 - MIGHTY DRUNKS\nAway Team: #6 - BLACKHOLE TAT
 TOO\nHome Score: 2\nAway Score: 1
END:VEVENT
END:VCALENDAR
