BEGIN:VCALENDAR
VERSION:2.0
PRODID:-//EZFacility.com, Inc.//EZL 2.5.5.28621
BEGIN:VEVENT
UID:9505631@ezleagues.ezfacility.com
DTSTAMP:20260424T044350Z
CREATED:20260424T044350Z
DTSTART:20160806T150000Z
DTEND:20160806T163000Z
LOCATION:_
CONTACT:
SUMMARY:Berkshire United VS. Vampire Penguins
DESCRIPTION:League Name: 2016 Fall Outdoor Coed 0pen 11v11\nGame Type: Regu
 lar\nGame Status: Complete\nHome Team: Berkshire United\nAway Team: Vampir
 e Penguins\nHome Score: 4\nAway Score: 1
END:VEVENT
BEGIN:VEVENT
UID:9510366@ezleagues.ezfacility.com
DTSTAMP:20260424T044350Z
CREATED:20260424T044350Z
DTSTART:20160813T150000Z
DTEND:20160813T163000Z
LOCATION:_
CONTACT:
SUMMARY:Vampire Penguins VS. Team Retro
DESCRIPTION:League Name: 2016 Fall Outdoor Coed 0pen 11v11\nGame Type: Regu
 lar\nGame Status: Complete\nHome Team: Vampire Penguins\nAway Team: Team R
 etro\nHome Score: 1\nAway Score: 5
END:VEVENT
BEGIN:VEVENT
UID:9510369@ezleagues.ezfacility.com
DTSTAMP:20260424T044350Z
CREATED:20260424T044350Z
DTSTART:20160820T150000Z
DTEND:20160820T163000Z
LOCATION:_
CONTACT:
SUMMARY:Rounders VS. Vampire Penguins
DESCRIPTION:League Name: 2016 Fall Outdoor Coed 0pen 11v11\nGame Type: Regu
 lar\nGame Status: Complete\nHome Team: Rounders\nAway Team: Vampire Pengui
 ns\nHome Score: 2\nAway Score: 0
END:VEVENT
BEGIN:VEVENT
UID:9510376@ezleagues.ezfacility.com
DTSTAMP:20260424T044350Z
CREATED:20260424T044350Z
DTSTART:20160910T133000Z
DTEND:20160910T150000Z
LOCATION:Field 08
CONTACT:
SUMMARY:Vampire Penguins VS. Bulldogs
DESCRIPTION:League Name: 2016 Fall Outdoor Coed 0pen 11v11\nGame Type: Regu
 lar\nGame Status: Complete\nHome Team: Vampire Penguins\nAway Team: Bulldo
 gs\nHome Score: 4\nAway Score: 3
END:VEVENT
BEGIN:VEVENT
UID:9510400@ezleagues.ezfacility.com
DTSTAMP:20260424T044350Z
CREATED:20260424T044350Z
DTSTART:20160911T183000Z
DTEND:20160911T200000Z
LOCATION:_
CONTACT:
SUMMARY:Ross VS. Vampire Penguins
DESCRIPTION:League Name: 2016 Fall Outdoor Coed 0pen 11v11\nGame Type: Regu
 lar\nGame Status: Complete\nHome Team: Ross\nAway Team: Vampire Penguins\n
 Home Score: 6\nAway Score: 2
END:VEVENT
BEGIN:VEVENT
UID:9510383@ezleagues.ezfacility.com
DTSTAMP:20260424T044350Z
CREATED:20260424T044350Z
DTSTART:20160924T133000Z
DTEND:20160924T150000Z
LOCATION:_
CONTACT:
SUMMARY:BBBB VS. Vampire Penguins
DESCRIPTION:League Name: 2016 Fall Outdoor Coed 0pen 11v11\nGame Type: Regu
 lar\nGame Status: Complete\nHome Team: BBBB\nAway Team: Vampire Penguins\n
 Home Score: 7\nAway Score: 0
END:VEVENT
BEGIN:VEVENT
UID:9510391@ezleagues.ezfacility.com
DTSTAMP:20260424T044350Z
CREATED:20260424T044350Z
DTSTART:20161001T150000Z
DTEND:20161001T163000Z
LOCATION:_
CONTACT:
SUMMARY:Vampire Penguins VS. Scrubs
DESCRIPTION:League Name: 2016 Fall Outdoor Coed 0pen 11v11\nGame Type: Regu
 lar\nGame Status: Complete\nHome Team: Vampire Penguins\nAway Team: Scrubs
 \nHome Score: 0\nAway Score: 13
END:VEVENT
BEGIN:VEVENT
UID:9510396@ezleagues.ezfacility.com
DTSTAMP:20260424T044350Z
CREATED:20260424T044350Z
DTSTART:20161008T150000Z
DTEND:20161008T163000Z
LOCATION:_
CONTACT:
SUMMARY:Paris St Germaine VS. Vampire Penguins
DESCRIPTION:League Name: 2016 Fall Outdoor Coed 0pen 11v11\nGame Type: Regu
 lar\nGame Status: Complete\nHome Team: Paris St Germaine\nAway Team: Vampi
 re Penguins\nHome Score: 0\nAway Score: 3
END:VEVENT
END:VCALENDAR
