BEGIN:VCALENDAR
VERSION:2.0
PRODID:-//EZFacility.com, Inc.//EZL 2.5.5.28621
BEGIN:VEVENT
UID:9901405@ezleagues.ezfacility.com
DTSTAMP:20260419T231005Z
CREATED:20260419T231005Z
DTSTART:20161203T125500Z
DTEND:20161203T134300Z
LOCATION:Jessup Premier Field #1
CONTACT:
SUMMARY:FSC Revolution VS. A3 White '05
DESCRIPTION:League Name: Youth (WINTER 1) SD1 Sat/Sun U12 Boys BRONZE\nGame
  Type: Regular\nGame Status: Complete\nHome Team: FSC Revolution\nAway Tea
 m: A3 White '05\nHome Score: 6\nAway Score: 4
END:VEVENT
BEGIN:VEVENT
UID:9901436@ezleagues.ezfacility.com
DTSTAMP:20260419T231005Z
CREATED:20260419T231005Z
DTSTART:20161211T180000Z
DTEND:20161211T184800Z
LOCATION:Jessup Premier Field #1
CONTACT:
SUMMARY:FSC Revolution VS. Select Blue Harden
DESCRIPTION:League Name: Youth (WINTER 1) SD1 Sat/Sun U12 Boys BRONZE\nGame
  Type: Regular\nGame Status: Complete\nHome Team: FSC Revolution\nAway Tea
 m: Select Blue Harden\nHome Score: 0\nAway Score: 4
END:VEVENT
BEGIN:VEVENT
UID:9901560@ezleagues.ezfacility.com
DTSTAMP:20260419T231005Z
CREATED:20260419T231005Z
DTSTART:20170107T211000Z
DTEND:20170107T215800Z
LOCATION:Jessup Premier Field #1
CONTACT:
SUMMARY:Real Glen Burnie VS. FSC Revolution
DESCRIPTION:League Name: Youth (WINTER 1) SD1 Sat/Sun U12 Boys BRONZE\nGame
  Type: Regular\nGame Status: Complete\nHome Team: Real Glen Burnie\nAway T
 eam: FSC Revolution\nHome Score: 5\nAway Score: 5
END:VEVENT
BEGIN:VEVENT
UID:9901591@ezleagues.ezfacility.com
DTSTAMP:20260419T231005Z
CREATED:20260419T231005Z
DTSTART:20170114T120000Z
DTEND:20170114T124800Z
LOCATION:Jessup Premier Field #2
CONTACT:
SUMMARY:Laurel United  VS. FSC Revolution
DESCRIPTION:League Name: Youth (WINTER 1) SD1 Sat/Sun U12 Boys BRONZE\nGame
  Type: Regular\nGame Status: Complete\nHome Team: Laurel United \nAway Tea
 m: FSC Revolution\nHome Score: 6\nAway Score: 5
END:VEVENT
BEGIN:VEVENT
UID:9901467@ezleagues.ezfacility.com
DTSTAMP:20260419T231005Z
CREATED:20260419T231005Z
DTSTART:20170116T170000Z
DTEND:20170116T174800Z
LOCATION:Jessup Premier Field #1
CONTACT:
SUMMARY:FSC Revolution VS. Waldorf SC '05 Black
DESCRIPTION:League Name: Youth (WINTER 1) SD1 Sat/Sun U12 Boys BRONZE\nGame
  Type: Regular\nGame Status: Complete\nHome Team: FSC Revolution\nAway Tea
 m: Waldorf SC '05 Black\nHome Score: 1\nAway Score: 1
END:VEVENT
BEGIN:VEVENT
UID:9901622@ezleagues.ezfacility.com
DTSTAMP:20260419T231005Z
CREATED:20260419T231005Z
DTSTART:20170122T180000Z
DTEND:20170122T184800Z
LOCATION:Jessup Premier Field #1
CONTACT:
SUMMARY:Pipeline Gold VS. FSC Revolution
DESCRIPTION:League Name: Youth (WINTER 1) SD1 Sat/Sun U12 Boys BRONZE\nGame
  Type: Regular\nGame Status: Complete\nHome Team: Pipeline Gold\nAway Team
 : FSC Revolution\nHome Score: 2\nAway Score: 3
END:VEVENT
BEGIN:VEVENT
UID:9901498@ezleagues.ezfacility.com
DTSTAMP:20260419T231005Z
CREATED:20260419T231005Z
DTSTART:20170129T180000Z
DTEND:20170129T184800Z
LOCATION:Jessup Premier Field #1
CONTACT:
SUMMARY:FSC Revolution VS. SAC Tiger Sharks
DESCRIPTION:League Name: Youth (WINTER 1) SD1 Sat/Sun U12 Boys BRONZE\nGame
  Type: Regular\nGame Status: Complete\nHome Team: FSC Revolution\nAway Tea
 m: SAC Tiger Sharks\nHome Score: 5\nAway Score: 1
END:VEVENT
BEGIN:VEVENT
UID:9901529@ezleagues.ezfacility.com
DTSTAMP:20260419T231005Z
CREATED:20260419T231005Z
DTSTART:20170204T120000Z
DTEND:20170204T124800Z
LOCATION:Jessup Premier Field #2
CONTACT:
SUMMARY:White Falcons VS. FSC Revolution
DESCRIPTION:League Name: Youth (WINTER 1) SD1 Sat/Sun U12 Boys BRONZE\nGame
  Type: Regular\nGame Status: Complete\nHome Team: White Falcons\nAway Team
 : FSC Revolution\nHome Score: 8\nAway Score: 2
END:VEVENT
END:VCALENDAR
