BEGIN:VCALENDAR
VERSION:2.0
PRODID:-//EZFacility.com, Inc.//EZL 2.5.5.28621
BEGIN:VEVENT
UID:9901407@ezleagues.ezfacility.com
DTSTAMP:20260426T034925Z
CREATED:20260426T034925Z
DTSTART:20161203T144500Z
DTEND:20161203T153300Z
LOCATION:Jessup Premier Field #2
CONTACT:
SUMMARY:Pipeline Gold VS. Waldorf SC '05 Black
DESCRIPTION:League Name: Youth (WINTER 1) SD1 Sat/Sun U12 Boys BRONZE\nGame
  Type: Regular\nGame Status: Complete\nHome Team: Pipeline Gold\nAway Team
 : Waldorf SC '05 Black\nHome Score: 4\nAway Score: 2
END:VEVENT
BEGIN:VEVENT
UID:9901437@ezleagues.ezfacility.com
DTSTAMP:20260426T034925Z
CREATED:20260426T034925Z
DTSTART:20161210T220500Z
DTEND:20161210T225300Z
LOCATION:Jessup Premier Field #1
CONTACT:
SUMMARY:A3 White '05 VS. Waldorf SC '05 Black
DESCRIPTION:League Name: Youth (WINTER 1) SD1 Sat/Sun U12 Boys BRONZE\nGame
  Type: Regular\nGame Status: Complete\nHome Team: A3 White '05\nAway Team:
  Waldorf SC '05 Black\nHome Score: 4\nAway Score: 10
END:VEVENT
BEGIN:VEVENT
UID:9901563@ezleagues.ezfacility.com
DTSTAMP:20260426T034925Z
CREATED:20260426T034925Z
DTSTART:20170107T144500Z
DTEND:20170107T153300Z
LOCATION:Jessup Premier Field #1
CONTACT:
SUMMARY:Waldorf SC '05 Black VS. IFK Blues '05
DESCRIPTION:League Name: Youth (WINTER 1) SD1 Sat/Sun U12 Boys BRONZE\nGame
  Type: Regular\nGame Status: Rescheduled\nHome Team: Waldorf SC '05 Black\
 nAway Team: IFK Blues '05\n
END:VEVENT
BEGIN:VEVENT
UID:9901595@ezleagues.ezfacility.com
DTSTAMP:20260426T034925Z
CREATED:20260426T034925Z
DTSTART:20170114T125500Z
DTEND:20170114T134300Z
LOCATION:Jessup Premier Field #1
CONTACT:
SUMMARY:Waldorf SC '05 Black VS. Select Blue Harden
DESCRIPTION:League Name: Youth (WINTER 1) SD1 Sat/Sun U12 Boys BRONZE\nGame
  Type: Regular\nGame Status: Complete\nHome Team: Waldorf SC '05 Black\nAw
 ay Team: Select Blue Harden\nHome Score: 2\nAway Score: 3
END:VEVENT
BEGIN:VEVENT
UID:10059686@ezleagues.ezfacility.com
DTSTAMP:20260426T034925Z
CREATED:20260426T034925Z
DTSTART:20170116T130000Z
DTEND:20170116T134800Z
LOCATION:Jessup Premier Field #1
CONTACT:
SUMMARY:Waldorf SC '05 Black VS. IFK Blues '05
DESCRIPTION:League Name: Youth (WINTER 1) SD1 Sat/Sun U12 Boys BRONZE\nGame
  Type: Regular\nGame Status: Complete\nHome Team: Waldorf SC '05 Black\nAw
 ay Team: IFK Blues '05\nHome Score: 2\nAway Score: 5
END:VEVENT
BEGIN:VEVENT
UID:9901467@ezleagues.ezfacility.com
DTSTAMP:20260426T034925Z
CREATED:20260426T034925Z
DTSTART:20170116T170000Z
DTEND:20170116T174800Z
LOCATION:Jessup Premier Field #1
CONTACT:
SUMMARY:FSC Revolution VS. Waldorf SC '05 Black
DESCRIPTION:League Name: Youth (WINTER 1) SD1 Sat/Sun U12 Boys BRONZE\nGame
  Type: Regular\nGame Status: Complete\nHome Team: FSC Revolution\nAway Tea
 m: Waldorf SC '05 Black\nHome Score: 1\nAway Score: 1
END:VEVENT
BEGIN:VEVENT
UID:9901626@ezleagues.ezfacility.com
DTSTAMP:20260426T034925Z
CREATED:20260426T034925Z
DTSTART:20170121T201500Z
DTEND:20170121T210300Z
LOCATION:Jessup Premier Field #1
CONTACT:
SUMMARY:SAC Tiger Sharks VS. Waldorf SC '05 Black
DESCRIPTION:League Name: Youth (WINTER 1) SD1 Sat/Sun U12 Boys BRONZE\nGame
  Type: Regular\nGame Status: Complete\nHome Team: SAC Tiger Sharks\nAway T
 eam: Waldorf SC '05 Black\nHome Score: 1\nAway Score: 4
END:VEVENT
BEGIN:VEVENT
UID:9901499@ezleagues.ezfacility.com
DTSTAMP:20260426T034925Z
CREATED:20260426T034925Z
DTSTART:20170128T163500Z
DTEND:20170128T172300Z
LOCATION:Jessup Premier Field #1
CONTACT:
SUMMARY:Waldorf SC '05 Black VS. White Falcons
DESCRIPTION:League Name: Youth (WINTER 1) SD1 Sat/Sun U12 Boys BRONZE\nGame
  Type: Regular\nGame Status: Complete\nHome Team: Waldorf SC '05 Black\nAw
 ay Team: White Falcons\nHome Score: 3\nAway Score: 1
END:VEVENT
BEGIN:VEVENT
UID:9901531@ezleagues.ezfacility.com
DTSTAMP:20260426T034925Z
CREATED:20260426T034925Z
DTSTART:20170204T182500Z
DTEND:20170204T191300Z
LOCATION:Jessup Premier Field #2
CONTACT:
SUMMARY:Waldorf SC '05 Black VS. Laurel United 
DESCRIPTION:League Name: Youth (WINTER 1) SD1 Sat/Sun U12 Boys BRONZE\nGame
  Type: Regular\nGame Status: Complete\nHome Team: Waldorf SC '05 Black\nAw
 ay Team: Laurel United \nHome Score: 3\nAway Score: 4
END:VEVENT
END:VCALENDAR
