BEGIN:VCALENDAR
VERSION:2.0
PRODID:-//EZFacility.com, Inc.//EZL 2.5.5.28621
BEGIN:VEVENT
UID:9901666@ezleagues.ezfacility.com
DTSTAMP:20260423T043826Z
CREATED:20260423T043826Z
DTSTART:20161204T200000Z
DTEND:20161204T205500Z
LOCATION:Harmans Premier Field #4
CONTACT:
SUMMARY:Pipeline Red VS. Freedom Extreme
DESCRIPTION:League Name: Youth (WINTER 1) SD2 Sat/Sun U10 Girls\nGame Type:
  Regular\nGame Status: Complete\nHome Team: Pipeline Red\nAway Team: Freed
 om Extreme\nHome Score: 0\nAway Score: 4
END:VEVENT
BEGIN:VEVENT
UID:9901698@ezleagues.ezfacility.com
DTSTAMP:20260423T043826Z
CREATED:20260423T043826Z
DTSTART:20161211T160000Z
DTEND:20161211T165500Z
LOCATION:Harmans Premier Field #5
CONTACT:
SUMMARY:The Blue Jays VS. Freedom Extreme
DESCRIPTION:League Name: Youth (WINTER 1) SD2 Sat/Sun U10 Girls\nGame Type:
  Regular\nGame Status: Complete\nHome Team: The Blue Jays\nAway Team: Free
 dom Extreme\nHome Score: 1\nAway Score: 7
END:VEVENT
BEGIN:VEVENT
UID:9901732@ezleagues.ezfacility.com
DTSTAMP:20260423T043826Z
CREATED:20260423T043826Z
DTSTART:20161218T200000Z
DTEND:20161218T205500Z
LOCATION:Harmans Premier Field #5
CONTACT:
SUMMARY:Freedom Extreme VS. PHWM Red Storm
DESCRIPTION:League Name: Youth (WINTER 1) SD2 Sat/Sun U10 Girls\nGame Type:
  Regular\nGame Status: Complete\nHome Team: Freedom Extreme\nAway Team: PH
 WM Red Storm\nHome Score: 2\nAway Score: 5
END:VEVENT
BEGIN:VEVENT
UID:9901834@ezleagues.ezfacility.com
DTSTAMP:20260423T043826Z
CREATED:20260423T043826Z
DTSTART:20170107T135000Z
DTEND:20170107T144500Z
LOCATION:Harmans Premier Field #5
CONTACT:
SUMMARY:Freedom Extreme VS. Pipeline Black 
DESCRIPTION:League Name: Youth (WINTER 1) SD2 Sat/Sun U10 Girls\nGame Type:
  Regular\nGame Status: Complete\nHome Team: Freedom Extreme\nAway Team: Pi
 peline Black \nHome Score: 1\nAway Score: 5
END:VEVENT
BEGIN:VEVENT
UID:9901867@ezleagues.ezfacility.com
DTSTAMP:20260423T043826Z
CREATED:20260423T043826Z
DTSTART:20170115T160000Z
DTEND:20170115T165500Z
LOCATION:Harmans Premier Field #5
CONTACT:
SUMMARY:A3 Blues VS. Freedom Extreme
DESCRIPTION:League Name: Youth (WINTER 1) SD2 Sat/Sun U10 Girls\nGame Type:
  Regular\nGame Status: Complete\nHome Team: A3 Blues\nAway Team: Freedom E
 xtreme\nHome Score: 0\nAway Score: 4
END:VEVENT
BEGIN:VEVENT
UID:9901899@ezleagues.ezfacility.com
DTSTAMP:20260423T043826Z
CREATED:20260423T043826Z
DTSTART:20170121T144500Z
DTEND:20170121T154000Z
LOCATION:Harmans Premier Field #4
CONTACT:
SUMMARY:SAC Lightning Bolts VS. Freedom Extreme
DESCRIPTION:League Name: Youth (WINTER 1) SD2 Sat/Sun U10 Girls\nGame Type:
  Regular\nGame Status: Complete\nHome Team: SAC Lightning Bolts\nAway Team
 : Freedom Extreme\nHome Score: 0\nAway Score: 8
END:VEVENT
BEGIN:VEVENT
UID:9901766@ezleagues.ezfacility.com
DTSTAMP:20260423T043826Z
CREATED:20260423T043826Z
DTSTART:20170129T200000Z
DTEND:20170129T205500Z
LOCATION:Harmans Premier Field #5
CONTACT:
SUMMARY:Freedom Extreme VS. Lightening
DESCRIPTION:League Name: Youth (WINTER 1) SD2 Sat/Sun U10 Girls\nGame Type:
  Regular\nGame Status: Complete\nHome Team: Freedom Extreme\nAway Team: Li
 ghtening\nHome Score: 8\nAway Score: 0
END:VEVENT
BEGIN:VEVENT
UID:9901800@ezleagues.ezfacility.com
DTSTAMP:20260423T043826Z
CREATED:20260423T043826Z
DTSTART:20170205T160000Z
DTEND:20170205T165500Z
LOCATION:Jessup Premier Field #1
CONTACT:
SUMMARY:Freedom Extreme VS. SAC United White
DESCRIPTION:League Name: Youth (WINTER 1) SD2 Sat/Sun U10 Girls\nGame Type:
  Regular\nGame Status: Complete\nHome Team: Freedom Extreme\nAway Team: SA
 C United White\nHome Score: 6\nAway Score: 4
END:VEVENT
END:VCALENDAR
